BEGIN:VCALENDAR
VERSION:2.0
PRODID:-//spbstu.ru//ical//RU
NAME:Расписание группы 5151003/50002
X-WR-CALNAME:Расписание группы 5151003/50002
TIMEZONE-ID:Europe/Moscow
X-WR-TIMEZONE:Europe/Moscow
BEGIN:VEVENT
UID:a2mq@192.168.245.71:3006
SEQUENCE:0
DTSTAMP:20260421T033457Z
DTSTART:20260512T110000Z
DTEND:20260512T124000Z
SUMMARY:Структуры данных
LOCATION:ГЗ 105
END:VEVENT
BEGIN:VEVENT
UID:y35q@192.168.245.71:3006
SEQUENCE:0
DTSTAMP:20260421T033457Z
DTSTART:20260512T130000Z
DTEND:20260512T144000Z
SUMMARY:Высшая математика
LOCATION:ГЗ 219
END:VEVENT
BEGIN:VEVENT
UID:7oif@192.168.245.71:3006
SEQUENCE:0
DTSTAMP:20260421T033457Z
DTSTART:20260513T050000Z
DTEND:20260513T064000Z
SUMMARY:Элективная физическая культура и спорт
LOCATION:СК Секции
END:VEVENT
BEGIN:VEVENT
UID:s1qs@192.168.245.71:3006
SEQUENCE:0
DTSTAMP:20260421T033457Z
DTSTART:20260513T070000Z
DTEND:20260513T084000Z
SUMMARY:Физика
LOCATION:ГЗ 235
END:VEVENT
BEGIN:VEVENT
UID:szsi@192.168.245.71:3006
SEQUENCE:0
DTSTAMP:20260421T033457Z
DTSTART:20260513T090000Z
DTEND:20260513T104000Z
SUMMARY:Структуры данных
LOCATION:ГЗ 235
END:VEVENT
BEGIN:VEVENT
UID:3ird@192.168.245.71:3006
SEQUENCE:0
DTSTAMP:20260421T033457Z
DTSTART:20260513T130000Z
DTEND:20260513T144000Z
SUMMARY:Основы информационной безопасности
LOCATION:ГЗ 105
END:VEVENT
BEGIN:VEVENT
UID:hh5v@192.168.245.71:3006
SEQUENCE:0
DTSTAMP:20260421T033457Z
DTSTART:20260514T062000Z
DTEND:20260514T084000Z
SUMMARY:Высшая математика
LOCATION:3 к. 201
END:VEVENT
BEGIN:VEVENT
UID:t3d2@192.168.245.71:3006
SEQUENCE:0
DTSTAMP:20260421T033457Z
DTSTART:20260515T090000Z
DTEND:20260515T104000Z
SUMMARY:Физика
LOCATION:ГЗ 207
END:VEVENT
BEGIN:VEVENT
UID:7cob@192.168.245.71:3006
SEQUENCE:0
DTSTAMP:20260421T033457Z
DTSTART:20260515T110000Z
DTEND:20260515T124000Z
SUMMARY:Технологии программирования
LOCATION:ГЗ 171
END:VEVENT
BEGIN:VEVENT
UID:04w7@192.168.245.71:3006
SEQUENCE:0
DTSTAMP:20260421T033457Z
DTSTART:20260515T130000Z
DTEND:20260515T144000Z
SUMMARY:История России
LOCATION:3 к. 501
END:VEVENT
BEGIN:VEVENT
UID:xcnz@192.168.245.71:3006
SEQUENCE:0
DTSTAMP:20260421T033457Z
DTSTART:20260516T070000Z
DTEND:20260516T084000Z
SUMMARY:Элективная физическая культура и спорт
LOCATION:СК Секции
END:VEVENT
BEGIN:VEVENT
UID:shgt@192.168.245.71:3006
SEQUENCE:0
DTSTAMP:20260421T033457Z
DTSTART:20260516T090000Z
DTEND:20260516T104000Z
SUMMARY:История России
LOCATION:ГЗ 237
END:VEVENT
BEGIN:VEVENT
UID:o39a@192.168.245.71:3006
SEQUENCE:0
DTSTAMP:20260421T033457Z
DTSTART:20260516T110000Z
DTEND:20260516T124000Z
SUMMARY:Иностранный язык: Базовый курс
LOCATION:ГЗ 212
END:VEVENT
BEGIN:VEVENT
UID:1gps@192.168.245.71:3006
SEQUENCE:0
DTSTAMP:20260421T033457Z
DTSTART:20260516T130000Z
DTEND:20260516T144000Z
SUMMARY:Высшая математика
LOCATION:ГЗ 208
END:VEVENT
END:VCALENDAR