BEGIN:VCALENDAR
VERSION:2.0
PRODID:-//spbstu.ru//ical//RU
NAME:Расписание группы 5151004/50001
X-WR-CALNAME:Расписание группы 5151004/50001
TIMEZONE-ID:Europe/Moscow
X-WR-TIMEZONE:Europe/Moscow
BEGIN:VEVENT
UID:jmoh@192.168.245.71:3006
SEQUENCE:0
DTSTAMP:20260423T145440Z
DTSTART:20251111T050000Z
DTEND:20251111T064000Z
SUMMARY:Алгоритмизация и программирование
LOCATION:ГЗ 105
END:VEVENT
BEGIN:VEVENT
UID:v5vu@192.168.245.71:3006
SEQUENCE:0
DTSTAMP:20260423T145440Z
DTSTART:20251111T070000Z
DTEND:20251111T084000Z
SUMMARY:Высшая математика
LOCATION:ГЗ 228
END:VEVENT
BEGIN:VEVENT
UID:3vyz@192.168.245.71:3006
SEQUENCE:0
DTSTAMP:20260423T145440Z
DTSTART:20251111T090000Z
DTEND:20251111T104000Z
SUMMARY:Физика
LOCATION:ГЗ 155 Б
END:VEVENT
BEGIN:VEVENT
UID:r8k3@192.168.245.71:3006
SEQUENCE:0
DTSTAMP:20260423T145440Z
DTSTART:20251111T090000Z
DTEND:20251111T104000Z
SUMMARY:Физика
LOCATION:ГЗ 155 Б
END:VEVENT
BEGIN:VEVENT
UID:8cp7@192.168.245.71:3006
SEQUENCE:0
DTSTAMP:20260423T145440Z
DTSTART:20251111T110000Z
DTEND:20251111T124000Z
SUMMARY:Физика
LOCATION:ГЗ 211
END:VEVENT
BEGIN:VEVENT
UID:q70t@192.168.245.71:3006
SEQUENCE:0
DTSTAMP:20260423T145440Z
DTSTART:20251111T150000Z
DTEND:20251111T164000Z
SUMMARY:Факультатив по математике
LOCATION:ГЗ 235
END:VEVENT
BEGIN:VEVENT
UID:24cz@192.168.245.71:3006
SEQUENCE:0
DTSTAMP:20260423T145440Z
DTSTART:20251111T150000Z
DTEND:20251111T164000Z
SUMMARY:Основы цифровых технологий
LOCATION:ГЗ 235
END:VEVENT
BEGIN:VEVENT
UID:qpcg@192.168.245.71:3006
SEQUENCE:0
DTSTAMP:20260423T145440Z
DTSTART:20251112T050000Z
DTEND:20251112T064000Z
SUMMARY:Элективная физическая культура и спорт
LOCATION:СК Секции
END:VEVENT
BEGIN:VEVENT
UID:hajv@192.168.245.71:3006
SEQUENCE:0
DTSTAMP:20260423T145440Z
DTSTART:20251112T070000Z
DTEND:20251112T084000Z
SUMMARY:Физика
LOCATION:ГЗ 235
END:VEVENT
BEGIN:VEVENT
UID:uz8z@192.168.245.71:3006
SEQUENCE:0
DTSTAMP:20260423T145440Z
DTSTART:20251112T090000Z
DTEND:20251112T104000Z
SUMMARY:Алгоритмизация и программирование
LOCATION:ГЗ 235
END:VEVENT
BEGIN:VEVENT
UID:el0k@192.168.245.71:3006
SEQUENCE:0
DTSTAMP:20260423T145440Z
DTSTART:20251112T110000Z
DTEND:20251112T124000Z
SUMMARY:Высшая математика
LOCATION:3 к. 206
END:VEVENT
BEGIN:VEVENT
UID:gef9@192.168.245.71:3006
SEQUENCE:0
DTSTAMP:20260423T145440Z
DTSTART:20251113T060000Z
DTEND:20251113T084000Z
SUMMARY:Высшая математика
LOCATION:3 к. 215
END:VEVENT
BEGIN:VEVENT
UID:oejs@192.168.245.71:3006
SEQUENCE:0
DTSTAMP:20260423T145440Z
DTSTART:20251113T110000Z
DTEND:20251113T124000Z
SUMMARY:Основы российской государственности
LOCATION:11 к. 148
END:VEVENT
BEGIN:VEVENT
UID:5lit@192.168.245.71:3006
SEQUENCE:0
DTSTAMP:20260423T145440Z
DTSTART:20251114T070000Z
DTEND:20251114T084000Z
SUMMARY:Введение в профессиональную деятельность
LOCATION:ГЗ 215
END:VEVENT
BEGIN:VEVENT
UID:ejom@192.168.245.71:3006
SEQUENCE:0
DTSTAMP:20260423T145440Z
DTSTART:20251114T090000Z
DTEND:20251114T104000Z
SUMMARY:Физика
LOCATION:ГЗ 235
END:VEVENT
BEGIN:VEVENT
UID:ksty@192.168.245.71:3006
SEQUENCE:0
DTSTAMP:20260423T145440Z
DTSTART:20251114T110000Z
DTEND:20251114T124000Z
SUMMARY:Иностранный язык: Базовый курс
LOCATION:ГЗ 240
END:VEVENT
BEGIN:VEVENT
UID:21ff@192.168.245.71:3006
SEQUENCE:0
DTSTAMP:20260423T145440Z
DTSTART:20251114T130000Z
DTEND:20251114T144000Z
SUMMARY:Основы цифровых технологий
LOCATION:3 к. 404а
END:VEVENT
BEGIN:VEVENT
UID:fmk6@192.168.245.71:3006
SEQUENCE:0
DTSTAMP:20260423T145440Z
DTSTART:20251115T070000Z
DTEND:20251115T084000Z
SUMMARY:Элективная физическая культура и спорт
LOCATION:СК Секции
END:VEVENT
END:VCALENDAR