BEGIN:VCALENDAR
VERSION:2.0
PRODID:-//spbstu.ru//ical//RU
NAME:Расписание группы 5130201/40002
X-WR-CALNAME:Расписание группы 5130201/40002
TIMEZONE-ID:Europe/Moscow
X-WR-TIMEZONE:Europe/Moscow
BEGIN:VEVENT
UID:qd9b@192.168.245.71:3006
SEQUENCE:0
DTSTAMP:20260424T105558Z
DTSTART:20260119T090000Z
DTEND:20260119T104000Z
SUMMARY:Объектно-ориентированное программирование
LOCATION:4 к. 308-2
END:VEVENT
BEGIN:VEVENT
UID:4g4o@192.168.245.71:3006
SEQUENCE:0
DTSTAMP:20260424T105558Z
DTSTART:20260121T090000Z
DTEND:20260121T110000Z
SUMMARY:Объектно-ориентированное программирование
LOCATION:4 к. 305-2
END:VEVENT
BEGIN:VEVENT
UID:u9we@192.168.245.71:3006
SEQUENCE:0
DTSTAMP:20260424T105558Z
DTSTART:20260122T110000Z
DTEND:20260122T134000Z
SUMMARY:Дискретная математика
LOCATION:4 к. 308-2
END:VEVENT
END:VCALENDAR