BEGIN:VCALENDAR
VERSION:2.0
PRODID:-//spbstu.ru//ical//RU
NAME:Расписание группы 5130203/40001
X-WR-CALNAME:Расписание группы 5130203/40001
TIMEZONE-ID:Europe/Moscow
X-WR-TIMEZONE:Europe/Moscow
BEGIN:VEVENT
UID:esgs@192.168.245.71:3006
SEQUENCE:0
DTSTAMP:20260423T145457Z
DTSTART:20260112T060000Z
DTEND:20260112T110000Z
SUMMARY:Объектно-ориентированное программирование
LOCATION:11 к. 325
END:VEVENT
BEGIN:VEVENT
UID:ltfb@192.168.245.71:3006
SEQUENCE:0
DTSTAMP:20260423T145457Z
DTSTART:20260113T070000Z
DTEND:20260113T094000Z
SUMMARY:Курсовое проектирование по объектно-ориентированному программирова
 нию
LOCATION:11 к. 325
END:VEVENT
BEGIN:VEVENT
UID:5taw@192.168.245.71:3006
SEQUENCE:0
DTSTAMP:20260423T145457Z
DTSTART:20260115T070000Z
DTEND:20260115T120000Z
SUMMARY:Курсовое проектирование по объектно-ориентированному программирова
 нию
LOCATION:11 к. 329
END:VEVENT
BEGIN:VEVENT
UID:8nv3@192.168.245.71:3006
SEQUENCE:0
DTSTAMP:20260423T145457Z
DTSTART:20260117T070000Z
DTEND:20260117T120000Z
SUMMARY:Объектно-ориентированное программирование
LOCATION:11 к. 329
END:VEVENT
END:VCALENDAR