BEGIN:VCALENDAR
VERSION:2.0
PRODID:-//spbstu.ru//ical//RU
NAME:Расписание группы 5130203/40001
X-WR-CALNAME:Расписание группы 5130203/40001
TIMEZONE-ID:Europe/Moscow
X-WR-TIMEZONE:Europe/Moscow
BEGIN:VEVENT
UID:q6z0@192.168.245.71:3006
SEQUENCE:0
DTSTAMP:20260422T153546Z
DTSTART:20260216T110000Z
DTEND:20260216T150000Z
SUMMARY:Теория автоматического управления
LOCATION:3 к. 208
END:VEVENT
BEGIN:VEVENT
UID:kgze@192.168.245.71:3006
SEQUENCE:0
DTSTAMP:20260422T153546Z
DTSTART:20260217T070000Z
DTEND:20260217T084000Z
SUMMARY:Иностранный язык. Профессионально-ориентированный курс
LOCATION:11 к. 330
END:VEVENT
BEGIN:VEVENT
UID:4qa7@192.168.245.71:3006
SEQUENCE:0
DTSTAMP:20260422T153546Z
DTSTART:20260217T090000Z
DTEND:20260217T104000Z
SUMMARY:Теория графов
LOCATION:11 к. 315
END:VEVENT
BEGIN:VEVENT
UID:ty6q@192.168.245.71:3006
SEQUENCE:0
DTSTAMP:20260422T153546Z
DTSTART:20260217T110000Z
DTEND:20260217T124000Z
SUMMARY:Цифровая аналитика
LOCATION:11 к. 341
END:VEVENT
BEGIN:VEVENT
UID:siad@192.168.245.71:3006
SEQUENCE:0
DTSTAMP:20260422T153546Z
DTSTART:20260217T130000Z
DTEND:20260217T140000Z
SUMMARY:Курсовое проектирование по объектно-ориентированному программирова
 нию
LOCATION:11 к. 348
END:VEVENT
BEGIN:VEVENT
UID:cq1n@192.168.245.71:3006
SEQUENCE:0
DTSTAMP:20260422T153546Z
DTSTART:20260217T140000Z
DTEND:20260217T150000Z
SUMMARY:Курсовое проектирование по объектно-ориентированному программирова
 нию
LOCATION:11 к. 348
END:VEVENT
BEGIN:VEVENT
UID:c76u@192.168.245.71:3006
SEQUENCE:0
DTSTAMP:20260422T153546Z
DTSTART:20260218T070000Z
DTEND:20260218T084000Z
SUMMARY:Теория автоматического управления
LOCATION:3 к. 201
END:VEVENT
BEGIN:VEVENT
UID:7veb@192.168.245.71:3006
SEQUENCE:0
DTSTAMP:20260422T153546Z
DTSTART:20260218T090000Z
DTEND:20260218T095000Z
SUMMARY:Теория автоматического управления
LOCATION:3 к. 503
END:VEVENT
BEGIN:VEVENT
UID:n1tk@192.168.245.71:3006
SEQUENCE:0
DTSTAMP:20260422T153546Z
DTSTART:20260218T100000Z
DTEND:20260218T105000Z
SUMMARY:Теория автоматического управления
LOCATION:3 к. 503
END:VEVENT
BEGIN:VEVENT
UID:2ffi@192.168.245.71:3006
SEQUENCE:0
DTSTAMP:20260422T153546Z
DTSTART:20260218T110000Z
DTEND:20260218T124000Z
SUMMARY:Элективная физическая культура и спорт
LOCATION:СК Секции
END:VEVENT
BEGIN:VEVENT
UID:uwzp@192.168.245.71:3006
SEQUENCE:0
DTSTAMP:20260422T153546Z
DTSTART:20260219T150000Z
DTEND:20260219T164000Z
SUMMARY:Высшая математика
LOCATION:11 к. 309
END:VEVENT
BEGIN:VEVENT
UID:i58o@192.168.245.71:3006
SEQUENCE:0
DTSTAMP:20260422T153546Z
DTSTART:20260219T150000Z
DTEND:20260219T164000Z
SUMMARY:Высшая математика
LOCATION:ГЗ 237
END:VEVENT
BEGIN:VEVENT
UID:mll4@192.168.245.71:3006
SEQUENCE:0
DTSTAMP:20260422T153546Z
DTSTART:20260220T070000Z
DTEND:20260220T084000Z
SUMMARY:Базы данных
LOCATION:DL Дистанционно
END:VEVENT
BEGIN:VEVENT
UID:8dil@192.168.245.71:3006
SEQUENCE:0
DTSTAMP:20260422T153546Z
DTSTART:20260220T090000Z
DTEND:20260220T104000Z
SUMMARY:Базы данных
LOCATION:DL Дистанционно
END:VEVENT
BEGIN:VEVENT
UID:ehew@192.168.245.71:3006
SEQUENCE:0
DTSTAMP:20260422T153546Z
DTSTART:20260221T090000Z
DTEND:20260221T104000Z
SUMMARY:Элективная физическая культура и спорт
LOCATION:СК Секции
END:VEVENT
END:VCALENDAR