BEGIN:VCALENDAR
VERSION:2.0
PRODID:-//spbstu.ru//ical//RU
NAME:Расписание группы 5130901/40003
X-WR-CALNAME:Расписание группы 5130901/40003
TIMEZONE-ID:Europe/Moscow
X-WR-TIMEZONE:Europe/Moscow
BEGIN:VEVENT
UID:dr4l@192.168.245.71:3006
SEQUENCE:0
DTSTAMP:20260422T094419Z
DTSTART:20260209T110000Z
DTEND:20260209T124000Z
SUMMARY:Иностранный язык. Профессионально-ориентированный курс
LOCATION:3 к. 204
END:VEVENT
BEGIN:VEVENT
UID:5ydg@192.168.245.71:3006
SEQUENCE:0
DTSTAMP:20260422T094419Z
DTSTART:20260209T130000Z
DTEND:20260209T144000Z
SUMMARY:Алгоритмы и структуры данных
LOCATION:3 к. 404
END:VEVENT
BEGIN:VEVENT
UID:k1zh@192.168.245.71:3006
SEQUENCE:0
DTSTAMP:20260422T094419Z
DTSTART:20260209T130000Z
DTEND:20260209T144000Z
SUMMARY:Алгоритмы и структуры данных
LOCATION:3 к. 404
END:VEVENT
BEGIN:VEVENT
UID:mjhv@192.168.245.71:3006
SEQUENCE:0
DTSTAMP:20260422T094419Z
DTSTART:20260209T150000Z
DTEND:20260209T164000Z
SUMMARY:Безопасность жизнедеятельности
LOCATION:ГК 119
END:VEVENT
BEGIN:VEVENT
UID:owzj@192.168.245.71:3006
SEQUENCE:0
DTSTAMP:20260422T094419Z
DTSTART:20260210T070000Z
DTEND:20260210T084000Z
SUMMARY:Вычислительная математика
LOCATION:ГЗ 237
END:VEVENT
BEGIN:VEVENT
UID:2eot@192.168.245.71:3006
SEQUENCE:0
DTSTAMP:20260422T094419Z
DTSTART:20260210T090000Z
DTEND:20260210T104000Z
SUMMARY:Алгоритмы и структуры данных
LOCATION:11 к. 148
END:VEVENT
BEGIN:VEVENT
UID:a078@192.168.245.71:3006
SEQUENCE:0
DTSTAMP:20260422T094419Z
DTSTART:20260210T130000Z
DTEND:20260210T144000Z
SUMMARY:Схемотехника цифровых устройств
LOCATION:3 к. 410
END:VEVENT
BEGIN:VEVENT
UID:il4r@192.168.245.71:3006
SEQUENCE:0
DTSTAMP:20260422T094419Z
DTSTART:20260210T150000Z
DTEND:20260210T164000Z
SUMMARY:Основы вычислительной техники
LOCATION:3 к. 410
END:VEVENT
BEGIN:VEVENT
UID:d0by@192.168.245.71:3006
SEQUENCE:0
DTSTAMP:20260422T094419Z
DTSTART:20260210T150000Z
DTEND:20260210T164000Z
SUMMARY:Иностранный язык: Базовый курс
LOCATION:ГЗ 237
END:VEVENT
BEGIN:VEVENT
UID:90k7@192.168.245.71:3006
SEQUENCE:0
DTSTAMP:20260422T094419Z
DTSTART:20260211T090000Z
DTEND:20260211T104000Z
SUMMARY:Схемотехника цифровых устройств
LOCATION:11 к. 148
END:VEVENT
BEGIN:VEVENT
UID:5ojw@192.168.245.71:3006
SEQUENCE:0
DTSTAMP:20260422T094419Z
DTSTART:20260211T110000Z
DTEND:20260211T124000Z
SUMMARY:Элективная физическая культура и спорт
LOCATION:СК Секции
END:VEVENT
BEGIN:VEVENT
UID:y0mq@192.168.245.71:3006
SEQUENCE:0
DTSTAMP:20260422T094419Z
DTSTART:20260211T150000Z
DTEND:20260211T164000Z
SUMMARY:История России
LOCATION:3 к. 210
END:VEVENT
BEGIN:VEVENT
UID:ro9h@192.168.245.71:3006
SEQUENCE:0
DTSTAMP:20260422T094419Z
DTSTART:20260212T070000Z
DTEND:20260212T084000Z
SUMMARY:Вычислительная математика
LOCATION:3 к. 302
END:VEVENT
BEGIN:VEVENT
UID:unju@192.168.245.71:3006
SEQUENCE:0
DTSTAMP:20260422T094419Z
DTSTART:20260212T090000Z
DTEND:20260212T104000Z
SUMMARY:Операционные системы
LOCATION:3 к. 405
END:VEVENT
BEGIN:VEVENT
UID:p7zi@192.168.245.71:3006
SEQUENCE:0
DTSTAMP:20260422T094419Z
DTSTART:20260213T090000Z
DTEND:20260213T104000Z
SUMMARY:Теория вероятностей и математическая статистика
LOCATION:3 к. 215
END:VEVENT
BEGIN:VEVENT
UID:5lwk@192.168.245.71:3006
SEQUENCE:0
DTSTAMP:20260422T094419Z
DTSTART:20260213T110000Z
DTEND:20260213T124000Z
SUMMARY:Операционные системы
LOCATION:3 к. 503
END:VEVENT
BEGIN:VEVENT
UID:phn9@192.168.245.71:3006
SEQUENCE:0
DTSTAMP:20260422T094419Z
DTSTART:20260213T150000Z
DTEND:20260213T164000Z
SUMMARY:Теория вероятностей и математическая статистика
LOCATION:3 к. 503
END:VEVENT
BEGIN:VEVENT
UID:b1ft@192.168.245.71:3006
SEQUENCE:0
DTSTAMP:20260422T094419Z
DTSTART:20260214T090000Z
DTEND:20260214T104000Z
SUMMARY:Элективная физическая культура и спорт
LOCATION:СК Секции
END:VEVENT
END:VCALENDAR