BEGIN:VCALENDAR
VERSION:2.0
PRODID:-//spbstu.ru//ical//RU
NAME:Расписание группы 5130901/40003
X-WR-CALNAME:Расписание группы 5130901/40003
TIMEZONE-ID:Europe/Moscow
X-WR-TIMEZONE:Europe/Moscow
BEGIN:VEVENT
UID:ku6n@192.168.245.71:3006
SEQUENCE:0
DTSTAMP:20260422T014414Z
DTSTART:20260310T070000Z
DTEND:20260310T084000Z
SUMMARY:Вычислительная математика
LOCATION:ГЗ 237
END:VEVENT
BEGIN:VEVENT
UID:cs86@192.168.245.71:3006
SEQUENCE:0
DTSTAMP:20260422T014414Z
DTSTART:20260310T090000Z
DTEND:20260310T104000Z
SUMMARY:Алгоритмы и структуры данных
LOCATION:11 к. 148
END:VEVENT
BEGIN:VEVENT
UID:y7bh@192.168.245.71:3006
SEQUENCE:0
DTSTAMP:20260422T014414Z
DTSTART:20260310T130000Z
DTEND:20260310T144000Z
SUMMARY:Схемотехника цифровых устройств
LOCATION:3 к. 410
END:VEVENT
BEGIN:VEVENT
UID:2drv@192.168.245.71:3006
SEQUENCE:0
DTSTAMP:20260422T014414Z
DTSTART:20260310T150000Z
DTEND:20260310T153000Z
SUMMARY:Безопасность жизнедеятельности
LOCATION:ГК 119
END:VEVENT
BEGIN:VEVENT
UID:iv1s@192.168.245.71:3006
SEQUENCE:0
DTSTAMP:20260422T014414Z
DTSTART:20260311T090000Z
DTEND:20260311T104000Z
SUMMARY:Схемотехника цифровых устройств
LOCATION:11 к. 148
END:VEVENT
BEGIN:VEVENT
UID:9se3@192.168.245.71:3006
SEQUENCE:0
DTSTAMP:20260422T014414Z
DTSTART:20260311T110000Z
DTEND:20260311T124000Z
SUMMARY:Элективная физическая культура и спорт
LOCATION:СК Секции
END:VEVENT
BEGIN:VEVENT
UID:iasi@192.168.245.71:3006
SEQUENCE:0
DTSTAMP:20260422T014414Z
DTSTART:20260311T150000Z
DTEND:20260311T153000Z
SUMMARY:История России
LOCATION:3 к. 210
END:VEVENT
BEGIN:VEVENT
UID:j940@192.168.245.71:3006
SEQUENCE:0
DTSTAMP:20260422T014414Z
DTSTART:20260312T070000Z
DTEND:20260312T084000Z
SUMMARY:Вычислительная математика
LOCATION:3 к. 302
END:VEVENT
BEGIN:VEVENT
UID:n020@192.168.245.71:3006
SEQUENCE:0
DTSTAMP:20260422T014414Z
DTSTART:20260312T090000Z
DTEND:20260312T104000Z
SUMMARY:Операционные системы
LOCATION:3 к. 405
END:VEVENT
BEGIN:VEVENT
UID:c912@192.168.245.71:3006
SEQUENCE:0
DTSTAMP:20260422T014414Z
DTSTART:20260313T090000Z
DTEND:20260313T104000Z
SUMMARY:Теория вероятностей и математическая статистика
LOCATION:3 к. 215
END:VEVENT
BEGIN:VEVENT
UID:88ms@192.168.245.71:3006
SEQUENCE:0
DTSTAMP:20260422T014414Z
DTSTART:20260313T110000Z
DTEND:20260313T124000Z
SUMMARY:Операционные системы
LOCATION:3 к. 503
END:VEVENT
BEGIN:VEVENT
UID:ganx@192.168.245.71:3006
SEQUENCE:0
DTSTAMP:20260422T014414Z
DTSTART:20260313T150000Z
DTEND:20260313T164000Z
SUMMARY:Теория вероятностей и математическая статистика
LOCATION:3 к. 503
END:VEVENT
BEGIN:VEVENT
UID:nhad@192.168.245.71:3006
SEQUENCE:0
DTSTAMP:20260422T014414Z
DTSTART:20260314T090000Z
DTEND:20260314T104000Z
SUMMARY:Элективная физическая культура и спорт
LOCATION:СК Секции
END:VEVENT
END:VCALENDAR