BEGIN:VCALENDAR
VERSION:2.0
PRODID:-//spbstu.ru//ical//RU
NAME:Расписание группы 5130901/40003
X-WR-CALNAME:Расписание группы 5130901/40003
TIMEZONE-ID:Europe/Moscow
X-WR-TIMEZONE:Europe/Moscow
BEGIN:VEVENT
UID:4n4r@192.168.245.71:3006
SEQUENCE:0
DTSTAMP:20260421T132928Z
DTSTART:20260406T110000Z
DTEND:20260406T124000Z
SUMMARY:Иностранный язык. Профессионально-ориентированный курс
LOCATION:3 к. 204
END:VEVENT
BEGIN:VEVENT
UID:cv57@192.168.245.71:3006
SEQUENCE:0
DTSTAMP:20260421T132928Z
DTSTART:20260406T130000Z
DTEND:20260406T144000Z
SUMMARY:Алгоритмы и структуры данных
LOCATION:3 к. 404
END:VEVENT
BEGIN:VEVENT
UID:39eg@192.168.245.71:3006
SEQUENCE:0
DTSTAMP:20260421T132928Z
DTSTART:20260406T130000Z
DTEND:20260406T144000Z
SUMMARY:Алгоритмы и структуры данных
LOCATION:3 к. 404
END:VEVENT
BEGIN:VEVENT
UID:74n8@192.168.245.71:3006
SEQUENCE:0
DTSTAMP:20260421T132928Z
DTSTART:20260407T070000Z
DTEND:20260407T084000Z
SUMMARY:Вычислительная математика
LOCATION:ГЗ 237
END:VEVENT
BEGIN:VEVENT
UID:ln6s@192.168.245.71:3006
SEQUENCE:0
DTSTAMP:20260421T132928Z
DTSTART:20260407T090000Z
DTEND:20260407T104000Z
SUMMARY:Алгоритмы и структуры данных
LOCATION:11 к. 148
END:VEVENT
BEGIN:VEVENT
UID:zs0a@192.168.245.71:3006
SEQUENCE:0
DTSTAMP:20260421T132928Z
DTSTART:20260407T130000Z
DTEND:20260407T144000Z
SUMMARY:Схемотехника цифровых устройств
LOCATION:3 к. 410
END:VEVENT
BEGIN:VEVENT
UID:8s6j@192.168.245.71:3006
SEQUENCE:0
DTSTAMP:20260421T132928Z
DTSTART:20260408T090000Z
DTEND:20260408T104000Z
SUMMARY:Схемотехника цифровых устройств
LOCATION:11 к. 148
END:VEVENT
BEGIN:VEVENT
UID:429m@192.168.245.71:3006
SEQUENCE:0
DTSTAMP:20260421T132928Z
DTSTART:20260408T110000Z
DTEND:20260408T124000Z
SUMMARY:Элективная физическая культура и спорт
LOCATION:СК Секции
END:VEVENT
BEGIN:VEVENT
UID:8z0q@192.168.245.71:3006
SEQUENCE:0
DTSTAMP:20260421T132928Z
DTSTART:20260409T070000Z
DTEND:20260409T084000Z
SUMMARY:Вычислительная математика
LOCATION:3 к. 302
END:VEVENT
BEGIN:VEVENT
UID:c903@192.168.245.71:3006
SEQUENCE:0
DTSTAMP:20260421T132928Z
DTSTART:20260409T090000Z
DTEND:20260409T104000Z
SUMMARY:Операционные системы
LOCATION:3 к. 405
END:VEVENT
BEGIN:VEVENT
UID:uage@192.168.245.71:3006
SEQUENCE:0
DTSTAMP:20260421T132928Z
DTSTART:20260410T090000Z
DTEND:20260410T104000Z
SUMMARY:Теория вероятностей и математическая статистика
LOCATION:3 к. 215
END:VEVENT
BEGIN:VEVENT
UID:zzny@192.168.245.71:3006
SEQUENCE:0
DTSTAMP:20260421T132928Z
DTSTART:20260410T110000Z
DTEND:20260410T124000Z
SUMMARY:Операционные системы
LOCATION:3 к. 503
END:VEVENT
BEGIN:VEVENT
UID:hszl@192.168.245.71:3006
SEQUENCE:0
DTSTAMP:20260421T132928Z
DTSTART:20260410T150000Z
DTEND:20260410T164000Z
SUMMARY:Теория вероятностей и математическая статистика
LOCATION:3 к. 503
END:VEVENT
BEGIN:VEVENT
UID:snzj@192.168.245.71:3006
SEQUENCE:0
DTSTAMP:20260421T132928Z
DTSTART:20260411T090000Z
DTEND:20260411T104000Z
SUMMARY:Элективная физическая культура и спорт
LOCATION:СК Секции
END:VEVENT
END:VCALENDAR