BEGIN:VCALENDAR
VERSION:2.0
PRODID:-//spbstu.ru//ical//RU
NAME:Расписание группы 5130901/40003
X-WR-CALNAME:Расписание группы 5130901/40003
TIMEZONE-ID:Europe/Moscow
X-WR-TIMEZONE:Europe/Moscow
BEGIN:VEVENT
UID:05kl@192.168.245.71:3006
SEQUENCE:0
DTSTAMP:20260421T221910Z
DTSTART:20260511T110000Z
DTEND:20260511T124000Z
SUMMARY:Иностранный язык. Профессионально-ориентированный курс
LOCATION:3 к. 204
END:VEVENT
BEGIN:VEVENT
UID:ls2y@192.168.245.71:3006
SEQUENCE:0
DTSTAMP:20260421T221910Z
DTSTART:20260511T130000Z
DTEND:20260511T144000Z
SUMMARY:Алгоритмы и структуры данных
LOCATION:3 к. 404
END:VEVENT
BEGIN:VEVENT
UID:367d@192.168.245.71:3006
SEQUENCE:0
DTSTAMP:20260421T221910Z
DTSTART:20260511T130000Z
DTEND:20260511T144000Z
SUMMARY:Алгоритмы и структуры данных
LOCATION:3 к. 404
END:VEVENT
BEGIN:VEVENT
UID:djvi@192.168.245.71:3006
SEQUENCE:0
DTSTAMP:20260421T221910Z
DTSTART:20260512T070000Z
DTEND:20260512T084000Z
SUMMARY:Вычислительная математика
LOCATION:ГЗ 237
END:VEVENT
BEGIN:VEVENT
UID:lxaf@192.168.245.71:3006
SEQUENCE:0
DTSTAMP:20260421T221910Z
DTSTART:20260512T090000Z
DTEND:20260512T104000Z
SUMMARY:Алгоритмы и структуры данных
LOCATION:11 к. 148
END:VEVENT
BEGIN:VEVENT
UID:it8d@192.168.245.71:3006
SEQUENCE:0
DTSTAMP:20260421T221910Z
DTSTART:20260512T130000Z
DTEND:20260512T144000Z
SUMMARY:Схемотехника цифровых устройств
LOCATION:3 к. 410
END:VEVENT
BEGIN:VEVENT
UID:rrtj@192.168.245.71:3006
SEQUENCE:0
DTSTAMP:20260421T221910Z
DTSTART:20260513T070000Z
DTEND:20260513T084000Z
SUMMARY:Цифровая аналитика
LOCATION:3 к. 406
END:VEVENT
BEGIN:VEVENT
UID:x6ye@192.168.245.71:3006
SEQUENCE:0
DTSTAMP:20260421T221910Z
DTSTART:20260513T090000Z
DTEND:20260513T104000Z
SUMMARY:Схемотехника цифровых устройств
LOCATION:11 к. 148
END:VEVENT
BEGIN:VEVENT
UID:fb2l@192.168.245.71:3006
SEQUENCE:0
DTSTAMP:20260421T221910Z
DTSTART:20260513T110000Z
DTEND:20260513T124000Z
SUMMARY:Элективная физическая культура и спорт
LOCATION:СК Секции
END:VEVENT
BEGIN:VEVENT
UID:ynh3@192.168.245.71:3006
SEQUENCE:0
DTSTAMP:20260421T221910Z
DTSTART:20260514T090000Z
DTEND:20260514T104000Z
SUMMARY:Операционные системы
LOCATION:3 к. 405
END:VEVENT
BEGIN:VEVENT
UID:vupv@192.168.245.71:3006
SEQUENCE:0
DTSTAMP:20260421T221910Z
DTSTART:20260514T130000Z
DTEND:20260514T144000Z
SUMMARY:Основы проектной деятельности
LOCATION:3 к. 401
END:VEVENT
BEGIN:VEVENT
UID:fdjg@192.168.245.71:3006
SEQUENCE:0
DTSTAMP:20260421T221910Z
DTSTART:20260515T090000Z
DTEND:20260515T104000Z
SUMMARY:Теория вероятностей и математическая статистика
LOCATION:3 к. 215
END:VEVENT
BEGIN:VEVENT
UID:szi3@192.168.245.71:3006
SEQUENCE:0
DTSTAMP:20260421T221910Z
DTSTART:20260515T110000Z
DTEND:20260515T124000Z
SUMMARY:Операционные системы
LOCATION:3 к. 503
END:VEVENT
BEGIN:VEVENT
UID:tf8c@192.168.245.71:3006
SEQUENCE:0
DTSTAMP:20260421T221910Z
DTSTART:20260515T150000Z
DTEND:20260515T164000Z
SUMMARY:Теория вероятностей и математическая статистика
LOCATION:3 к. 503
END:VEVENT
BEGIN:VEVENT
UID:v6zv@192.168.245.71:3006
SEQUENCE:0
DTSTAMP:20260421T221910Z
DTSTART:20260516T090000Z
DTEND:20260516T104000Z
SUMMARY:Элективная физическая культура и спорт
LOCATION:СК Секции
END:VEVENT
END:VCALENDAR