BEGIN:VCALENDAR
VERSION:2.0
PRODID:-//spbstu.ru//ical//RU
NAME:Расписание группы 5130901/40004
X-WR-CALNAME:Расписание группы 5130901/40004
TIMEZONE-ID:Europe/Moscow
X-WR-TIMEZONE:Europe/Moscow
BEGIN:VEVENT
UID:mfun@192.168.245.71:3006
SEQUENCE:0
DTSTAMP:20260423T180058Z
DTSTART:20251215T070000Z
DTEND:20251215T084000Z
SUMMARY:Иностранный язык: Русский язык как иностранный
LOCATION:3 к. 503
END:VEVENT
BEGIN:VEVENT
UID:gexa@192.168.245.71:3006
SEQUENCE:0
DTSTAMP:20260423T180058Z
DTSTART:20251215T130000Z
DTEND:20251215T164000Z
SUMMARY:Высшая математика
LOCATION:ГЗ 237
END:VEVENT
BEGIN:VEVENT
UID:pjbc@192.168.245.71:3006
SEQUENCE:0
DTSTAMP:20260423T180058Z
DTSTART:20251216T070000Z
DTEND:20251216T084000Z
SUMMARY:Вычислительная математика
LOCATION:ГЗ 237
END:VEVENT
BEGIN:VEVENT
UID:t7s4@192.168.245.71:3006
SEQUENCE:0
DTSTAMP:20260423T180058Z
DTSTART:20251216T110000Z
DTEND:20251216T124000Z
SUMMARY:История России
LOCATION:ГЗ 237
END:VEVENT
BEGIN:VEVENT
UID:q19s@192.168.245.71:3006
SEQUENCE:0
DTSTAMP:20260423T180058Z
DTSTART:20251216T130000Z
DTEND:20251216T144000Z
SUMMARY:Основы вычислительной техники
LOCATION:3 к. 201
END:VEVENT
BEGIN:VEVENT
UID:2za2@192.168.245.71:3006
SEQUENCE:0
DTSTAMP:20260423T180058Z
DTSTART:20251217T090000Z
DTEND:20251217T104000Z
SUMMARY:Безопасность жизнедеятельности
LOCATION:3 к. 104
END:VEVENT
BEGIN:VEVENT
UID:jipw@192.168.245.71:3006
SEQUENCE:0
DTSTAMP:20260423T180058Z
DTSTART:20251218T070000Z
DTEND:20251218T094000Z
SUMMARY:Основы вычислительной техники
LOCATION:3 к. 410
END:VEVENT
BEGIN:VEVENT
UID:115w@192.168.245.71:3006
SEQUENCE:0
DTSTAMP:20260423T180058Z
DTSTART:20251218T100000Z
DTEND:20251218T124000Z
SUMMARY:Вычислительная математика
LOCATION:3 к. 404а
END:VEVENT
BEGIN:VEVENT
UID:27br@192.168.245.71:3006
SEQUENCE:0
DTSTAMP:20260423T180058Z
DTSTART:20251220T070000Z
DTEND:20251220T084000Z
SUMMARY:Вычислительная математика
LOCATION:DL Дистанционно
END:VEVENT
END:VCALENDAR