BEGIN:VCALENDAR
VERSION:2.0
PRODID:-//spbstu.ru//ical//RU
NAME:Расписание группы 5130901/40004
X-WR-CALNAME:Расписание группы 5130901/40004
TIMEZONE-ID:Europe/Moscow
X-WR-TIMEZONE:Europe/Moscow
BEGIN:VEVENT
UID:zeun@192.168.245.71:3006
SEQUENCE:0
DTSTAMP:20260425T222840Z
DTSTART:20250908T060000Z
DTEND:20250908T084000Z
SUMMARY:Иностранный язык: Русский язык как иностранный
LOCATION:3 к. 503
END:VEVENT
BEGIN:VEVENT
UID:r3zu@192.168.245.71:3006
SEQUENCE:0
DTSTAMP:20260425T222840Z
DTSTART:20250908T130000Z
DTEND:20250908T154000Z
SUMMARY:Высшая математика
LOCATION:ГЗ 237
END:VEVENT
BEGIN:VEVENT
UID:char@192.168.245.71:3006
SEQUENCE:0
DTSTAMP:20260425T222840Z
DTSTART:20250909T070000Z
DTEND:20250909T084000Z
SUMMARY:Вычислительная математика
LOCATION:ГЗ 237
END:VEVENT
BEGIN:VEVENT
UID:35xh@192.168.245.71:3006
SEQUENCE:0
DTSTAMP:20260425T222840Z
DTSTART:20250909T110000Z
DTEND:20250909T124000Z
SUMMARY:История России
LOCATION:ГЗ 237
END:VEVENT
BEGIN:VEVENT
UID:efjf@192.168.245.71:3006
SEQUENCE:0
DTSTAMP:20260425T222840Z
DTSTART:20250909T130000Z
DTEND:20250909T144000Z
SUMMARY:Основы вычислительной техники
LOCATION:3 к. 201
END:VEVENT
BEGIN:VEVENT
UID:a92f@192.168.245.71:3006
SEQUENCE:0
DTSTAMP:20260425T222840Z
DTSTART:20250910T110000Z
DTEND:20250910T124000Z
SUMMARY:Элективная физическая культура и спорт
LOCATION:СК Секции
END:VEVENT
BEGIN:VEVENT
UID:it6b@192.168.245.71:3006
SEQUENCE:0
DTSTAMP:20260425T222840Z
DTSTART:20250910T130000Z
DTEND:20250910T144000Z
SUMMARY:Модуль саморазвития (SoftSkills)
LOCATION:Не опр. Нет
END:VEVENT
BEGIN:VEVENT
UID:ueku@192.168.245.71:3006
SEQUENCE:0
DTSTAMP:20260425T222840Z
DTSTART:20250911T090000Z
DTEND:20250911T104000Z
SUMMARY:Вычислительная математика
LOCATION:3 к. 507
END:VEVENT
BEGIN:VEVENT
UID:1nii@192.168.245.71:3006
SEQUENCE:0
DTSTAMP:20260425T222840Z
DTSTART:20250911T110000Z
DTEND:20250911T124000Z
SUMMARY:Низкоуровневое программирование
LOCATION:3 к. 401
END:VEVENT
BEGIN:VEVENT
UID:7sjq@192.168.245.71:3006
SEQUENCE:0
DTSTAMP:20260425T222840Z
DTSTART:20250911T130000Z
DTEND:20250911T144000Z
SUMMARY:Электроника и схемотехника
LOCATION:ГЗ 305
END:VEVENT
BEGIN:VEVENT
UID:eoqh@192.168.245.71:3006
SEQUENCE:0
DTSTAMP:20260425T222840Z
DTSTART:20250912T070000Z
DTEND:20250912T084000Z
SUMMARY:Высшая математика
LOCATION:11 к. 323
END:VEVENT
BEGIN:VEVENT
UID:z1x4@192.168.245.71:3006
SEQUENCE:0
DTSTAMP:20260425T222840Z
DTSTART:20250912T090000Z
DTEND:20250912T104000Z
SUMMARY:Электроника и схемотехника
LOCATION:3 к. 403
END:VEVENT
BEGIN:VEVENT
UID:f65y@192.168.245.71:3006
SEQUENCE:0
DTSTAMP:20260425T222840Z
DTSTART:20250912T090000Z
DTEND:20250912T104000Z
SUMMARY:Электроника и схемотехника
LOCATION:3 к. 403
END:VEVENT
BEGIN:VEVENT
UID:ttxr@192.168.245.71:3006
SEQUENCE:0
DTSTAMP:20260425T222840Z
DTSTART:20250913T070000Z
DTEND:20250913T084000Z
SUMMARY:Иностранный язык: Базовый курс
LOCATION:11 к. 326
END:VEVENT
BEGIN:VEVENT
UID:xbmt@192.168.245.71:3006
SEQUENCE:0
DTSTAMP:20260425T222840Z
DTSTART:20250913T090000Z
DTEND:20250913T104000Z
SUMMARY:Элективная физическая культура и спорт
LOCATION:СК Секции
END:VEVENT
BEGIN:VEVENT
UID:8rog@192.168.245.71:3006
SEQUENCE:0
DTSTAMP:20260425T222840Z
DTSTART:20250913T130000Z
DTEND:20250913T144000Z
SUMMARY:Модуль саморазвития (SoftSkills)
LOCATION:Не опр. Нет
END:VEVENT
END:VCALENDAR