BEGIN:VCALENDAR
VERSION:2.0
PRODID:-//spbstu.ru//ical//RU
NAME:Расписание группы 5130901/40004
X-WR-CALNAME:Расписание группы 5130901/40004
TIMEZONE-ID:Europe/Moscow
X-WR-TIMEZONE:Europe/Moscow
BEGIN:VEVENT
UID:ana6@192.168.245.71:3006
SEQUENCE:0
DTSTAMP:20260423T191910Z
DTSTART:20260119T070000Z
DTEND:20260119T120000Z
SUMMARY:Электроника и схемотехника
LOCATION:3 к. 403
END:VEVENT
BEGIN:VEVENT
UID:5eed@192.168.245.71:3006
SEQUENCE:0
DTSTAMP:20260423T191910Z
DTSTART:20260119T070000Z
DTEND:20260119T120000Z
SUMMARY:Электроника и схемотехника
LOCATION:3 к. 403
END:VEVENT
BEGIN:VEVENT
UID:x5ji@192.168.245.71:3006
SEQUENCE:0
DTSTAMP:20260423T191910Z
DTSTART:20260121T070000Z
DTEND:20260121T120000Z
SUMMARY:История России
LOCATION:3 к. 501
END:VEVENT
END:VCALENDAR