BEGIN:VCALENDAR
VERSION:2.0
PRODID:-//spbstu.ru//ical//RU
NAME:Расписание группы 5130902/40002
X-WR-CALNAME:Расписание группы 5130902/40002
TIMEZONE-ID:Europe/Moscow
X-WR-TIMEZONE:Europe/Moscow
BEGIN:VEVENT
UID:vd49@192.168.245.71:3006
SEQUENCE:0
DTSTAMP:20260425T004332Z
DTSTART:20251027T060000Z
DTEND:20251027T084000Z
SUMMARY:Высшая математика
LOCATION:3 к. 201
END:VEVENT
BEGIN:VEVENT
UID:4596@192.168.245.71:3006
SEQUENCE:0
DTSTAMP:20260425T004332Z
DTSTART:20251027T060000Z
DTEND:20251027T084000Z
SUMMARY:Иностранный язык: Русский язык как иностранный
LOCATION:3 к. 501
END:VEVENT
BEGIN:VEVENT
UID:iyee@192.168.245.71:3006
SEQUENCE:0
DTSTAMP:20260425T004332Z
DTSTART:20251027T090000Z
DTEND:20251027T104000Z
SUMMARY:Иностранный язык: Базовый курс
LOCATION:11 к. 315
END:VEVENT
BEGIN:VEVENT
UID:en71@192.168.245.71:3006
SEQUENCE:0
DTSTAMP:20260425T004332Z
DTSTART:20251027T110000Z
DTEND:20251027T124000Z
SUMMARY:Высшая математика
LOCATION:ГЗ 208
END:VEVENT
BEGIN:VEVENT
UID:b87m@192.168.245.71:3006
SEQUENCE:0
DTSTAMP:20260425T004332Z
DTSTART:20251028T070000Z
DTEND:20251028T084000Z
SUMMARY:Вычислительная математика
LOCATION:ГЗ 237
END:VEVENT
BEGIN:VEVENT
UID:9trr@192.168.245.71:3006
SEQUENCE:0
DTSTAMP:20260425T004332Z
DTSTART:20251028T090000Z
DTEND:20251028T104000Z
SUMMARY:Практикум по программированию
LOCATION:11 к. 143
END:VEVENT
BEGIN:VEVENT
UID:yt2c@192.168.245.71:3006
SEQUENCE:0
DTSTAMP:20260425T004332Z
DTSTART:20251029T070000Z
DTEND:20251029T084000Z
SUMMARY:Основы теории информационных систем
LOCATION:11 к. 143
END:VEVENT
BEGIN:VEVENT
UID:gy13@192.168.245.71:3006
SEQUENCE:0
DTSTAMP:20260425T004332Z
DTSTART:20251029T090000Z
DTEND:20251029T104000Z
SUMMARY:Практикум по программированию
LOCATION:3 к. 405
END:VEVENT
BEGIN:VEVENT
UID:5d2c@192.168.245.71:3006
SEQUENCE:0
DTSTAMP:20260425T004332Z
DTSTART:20251029T110000Z
DTEND:20251029T124000Z
SUMMARY:Элективная физическая культура и спорт
LOCATION:СК Секции
END:VEVENT
BEGIN:VEVENT
UID:0ck3@192.168.245.71:3006
SEQUENCE:0
DTSTAMP:20260425T004332Z
DTSTART:20251029T130000Z
DTEND:20251029T144000Z
SUMMARY:Модуль саморазвития (SoftSkills)
LOCATION:Не опр. Нет
END:VEVENT
BEGIN:VEVENT
UID:3eq2@192.168.245.71:3006
SEQUENCE:0
DTSTAMP:20260425T004332Z
DTSTART:20251030T070000Z
DTEND:20251030T084000Z
SUMMARY:Вычислительная математика
LOCATION:3 к. 211
END:VEVENT
BEGIN:VEVENT
UID:3rpg@192.168.245.71:3006
SEQUENCE:0
DTSTAMP:20260425T004332Z
DTSTART:20251030T090000Z
DTEND:20251030T104000Z
SUMMARY:Операционные системы
LOCATION:9 к. 137
END:VEVENT
BEGIN:VEVENT
UID:bd44@192.168.245.71:3006
SEQUENCE:0
DTSTAMP:20260425T004332Z
DTSTART:20251030T110000Z
DTEND:20251030T124000Z
SUMMARY:Операционные системы
LOCATION:11 к. 143
END:VEVENT
BEGIN:VEVENT
UID:c4tx@192.168.245.71:3006
SEQUENCE:0
DTSTAMP:20260425T004332Z
DTSTART:20251030T130000Z
DTEND:20251030T144000Z
SUMMARY:Электроника и схемотехника
LOCATION:ГЗ 305
END:VEVENT
BEGIN:VEVENT
UID:10eq@192.168.245.71:3006
SEQUENCE:0
DTSTAMP:20260425T004332Z
DTSTART:20251031T070000Z
DTEND:20251031T084000Z
SUMMARY:Практикум по программированию
LOCATION:9 к. 137
END:VEVENT
BEGIN:VEVENT
UID:epny@192.168.245.71:3006
SEQUENCE:0
DTSTAMP:20260425T004332Z
DTSTART:20251031T110000Z
DTEND:20251031T124000Z
SUMMARY:Электроника и схемотехника
LOCATION:3 к. 403
END:VEVENT
BEGIN:VEVENT
UID:0xkn@192.168.245.71:3006
SEQUENCE:0
DTSTAMP:20260425T004332Z
DTSTART:20251031T130000Z
DTEND:20251031T144000Z
SUMMARY:Высшая математика
LOCATION:11 к. 324
END:VEVENT
BEGIN:VEVENT
UID:a0c9@192.168.245.71:3006
SEQUENCE:0
DTSTAMP:20260425T004332Z
DTSTART:20251101T090000Z
DTEND:20251101T104000Z
SUMMARY:Элективная физическая культура и спорт
LOCATION:СК Секции
END:VEVENT
BEGIN:VEVENT
UID:gft2@192.168.245.71:3006
SEQUENCE:0
DTSTAMP:20260425T004332Z
DTSTART:20251101T110000Z
DTEND:20251101T124000Z
SUMMARY:Безопасность жизнедеятельности
LOCATION:ГК 106
END:VEVENT
BEGIN:VEVENT
UID:5riw@192.168.245.71:3006
SEQUENCE:0
DTSTAMP:20260425T004332Z
DTSTART:20251101T110000Z
DTEND:20251101T124000Z
SUMMARY:Безопасность жизнедеятельности
LOCATION:ГК 106
END:VEVENT
BEGIN:VEVENT
UID:3ruz@192.168.245.71:3006
SEQUENCE:0
DTSTAMP:20260425T004332Z
DTSTART:20251101T130000Z
DTEND:20251101T144000Z
SUMMARY:Модуль саморазвития (SoftSkills)
LOCATION:Не опр. Нет
END:VEVENT
END:VCALENDAR