BEGIN:VCALENDAR
VERSION:2.0
PRODID:-//spbstu.ru//ical//RU
NAME:Расписание группы 5130902/40002
X-WR-CALNAME:Расписание группы 5130902/40002
TIMEZONE-ID:Europe/Moscow
X-WR-TIMEZONE:Europe/Moscow
BEGIN:VEVENT
UID:0ggu@192.168.245.71:3006
SEQUENCE:0
DTSTAMP:20260421T084929Z
DTSTART:20260407T070000Z
DTEND:20260407T084000Z
SUMMARY:Вычислительная математика
LOCATION:ГЗ 237
END:VEVENT
BEGIN:VEVENT
UID:4gjb@192.168.245.71:3006
SEQUENCE:0
DTSTAMP:20260421T084929Z
DTSTART:20260407T090000Z
DTEND:20260407T104000Z
SUMMARY:Дополнительные главы математики
LOCATION:11 к. 143
END:VEVENT
BEGIN:VEVENT
UID:7swy@192.168.245.71:3006
SEQUENCE:0
DTSTAMP:20260421T084929Z
DTSTART:20260407T110000Z
DTEND:20260407T124000Z
SUMMARY:Теория вероятностей и математическая статистика
LOCATION:3 к. 211
END:VEVENT
BEGIN:VEVENT
UID:q6nu@192.168.245.71:3006
SEQUENCE:0
DTSTAMP:20260421T084929Z
DTSTART:20260407T130000Z
DTEND:20260407T144000Z
SUMMARY:Дополнительные главы математики
LOCATION:3 к. 205
END:VEVENT
BEGIN:VEVENT
UID:1afu@192.168.245.71:3006
SEQUENCE:0
DTSTAMP:20260421T084929Z
DTSTART:20260408T070000Z
DTEND:20260408T084000Z
SUMMARY:Моделирование информационных систем
LOCATION:11 к. 148
END:VEVENT
BEGIN:VEVENT
UID:vq1t@192.168.245.71:3006
SEQUENCE:0
DTSTAMP:20260421T084929Z
DTSTART:20260408T090000Z
DTEND:20260408T104000Z
SUMMARY:Вычислительная математика
LOCATION:3 к. 404а
END:VEVENT
BEGIN:VEVENT
UID:d6pj@192.168.245.71:3006
SEQUENCE:0
DTSTAMP:20260421T084929Z
DTSTART:20260408T110000Z
DTEND:20260408T124000Z
SUMMARY:Элективная физическая культура и спорт
LOCATION:СК Секции
END:VEVENT
BEGIN:VEVENT
UID:eub8@192.168.245.71:3006
SEQUENCE:0
DTSTAMP:20260421T084929Z
DTSTART:20260409T070000Z
DTEND:20260409T084000Z
SUMMARY:Цифровая аналитика
LOCATION:3 к. 402
END:VEVENT
BEGIN:VEVENT
UID:n6dd@192.168.245.71:3006
SEQUENCE:0
DTSTAMP:20260421T084929Z
DTSTART:20260409T090000Z
DTEND:20260409T104000Z
SUMMARY:Компьютерные сети
LOCATION:9 к. 137
END:VEVENT
BEGIN:VEVENT
UID:917p@192.168.245.71:3006
SEQUENCE:0
DTSTAMP:20260421T084929Z
DTSTART:20260409T110000Z
DTEND:20260409T124000Z
SUMMARY:Компьютерные сети
LOCATION:11 к. 143
END:VEVENT
BEGIN:VEVENT
UID:frcq@192.168.245.71:3006
SEQUENCE:0
DTSTAMP:20260421T084929Z
DTSTART:20260409T130000Z
DTEND:20260409T144000Z
SUMMARY:Основы проектной деятельности
LOCATION:3 к. 401
END:VEVENT
BEGIN:VEVENT
UID:8wq2@192.168.245.71:3006
SEQUENCE:0
DTSTAMP:20260421T084929Z
DTSTART:20260410T090000Z
DTEND:20260410T104000Z
SUMMARY:Теория вероятностей и математическая статистика
LOCATION:3 к. 215
END:VEVENT
BEGIN:VEVENT
UID:355h@192.168.245.71:3006
SEQUENCE:0
DTSTAMP:20260421T084929Z
DTSTART:20260410T110000Z
DTEND:20260410T124000Z
SUMMARY:Иностранный язык. Профессионально-ориентированный курс
LOCATION:3 к. 205
END:VEVENT
BEGIN:VEVENT
UID:7xgw@192.168.245.71:3006
SEQUENCE:0
DTSTAMP:20260421T084929Z
DTSTART:20260411T090000Z
DTEND:20260411T104000Z
SUMMARY:Элективная физическая культура и спорт
LOCATION:СК Секции
END:VEVENT
END:VCALENDAR