BEGIN:VCALENDAR
VERSION:2.0
PRODID:-//spbstu.ru//ical//RU
NAME:Расписание группы 5130902/40003
X-WR-CALNAME:Расписание группы 5130902/40003
TIMEZONE-ID:Europe/Moscow
X-WR-TIMEZONE:Europe/Moscow
BEGIN:VEVENT
UID:fc3f@192.168.245.71:3006
SEQUENCE:0
DTSTAMP:20260421T135052Z
DTSTART:20260505T070000Z
DTEND:20260505T084000Z
SUMMARY:Вычислительная математика
LOCATION:ГЗ 237
END:VEVENT
BEGIN:VEVENT
UID:hb4j@192.168.245.71:3006
SEQUENCE:0
DTSTAMP:20260421T135052Z
DTSTART:20260505T090000Z
DTEND:20260505T104000Z
SUMMARY:Дополнительные главы математики
LOCATION:11 к. 143
END:VEVENT
BEGIN:VEVENT
UID:uwgo@192.168.245.71:3006
SEQUENCE:0
DTSTAMP:20260421T135052Z
DTSTART:20260505T110000Z
DTEND:20260505T124000Z
SUMMARY:Иностранный язык. Профессионально-ориентированный курс
LOCATION:ГЗ 222
END:VEVENT
BEGIN:VEVENT
UID:3a02@192.168.245.71:3006
SEQUENCE:0
DTSTAMP:20260421T135052Z
DTSTART:20260505T130000Z
DTEND:20260505T144000Z
SUMMARY:Теория вероятностей и математическая статистика
LOCATION:3 к. 211
END:VEVENT
BEGIN:VEVENT
UID:zbqa@192.168.245.71:3006
SEQUENCE:0
DTSTAMP:20260421T135052Z
DTSTART:20260506T070000Z
DTEND:20260506T084000Z
SUMMARY:Моделирование информационных систем
LOCATION:11 к. 148
END:VEVENT
BEGIN:VEVENT
UID:mo36@192.168.245.71:3006
SEQUENCE:0
DTSTAMP:20260421T135052Z
DTSTART:20260506T090000Z
DTEND:20260506T104000Z
SUMMARY:Вычислительная математика
LOCATION:3 к. 404
END:VEVENT
BEGIN:VEVENT
UID:hwsa@192.168.245.71:3006
SEQUENCE:0
DTSTAMP:20260421T135052Z
DTSTART:20260506T110000Z
DTEND:20260506T124000Z
SUMMARY:Элективная физическая культура и спорт
LOCATION:СК Секции
END:VEVENT
BEGIN:VEVENT
UID:86k8@192.168.245.71:3006
SEQUENCE:0
DTSTAMP:20260421T135052Z
DTSTART:20260507T070000Z
DTEND:20260507T084000Z
SUMMARY:Компьютерные сети
LOCATION:9 к. 137
END:VEVENT
BEGIN:VEVENT
UID:7x4o@192.168.245.71:3006
SEQUENCE:0
DTSTAMP:20260421T135052Z
DTSTART:20260507T090000Z
DTEND:20260507T104000Z
SUMMARY:Цифровая аналитика
LOCATION:3 к. 402
END:VEVENT
BEGIN:VEVENT
UID:58t8@192.168.245.71:3006
SEQUENCE:0
DTSTAMP:20260421T135052Z
DTSTART:20260507T110000Z
DTEND:20260507T124000Z
SUMMARY:Компьютерные сети
LOCATION:11 к. 143
END:VEVENT
BEGIN:VEVENT
UID:zqi4@192.168.245.71:3006
SEQUENCE:0
DTSTAMP:20260421T135052Z
DTSTART:20260508T090000Z
DTEND:20260508T104000Z
SUMMARY:Теория вероятностей и математическая статистика
LOCATION:3 к. 215
END:VEVENT
BEGIN:VEVENT
UID:xcj0@192.168.245.71:3006
SEQUENCE:0
DTSTAMP:20260421T135052Z
DTSTART:20260508T110000Z
DTEND:20260508T124000Z
SUMMARY:Дополнительные главы математики
LOCATION:3 к. 303
END:VEVENT
END:VCALENDAR