BEGIN:VCALENDAR
VERSION:2.0
PRODID:-//spbstu.ru//ical//RU
NAME:Расписание группы 5130902/40004
X-WR-CALNAME:Расписание группы 5130902/40004
TIMEZONE-ID:Europe/Moscow
X-WR-TIMEZONE:Europe/Moscow
BEGIN:VEVENT
UID:qtat@192.168.245.71:3006
SEQUENCE:0
DTSTAMP:20260424T171832Z
DTSTART:20251124T060000Z
DTEND:20251124T084000Z
SUMMARY:Иностранный язык: Русский язык как иностранный
LOCATION:3 к. 501
END:VEVENT
BEGIN:VEVENT
UID:8t2o@192.168.245.71:3006
SEQUENCE:0
DTSTAMP:20260424T171832Z
DTSTART:20251124T090000Z
DTEND:20251124T104000Z
SUMMARY:Электроника и схемотехника
LOCATION:3 к. 403
END:VEVENT
BEGIN:VEVENT
UID:l9at@192.168.245.71:3006
SEQUENCE:0
DTSTAMP:20260424T171832Z
DTSTART:20251124T090000Z
DTEND:20251124T104000Z
SUMMARY:Электроника и схемотехника
LOCATION:3 к. 403
END:VEVENT
BEGIN:VEVENT
UID:9t4r@192.168.245.71:3006
SEQUENCE:0
DTSTAMP:20260424T171832Z
DTSTART:20251124T110000Z
DTEND:20251124T124000Z
SUMMARY:Иностранный язык: Базовый курс
LOCATION:11 к. 326
END:VEVENT
BEGIN:VEVENT
UID:4ecf@192.168.245.71:3006
SEQUENCE:0
DTSTAMP:20260424T171832Z
DTSTART:20251124T130000Z
DTEND:20251124T154000Z
SUMMARY:Высшая математика
LOCATION:ГЗ 237
END:VEVENT
BEGIN:VEVENT
UID:m9nx@192.168.245.71:3006
SEQUENCE:0
DTSTAMP:20260424T171832Z
DTSTART:20251125T070000Z
DTEND:20251125T084000Z
SUMMARY:Вычислительная математика
LOCATION:ГЗ 237
END:VEVENT
BEGIN:VEVENT
UID:zu1n@192.168.245.71:3006
SEQUENCE:0
DTSTAMP:20260424T171832Z
DTSTART:20251125T090000Z
DTEND:20251125T104000Z
SUMMARY:Практикум по программированию
LOCATION:11 к. 143
END:VEVENT
BEGIN:VEVENT
UID:yu33@192.168.245.71:3006
SEQUENCE:0
DTSTAMP:20260424T171832Z
DTSTART:20251125T110000Z
DTEND:20251125T124000Z
SUMMARY:История России
LOCATION:3 к. 501
END:VEVENT
BEGIN:VEVENT
UID:65km@192.168.245.71:3006
SEQUENCE:0
DTSTAMP:20260424T171832Z
DTSTART:20251125T130000Z
DTEND:20251125T144000Z
SUMMARY:История России
LOCATION:3 к. 501
END:VEVENT
BEGIN:VEVENT
UID:7n30@192.168.245.71:3006
SEQUENCE:0
DTSTAMP:20260424T171832Z
DTSTART:20251126T070000Z
DTEND:20251126T084000Z
SUMMARY:Основы теории информационных систем
LOCATION:11 к. 143
END:VEVENT
BEGIN:VEVENT
UID:hjqz@192.168.245.71:3006
SEQUENCE:0
DTSTAMP:20260424T171832Z
DTSTART:20251126T090000Z
DTEND:20251126T104000Z
SUMMARY:Основы теории информационных систем
LOCATION:3 к. 505
END:VEVENT
BEGIN:VEVENT
UID:d6ak@192.168.245.71:3006
SEQUENCE:0
DTSTAMP:20260424T171832Z
DTSTART:20251126T110000Z
DTEND:20251126T124000Z
SUMMARY:Элективная физическая культура и спорт
LOCATION:СК Секции
END:VEVENT
BEGIN:VEVENT
UID:g3kb@192.168.245.71:3006
SEQUENCE:0
DTSTAMP:20260424T171832Z
DTSTART:20251126T130000Z
DTEND:20251126T144000Z
SUMMARY:Модуль саморазвития (SoftSkills)
LOCATION:Не опр. Нет
END:VEVENT
BEGIN:VEVENT
UID:lc4s@192.168.245.71:3006
SEQUENCE:0
DTSTAMP:20260424T171832Z
DTSTART:20251127T070000Z
DTEND:20251127T084000Z
SUMMARY:Вычислительная математика
LOCATION:3 к. 402
END:VEVENT
BEGIN:VEVENT
UID:787c@192.168.245.71:3006
SEQUENCE:0
DTSTAMP:20260424T171832Z
DTSTART:20251127T110000Z
DTEND:20251127T124000Z
SUMMARY:Операционные системы
LOCATION:11 к. 143
END:VEVENT
BEGIN:VEVENT
UID:nfak@192.168.245.71:3006
SEQUENCE:0
DTSTAMP:20260424T171832Z
DTSTART:20251127T130000Z
DTEND:20251127T144000Z
SUMMARY:Электроника и схемотехника
LOCATION:ГЗ 305
END:VEVENT
BEGIN:VEVENT
UID:xw7a@192.168.245.71:3006
SEQUENCE:0
DTSTAMP:20260424T171832Z
DTSTART:20251128T090000Z
DTEND:20251128T104000Z
SUMMARY:Высшая математика
LOCATION:11 к. 309
END:VEVENT
BEGIN:VEVENT
UID:g6o9@192.168.245.71:3006
SEQUENCE:0
DTSTAMP:20260424T171832Z
DTSTART:20251129T090000Z
DTEND:20251129T104000Z
SUMMARY:Элективная физическая культура и спорт
LOCATION:СК Секции
END:VEVENT
BEGIN:VEVENT
UID:j0y3@192.168.245.71:3006
SEQUENCE:0
DTSTAMP:20260424T171832Z
DTSTART:20251129T130000Z
DTEND:20251129T144000Z
SUMMARY:Модуль саморазвития (SoftSkills)
LOCATION:Не опр. Нет
END:VEVENT
END:VCALENDAR