BEGIN:VCALENDAR
VERSION:2.0
PRODID:-//spbstu.ru//ical//RU
NAME:Расписание группы 5130903/40001
X-WR-CALNAME:Расписание группы 5130903/40001
TIMEZONE-ID:Europe/Moscow
X-WR-TIMEZONE:Europe/Moscow
BEGIN:VEVENT
UID:52zf@192.168.245.71:3006
SEQUENCE:0
DTSTAMP:20260422T222011Z
DTSTART:20260112T093000Z
DTEND:20260112T130000Z
SUMMARY:Технология объектно-ориентированного программирования
LOCATION:11 к. 213
END:VEVENT
BEGIN:VEVENT
UID:1lka@192.168.245.71:3006
SEQUENCE:0
DTSTAMP:20260422T222011Z
DTSTART:20260115T090000Z
DTEND:20260115T104000Z
SUMMARY:Высшая математика
LOCATION:11 к. 328
END:VEVENT
BEGIN:VEVENT
UID:f05x@192.168.245.71:3006
SEQUENCE:0
DTSTAMP:20260422T222011Z
DTSTART:20260116T070000Z
DTEND:20260116T140000Z
SUMMARY:Высшая математика
LOCATION:11 к. 323
END:VEVENT
BEGIN:VEVENT
UID:t1zn@192.168.245.71:3006
SEQUENCE:0
DTSTAMP:20260422T222011Z
DTSTART:20260117T070000Z
DTEND:20260117T084000Z
SUMMARY:Функциональный анализ
LOCATION:11 к. 319
END:VEVENT
END:VCALENDAR