BEGIN:VCALENDAR
VERSION:2.0
PRODID:-//spbstu.ru//ical//RU
NAME:Расписание группы 5130903/40001
X-WR-CALNAME:Расписание группы 5130903/40001
TIMEZONE-ID:Europe/Moscow
X-WR-TIMEZONE:Europe/Moscow
BEGIN:VEVENT
UID:zwoj@192.168.245.71:3006
SEQUENCE:0
DTSTAMP:20260421T053906Z
DTSTART:20260420T070000Z
DTEND:20260420T075000Z
SUMMARY:Методы тестирования программного обеспечения
LOCATION:11 к. 148
END:VEVENT
BEGIN:VEVENT
UID:fh5e@192.168.245.71:3006
SEQUENCE:0
DTSTAMP:20260421T053906Z
DTSTART:20260420T110000Z
DTEND:20260420T124000Z
SUMMARY:Иностранный язык. Профессионально-ориентированный курс
LOCATION:11 к. 322
END:VEVENT
BEGIN:VEVENT
UID:kyxw@192.168.245.71:3006
SEQUENCE:0
DTSTAMP:20260421T053906Z
DTSTART:20260422T070000Z
DTEND:20260422T084000Z
SUMMARY:Структуры и алгоритмы обработки данных
LOCATION:11 к. 143
END:VEVENT
BEGIN:VEVENT
UID:7xoh@192.168.245.71:3006
SEQUENCE:0
DTSTAMP:20260421T053906Z
DTSTART:20260422T090000Z
DTEND:20260422T104000Z
SUMMARY:Базы данных
LOCATION:11 к. 102
END:VEVENT
BEGIN:VEVENT
UID:1v4p@192.168.245.71:3006
SEQUENCE:0
DTSTAMP:20260421T053906Z
DTSTART:20260422T110000Z
DTEND:20260422T124000Z
SUMMARY:Элективная физическая культура и спорт
LOCATION:СК Секции
END:VEVENT
BEGIN:VEVENT
UID:e0y9@192.168.245.71:3006
SEQUENCE:0
DTSTAMP:20260421T053906Z
DTSTART:20260423T130000Z
DTEND:20260423T144000Z
SUMMARY:Основы проектной деятельности
LOCATION:11 к. 216
END:VEVENT
BEGIN:VEVENT
UID:i3hy@192.168.245.71:3006
SEQUENCE:0
DTSTAMP:20260421T053906Z
DTSTART:20260424T070000Z
DTEND:20260424T084000Z
SUMMARY:Вычислительная математика
LOCATION:11 к. 102
END:VEVENT
BEGIN:VEVENT
UID:oje3@192.168.245.71:3006
SEQUENCE:0
DTSTAMP:20260421T053906Z
DTSTART:20260424T090000Z
DTEND:20260424T104000Z
SUMMARY:Базы данных
LOCATION:11 к. 211
END:VEVENT
BEGIN:VEVENT
UID:haoy@192.168.245.71:3006
SEQUENCE:0
DTSTAMP:20260421T053906Z
DTSTART:20260424T110000Z
DTEND:20260424T124000Z
SUMMARY:Структуры и алгоритмы обработки данных
LOCATION:11 к. 330
END:VEVENT
BEGIN:VEVENT
UID:sn01@192.168.245.71:3006
SEQUENCE:0
DTSTAMP:20260421T053906Z
DTSTART:20260424T130000Z
DTEND:20260424T144000Z
SUMMARY:Вычислительная математика
LOCATION:11 к. 148
END:VEVENT
BEGIN:VEVENT
UID:m5pg@192.168.245.71:3006
SEQUENCE:0
DTSTAMP:20260421T053906Z
DTSTART:20260425T090000Z
DTEND:20260425T104000Z
SUMMARY:Элективная физическая культура и спорт
LOCATION:СК Секции
END:VEVENT
END:VCALENDAR