BEGIN:VCALENDAR
VERSION:2.0
PRODID:-//spbstu.ru//ical//RU
NAME:Расписание группы 5130904/40001
X-WR-CALNAME:Расписание группы 5130904/40001
TIMEZONE-ID:Europe/Moscow
X-WR-TIMEZONE:Europe/Moscow
BEGIN:VEVENT
UID:q6fx@192.168.245.71:3006
SEQUENCE:0
DTSTAMP:20260423T145449Z
DTSTART:20251110T060000Z
DTEND:20251110T084000Z
SUMMARY:Высшая математика
LOCATION:3 к. 201
END:VEVENT
BEGIN:VEVENT
UID:29kh@192.168.245.71:3006
SEQUENCE:0
DTSTAMP:20260423T145449Z
DTSTART:20251110T060000Z
DTEND:20251110T084000Z
SUMMARY:Иностранный язык: Русский язык как иностранный
LOCATION:3 к. 501
END:VEVENT
BEGIN:VEVENT
UID:2lqw@192.168.245.71:3006
SEQUENCE:0
DTSTAMP:20260423T145449Z
DTSTART:20251110T090000Z
DTEND:20251110T104000Z
SUMMARY:Архитектура компьютера
LOCATION:ГЗ 237
END:VEVENT
BEGIN:VEVENT
UID:n4tp@192.168.245.71:3006
SEQUENCE:0
DTSTAMP:20260423T145449Z
DTSTART:20251110T110000Z
DTEND:20251110T124000Z
SUMMARY:Языки моделирования и описания цифровой аппаратуры
LOCATION:3 к. 203
END:VEVENT
BEGIN:VEVENT
UID:eoms@192.168.245.71:3006
SEQUENCE:0
DTSTAMP:20260423T145449Z
DTSTART:20251110T110000Z
DTEND:20251110T124000Z
SUMMARY:Языки моделирования и описания цифровой аппаратуры
LOCATION:3 к. 202
END:VEVENT
BEGIN:VEVENT
UID:f3ro@192.168.245.71:3006
SEQUENCE:0
DTSTAMP:20260423T145449Z
DTSTART:20251110T130000Z
DTEND:20251110T144000Z
SUMMARY:Высшая математика
LOCATION:3 к. 204
END:VEVENT
BEGIN:VEVENT
UID:xlfd@192.168.245.71:3006
SEQUENCE:0
DTSTAMP:20260423T145449Z
DTSTART:20251111T070000Z
DTEND:20251111T084000Z
SUMMARY:Безопасность жизнедеятельности
LOCATION:ГК 104
END:VEVENT
BEGIN:VEVENT
UID:fcal@192.168.245.71:3006
SEQUENCE:0
DTSTAMP:20260423T145449Z
DTSTART:20251111T090000Z
DTEND:20251111T104000Z
SUMMARY:Объектно-ориентированное программирование
LOCATION:3 к. 111
END:VEVENT
BEGIN:VEVENT
UID:93kb@192.168.245.71:3006
SEQUENCE:0
DTSTAMP:20260423T145449Z
DTSTART:20251111T110000Z
DTEND:20251111T124000Z
SUMMARY:История России
LOCATION:3 к. 503
END:VEVENT
BEGIN:VEVENT
UID:k20p@192.168.245.71:3006
SEQUENCE:0
DTSTAMP:20260423T145449Z
DTSTART:20251111T130000Z
DTEND:20251111T154000Z
SUMMARY:Высшая математика
LOCATION:ГЗ 237
END:VEVENT
BEGIN:VEVENT
UID:7hra@192.168.245.71:3006
SEQUENCE:0
DTSTAMP:20260423T145449Z
DTSTART:20251112T070000Z
DTEND:20251112T084000Z
SUMMARY:Архитектура компьютера
LOCATION:3 к. 110
END:VEVENT
BEGIN:VEVENT
UID:laln@192.168.245.71:3006
SEQUENCE:0
DTSTAMP:20260423T145449Z
DTSTART:20251112T090000Z
DTEND:20251112T104000Z
SUMMARY:Высшая математика
LOCATION:11 к. 328
END:VEVENT
BEGIN:VEVENT
UID:nxf2@192.168.245.71:3006
SEQUENCE:0
DTSTAMP:20260423T145449Z
DTSTART:20251112T110000Z
DTEND:20251112T124000Z
SUMMARY:Элективная физическая культура и спорт
LOCATION:СК Секции
END:VEVENT
BEGIN:VEVENT
UID:qclr@192.168.245.71:3006
SEQUENCE:0
DTSTAMP:20260423T145449Z
DTSTART:20251112T130000Z
DTEND:20251112T144000Z
SUMMARY:Модуль саморазвития (SoftSkills)
LOCATION:Не опр. Нет
END:VEVENT
BEGIN:VEVENT
UID:t30z@192.168.245.71:3006
SEQUENCE:0
DTSTAMP:20260423T145449Z
DTSTART:20251113T070000Z
DTEND:20251113T084000Z
SUMMARY:Вычислительная математика
LOCATION:ГЗ 237
END:VEVENT
BEGIN:VEVENT
UID:j6pp@192.168.245.71:3006
SEQUENCE:0
DTSTAMP:20260423T145449Z
DTSTART:20251113T110000Z
DTEND:20251113T124000Z
SUMMARY:Вычислительная математика
LOCATION:3 к. 209
END:VEVENT
BEGIN:VEVENT
UID:pews@192.168.245.71:3006
SEQUENCE:0
DTSTAMP:20260423T145449Z
DTSTART:20251113T130000Z
DTEND:20251113T144000Z
SUMMARY:Языки моделирования и описания цифровой аппаратуры
LOCATION:ГЗ 237
END:VEVENT
BEGIN:VEVENT
UID:xmmv@192.168.245.71:3006
SEQUENCE:0
DTSTAMP:20260423T145449Z
DTSTART:20251114T060000Z
DTEND:20251114T074000Z
SUMMARY:Введение в язык программирования Go
LOCATION:DL Дистанционно
END:VEVENT
BEGIN:VEVENT
UID:iih8@192.168.245.71:3006
SEQUENCE:0
DTSTAMP:20260423T145449Z
DTSTART:20251114T090000Z
DTEND:20251114T104000Z
SUMMARY:Безопасность жизнедеятельности
LOCATION:ГК 118
END:VEVENT
BEGIN:VEVENT
UID:6js6@192.168.245.71:3006
SEQUENCE:0
DTSTAMP:20260423T145449Z
DTSTART:20251114T090000Z
DTEND:20251114T104000Z
SUMMARY:Безопасность жизнедеятельности
LOCATION:ГК 118
END:VEVENT
BEGIN:VEVENT
UID:k5zw@192.168.245.71:3006
SEQUENCE:0
DTSTAMP:20260423T145449Z
DTSTART:20251114T110000Z
DTEND:20251114T124000Z
SUMMARY:Введение в язык программирования Go
LOCATION:ГЗ 237
END:VEVENT
BEGIN:VEVENT
UID:8com@192.168.245.71:3006
SEQUENCE:0
DTSTAMP:20260423T145449Z
DTSTART:20251115T090000Z
DTEND:20251115T104000Z
SUMMARY:Элективная физическая культура и спорт
LOCATION:СК Секции
END:VEVENT
BEGIN:VEVENT
UID:e6oh@192.168.245.71:3006
SEQUENCE:0
DTSTAMP:20260423T145449Z
DTSTART:20251115T110000Z
DTEND:20251115T124000Z
SUMMARY:Иностранный язык: Базовый курс
LOCATION:11 к. 326
END:VEVENT
END:VCALENDAR