BEGIN:VCALENDAR
VERSION:2.0
PRODID:-//spbstu.ru//ical//RU
NAME:Расписание группы 5130904/40003
X-WR-CALNAME:Расписание группы 5130904/40003
TIMEZONE-ID:Europe/Moscow
X-WR-TIMEZONE:Europe/Moscow
BEGIN:VEVENT
UID:p2g1@192.168.245.71:3006
SEQUENCE:0
DTSTAMP:20260422T163408Z
DTSTART:20251208T060000Z
DTEND:20251208T084000Z
SUMMARY:Высшая математика
LOCATION:3 к. 201
END:VEVENT
BEGIN:VEVENT
UID:28o3@192.168.245.71:3006
SEQUENCE:0
DTSTAMP:20260422T163408Z
DTSTART:20251208T060000Z
DTEND:20251208T084000Z
SUMMARY:Иностранный язык: Русский язык как иностранный
LOCATION:3 к. 501
END:VEVENT
BEGIN:VEVENT
UID:ill8@192.168.245.71:3006
SEQUENCE:0
DTSTAMP:20260422T163408Z
DTSTART:20251208T090000Z
DTEND:20251208T104000Z
SUMMARY:Архитектура компьютера
LOCATION:ГЗ 237
END:VEVENT
BEGIN:VEVENT
UID:ppl1@192.168.245.71:3006
SEQUENCE:0
DTSTAMP:20260422T163408Z
DTSTART:20251208T110000Z
DTEND:20251208T124000Z
SUMMARY:Архитектура компьютера
LOCATION:3 к. 110
END:VEVENT
BEGIN:VEVENT
UID:7rgs@192.168.245.71:3006
SEQUENCE:0
DTSTAMP:20260422T163408Z
DTSTART:20251208T130000Z
DTEND:20251208T144000Z
SUMMARY:Высшая математика
LOCATION:3 к. 204
END:VEVENT
BEGIN:VEVENT
UID:jd0e@192.168.245.71:3006
SEQUENCE:0
DTSTAMP:20260422T163408Z
DTSTART:20251209T110000Z
DTEND:20251209T124000Z
SUMMARY:Объектно-ориентированное программирование
LOCATION:3 к. 104
END:VEVENT
BEGIN:VEVENT
UID:hhdt@192.168.245.71:3006
SEQUENCE:0
DTSTAMP:20260422T163408Z
DTSTART:20251209T130000Z
DTEND:20251209T154000Z
SUMMARY:Высшая математика
LOCATION:ГЗ 237
END:VEVENT
BEGIN:VEVENT
UID:zx97@192.168.245.71:3006
SEQUENCE:0
DTSTAMP:20260422T163408Z
DTSTART:20251210T070000Z
DTEND:20251210T084000Z
SUMMARY:Высшая математика
LOCATION:11 к. 328
END:VEVENT
BEGIN:VEVENT
UID:dn1d@192.168.245.71:3006
SEQUENCE:0
DTSTAMP:20260422T163408Z
DTSTART:20251210T090000Z
DTEND:20251210T104000Z
SUMMARY:Языки моделирования и описания цифровой аппаратуры
LOCATION:3 к. 202
END:VEVENT
BEGIN:VEVENT
UID:h2y5@192.168.245.71:3006
SEQUENCE:0
DTSTAMP:20260422T163408Z
DTSTART:20251210T090000Z
DTEND:20251210T104000Z
SUMMARY:Языки моделирования и описания цифровой аппаратуры
LOCATION:3 к. 203
END:VEVENT
BEGIN:VEVENT
UID:eu5x@192.168.245.71:3006
SEQUENCE:0
DTSTAMP:20260422T163408Z
DTSTART:20251210T110000Z
DTEND:20251210T124000Z
SUMMARY:Элективная физическая культура и спорт
LOCATION:СК Секции
END:VEVENT
BEGIN:VEVENT
UID:fymn@192.168.245.71:3006
SEQUENCE:0
DTSTAMP:20260422T163408Z
DTSTART:20251210T130000Z
DTEND:20251210T144000Z
SUMMARY:Модуль саморазвития (SoftSkills)
LOCATION:Не опр. Нет
END:VEVENT
BEGIN:VEVENT
UID:wdw2@192.168.245.71:3006
SEQUENCE:0
DTSTAMP:20260422T163408Z
DTSTART:20251211T070000Z
DTEND:20251211T084000Z
SUMMARY:Вычислительная математика
LOCATION:ГЗ 237
END:VEVENT
BEGIN:VEVENT
UID:gnm6@192.168.245.71:3006
SEQUENCE:0
DTSTAMP:20260422T163408Z
DTSTART:20251211T110000Z
DTEND:20251211T124000Z
SUMMARY:Вычислительная математика
LOCATION:3 к. 110
END:VEVENT
BEGIN:VEVENT
UID:gvnn@192.168.245.71:3006
SEQUENCE:0
DTSTAMP:20260422T163408Z
DTSTART:20251211T130000Z
DTEND:20251211T144000Z
SUMMARY:Языки моделирования и описания цифровой аппаратуры
LOCATION:ГЗ 237
END:VEVENT
BEGIN:VEVENT
UID:js6n@192.168.245.71:3006
SEQUENCE:0
DTSTAMP:20260422T163408Z
DTSTART:20251212T070000Z
DTEND:20251212T084000Z
SUMMARY:Безопасность жизнедеятельности
LOCATION:ГК 106
END:VEVENT
BEGIN:VEVENT
UID:ewpg@192.168.245.71:3006
SEQUENCE:0
DTSTAMP:20260422T163408Z
DTSTART:20251212T070000Z
DTEND:20251212T084000Z
SUMMARY:Безопасность жизнедеятельности
LOCATION:ГК 106
END:VEVENT
BEGIN:VEVENT
UID:fkmh@192.168.245.71:3006
SEQUENCE:0
DTSTAMP:20260422T163408Z
DTSTART:20251212T110000Z
DTEND:20251212T124000Z
SUMMARY:Введение в язык программирования Go
LOCATION:ГЗ 237
END:VEVENT
BEGIN:VEVENT
UID:hqr6@192.168.245.71:3006
SEQUENCE:0
DTSTAMP:20260422T163408Z
DTSTART:20251213T070000Z
DTEND:20251213T084000Z
SUMMARY:Иностранный язык: Базовый курс
LOCATION:ГЗ 222
END:VEVENT
BEGIN:VEVENT
UID:4pub@192.168.245.71:3006
SEQUENCE:0
DTSTAMP:20260422T163408Z
DTSTART:20251213T120000Z
DTEND:20251213T134000Z
SUMMARY:Введение в язык программирования Go
LOCATION:DL Дистанционно
END:VEVENT
END:VCALENDAR