BEGIN:VCALENDAR
VERSION:2.0
PRODID:-//spbstu.ru//ical//RU
NAME:Расписание группы 5130904/40003
X-WR-CALNAME:Расписание группы 5130904/40003
TIMEZONE-ID:Europe/Moscow
X-WR-TIMEZONE:Europe/Moscow
BEGIN:VEVENT
UID:m0fg@192.168.245.71:3006
SEQUENCE:0
DTSTAMP:20260421T032405Z
DTSTART:20260504T090000Z
DTEND:20260504T104000Z
SUMMARY:Архитектура компьютера
LOCATION:3 к. 201
END:VEVENT
BEGIN:VEVENT
UID:tn86@192.168.245.71:3006
SEQUENCE:0
DTSTAMP:20260421T032405Z
DTSTART:20260504T110000Z
DTEND:20260504T124000Z
SUMMARY:Архитектура компьютера
LOCATION:3 к. 217
END:VEVENT
BEGIN:VEVENT
UID:ggos@192.168.245.71:3006
SEQUENCE:0
DTSTAMP:20260421T032405Z
DTSTART:20260504T130000Z
DTEND:20260504T144000Z
SUMMARY:Математическое моделирование
LOCATION:ГЗ 237
END:VEVENT
BEGIN:VEVENT
UID:uxmz@192.168.245.71:3006
SEQUENCE:0
DTSTAMP:20260421T032405Z
DTSTART:20260505T070000Z
DTEND:20260505T084000Z
SUMMARY:Цифровая аналитика
LOCATION:3 к. 110
END:VEVENT
BEGIN:VEVENT
UID:tavk@192.168.245.71:3006
SEQUENCE:0
DTSTAMP:20260421T032405Z
DTSTART:20260505T090000Z
DTEND:20260505T104000Z
SUMMARY:Иностранный язык. Профессионально-ориентированный курс
LOCATION:3 к. 107
END:VEVENT
BEGIN:VEVENT
UID:9exl@192.168.245.71:3006
SEQUENCE:0
DTSTAMP:20260421T032405Z
DTSTART:20260505T110000Z
DTEND:20260505T124000Z
SUMMARY:Объектно-ориентированное программирование
LOCATION:3 к. 111
END:VEVENT
BEGIN:VEVENT
UID:zlov@192.168.245.71:3006
SEQUENCE:0
DTSTAMP:20260421T032405Z
DTSTART:20260505T130000Z
DTEND:20260505T144000Z
SUMMARY:Дискретная математика
LOCATION:ГЗ 237
END:VEVENT
BEGIN:VEVENT
UID:7cyo@192.168.245.71:3006
SEQUENCE:0
DTSTAMP:20260421T032405Z
DTSTART:20260506T090000Z
DTEND:20260506T104000Z
SUMMARY:Теория вероятностей и математическая статистика
LOCATION:3 к. 102
END:VEVENT
BEGIN:VEVENT
UID:yh7q@192.168.245.71:3006
SEQUENCE:0
DTSTAMP:20260421T032405Z
DTSTART:20260506T110000Z
DTEND:20260506T124000Z
SUMMARY:Элективная физическая культура и спорт
LOCATION:СК Секции
END:VEVENT
BEGIN:VEVENT
UID:fp6u@192.168.245.71:3006
SEQUENCE:0
DTSTAMP:20260421T032405Z
DTSTART:20260506T130000Z
DTEND:20260506T144000Z
SUMMARY:Языки моделирования и описания цифровой аппаратуры
LOCATION:3 к. 215
END:VEVENT
BEGIN:VEVENT
UID:1wcf@192.168.245.71:3006
SEQUENCE:0
DTSTAMP:20260421T032405Z
DTSTART:20260507T070000Z
DTEND:20260507T084000Z
SUMMARY:Вычислительная математика
LOCATION:ГЗ 237
END:VEVENT
BEGIN:VEVENT
UID:qiy6@192.168.245.71:3006
SEQUENCE:0
DTSTAMP:20260421T032405Z
DTSTART:20260507T110000Z
DTEND:20260507T124000Z
SUMMARY:Вычислительная математика
LOCATION:3 к. 102
END:VEVENT
BEGIN:VEVENT
UID:512c@192.168.245.71:3006
SEQUENCE:0
DTSTAMP:20260421T032405Z
DTSTART:20260508T070000Z
DTEND:20260508T084000Z
SUMMARY:Языки моделирования и описания цифровой аппаратуры
LOCATION:3 к. 203
END:VEVENT
BEGIN:VEVENT
UID:4760@192.168.245.71:3006
SEQUENCE:0
DTSTAMP:20260421T032405Z
DTSTART:20260508T070000Z
DTEND:20260508T084000Z
SUMMARY:Языки моделирования и описания цифровой аппаратуры
LOCATION:3 к. 202
END:VEVENT
BEGIN:VEVENT
UID:d9ko@192.168.245.71:3006
SEQUENCE:0
DTSTAMP:20260421T032405Z
DTSTART:20260508T110000Z
DTEND:20260508T124000Z
SUMMARY:Объектно-ориентированное программирование
LOCATION:ГЗ 237
END:VEVENT
BEGIN:VEVENT
UID:cl9j@192.168.245.71:3006
SEQUENCE:0
DTSTAMP:20260421T032405Z
DTSTART:20260508T130000Z
DTEND:20260508T144000Z
SUMMARY:Теория вероятностей и математическая статистика
LOCATION:3 к. 215
END:VEVENT
END:VCALENDAR