BEGIN:VCALENDAR
VERSION:2.0
PRODID:-//spbstu.ru//ical//RU
NAME:Расписание группы 5130904/40005
X-WR-CALNAME:Расписание группы 5130904/40005
TIMEZONE-ID:Europe/Moscow
X-WR-TIMEZONE:Europe/Moscow
BEGIN:VEVENT
UID:mg3o@192.168.245.71:3006
SEQUENCE:0
DTSTAMP:20260420T210752Z
DTSTART:20260420T090000Z
DTEND:20260420T104000Z
SUMMARY:Архитектура компьютера
LOCATION:3 к. 201
END:VEVENT
BEGIN:VEVENT
UID:3lzd@192.168.245.71:3006
SEQUENCE:0
DTSTAMP:20260420T210752Z
DTSTART:20260420T110000Z
DTEND:20260420T124000Z
SUMMARY:Цифровая аналитика
LOCATION:3 к. 111
END:VEVENT
BEGIN:VEVENT
UID:lr2j@192.168.245.71:3006
SEQUENCE:0
DTSTAMP:20260420T210752Z
DTSTART:20260420T130000Z
DTEND:20260420T144000Z
SUMMARY:Математическое моделирование
LOCATION:ГЗ 237
END:VEVENT
BEGIN:VEVENT
UID:w7r8@192.168.245.71:3006
SEQUENCE:0
DTSTAMP:20260420T210752Z
DTSTART:20260421T090000Z
DTEND:20260421T104000Z
SUMMARY:Иностранный язык. Профессионально-ориентированный курс
LOCATION:11 к. 309
END:VEVENT
BEGIN:VEVENT
UID:2lgo@192.168.245.71:3006
SEQUENCE:0
DTSTAMP:20260420T210752Z
DTSTART:20260421T130000Z
DTEND:20260421T144000Z
SUMMARY:Дискретная математика
LOCATION:ГЗ 237
END:VEVENT
BEGIN:VEVENT
UID:yyhh@192.168.245.71:3006
SEQUENCE:0
DTSTAMP:20260420T210752Z
DTSTART:20260422T050000Z
DTEND:20260422T064000Z
SUMMARY:Цифровая аналитика
LOCATION:3 к. 201
END:VEVENT
BEGIN:VEVENT
UID:t8wy@192.168.245.71:3006
SEQUENCE:0
DTSTAMP:20260420T210752Z
DTSTART:20260422T090000Z
DTEND:20260422T104000Z
SUMMARY:Дискретная математика
LOCATION:3 к. 217
END:VEVENT
BEGIN:VEVENT
UID:ot42@192.168.245.71:3006
SEQUENCE:0
DTSTAMP:20260420T210752Z
DTSTART:20260422T110000Z
DTEND:20260422T124000Z
SUMMARY:Элективная физическая культура и спорт
LOCATION:СК Секции
END:VEVENT
BEGIN:VEVENT
UID:gw9y@192.168.245.71:3006
SEQUENCE:0
DTSTAMP:20260420T210752Z
DTSTART:20260422T130000Z
DTEND:20260422T144000Z
SUMMARY:Языки моделирования и описания цифровой аппаратуры
LOCATION:3 к. 215
END:VEVENT
BEGIN:VEVENT
UID:j9e6@192.168.245.71:3006
SEQUENCE:0
DTSTAMP:20260420T210752Z
DTSTART:20260423T050000Z
DTEND:20260423T064000Z
SUMMARY:Теория вероятностей и математическая статистика
LOCATION:3 к. 107
END:VEVENT
BEGIN:VEVENT
UID:j4yq@192.168.245.71:3006
SEQUENCE:0
DTSTAMP:20260420T210752Z
DTSTART:20260423T070000Z
DTEND:20260423T084000Z
SUMMARY:Вычислительная математика
LOCATION:ГЗ 237
END:VEVENT
BEGIN:VEVENT
UID:3d0l@192.168.245.71:3006
SEQUENCE:0
DTSTAMP:20260420T210752Z
DTSTART:20260423T090000Z
DTEND:20260423T104000Z
SUMMARY:Вычислительная математика
LOCATION:3 к. 110
END:VEVENT
BEGIN:VEVENT
UID:9rpj@192.168.245.71:3006
SEQUENCE:0
DTSTAMP:20260420T210752Z
DTSTART:20260423T110000Z
DTEND:20260423T124000Z
SUMMARY:Языки моделирования и описания цифровой аппаратуры
LOCATION:3 к. 203
END:VEVENT
BEGIN:VEVENT
UID:wp3q@192.168.245.71:3006
SEQUENCE:0
DTSTAMP:20260420T210752Z
DTSTART:20260424T090000Z
DTEND:20260424T104000Z
SUMMARY:Математическое моделирование
LOCATION:DL Дистанционно
END:VEVENT
BEGIN:VEVENT
UID:ia5b@192.168.245.71:3006
SEQUENCE:0
DTSTAMP:20260420T210752Z
DTSTART:20260424T110000Z
DTEND:20260424T124000Z
SUMMARY:Объектно-ориентированное программирование
LOCATION:ГЗ 237
END:VEVENT
BEGIN:VEVENT
UID:sfoh@192.168.245.71:3006
SEQUENCE:0
DTSTAMP:20260420T210752Z
DTSTART:20260424T130000Z
DTEND:20260424T144000Z
SUMMARY:Теория вероятностей и математическая статистика
LOCATION:3 к. 215
END:VEVENT
BEGIN:VEVENT
UID:ghzn@192.168.245.71:3006
SEQUENCE:0
DTSTAMP:20260420T210752Z
DTSTART:20260425T070000Z
DTEND:20260425T084000Z
SUMMARY:Объектно-ориентированное программирование
LOCATION:3 к. 103
END:VEVENT
BEGIN:VEVENT
UID:z1mk@192.168.245.71:3006
SEQUENCE:0
DTSTAMP:20260420T210752Z
DTSTART:20260425T090000Z
DTEND:20260425T104000Z
SUMMARY:Элективная физическая культура и спорт
LOCATION:СК Секции
END:VEVENT
END:VCALENDAR