BEGIN:VCALENDAR
VERSION:2.0
PRODID:-//spbstu.ru//ical//RU
NAME:Расписание группы 5130904/40005
X-WR-CALNAME:Расписание группы 5130904/40005
TIMEZONE-ID:Europe/Moscow
X-WR-TIMEZONE:Europe/Moscow
BEGIN:VEVENT
UID:79uj@192.168.245.71:3006
SEQUENCE:0
DTSTAMP:20260421T055050Z
DTSTART:20260518T090000Z
DTEND:20260518T104000Z
SUMMARY:Архитектура компьютера
LOCATION:3 к. 201
END:VEVENT
BEGIN:VEVENT
UID:2dby@192.168.245.71:3006
SEQUENCE:0
DTSTAMP:20260421T055050Z
DTSTART:20260518T110000Z
DTEND:20260518T124000Z
SUMMARY:Цифровая аналитика
LOCATION:3 к. 111
END:VEVENT
BEGIN:VEVENT
UID:6ixg@192.168.245.71:3006
SEQUENCE:0
DTSTAMP:20260421T055050Z
DTSTART:20260518T130000Z
DTEND:20260518T144000Z
SUMMARY:Математическое моделирование
LOCATION:ГЗ 237
END:VEVENT
BEGIN:VEVENT
UID:60b5@192.168.245.71:3006
SEQUENCE:0
DTSTAMP:20260421T055050Z
DTSTART:20260520T110000Z
DTEND:20260520T124000Z
SUMMARY:Элективная физическая культура и спорт
LOCATION:СК Секции
END:VEVENT
BEGIN:VEVENT
UID:tqaa@192.168.245.71:3006
SEQUENCE:0
DTSTAMP:20260421T055050Z
DTSTART:20260521T050000Z
DTEND:20260521T064000Z
SUMMARY:Теория вероятностей и математическая статистика
LOCATION:3 к. 107
END:VEVENT
BEGIN:VEVENT
UID:ju7d@192.168.245.71:3006
SEQUENCE:0
DTSTAMP:20260421T055050Z
DTSTART:20260521T070000Z
DTEND:20260521T084000Z
SUMMARY:Математическое моделирование
LOCATION:ГЗ 237
END:VEVENT
BEGIN:VEVENT
UID:ybzn@192.168.245.71:3006
SEQUENCE:0
DTSTAMP:20260421T055050Z
DTSTART:20260521T090000Z
DTEND:20260521T104000Z
SUMMARY:Языки моделирования и описания цифровой аппаратуры
LOCATION:3 к. 202
END:VEVENT
BEGIN:VEVENT
UID:x8jk@192.168.245.71:3006
SEQUENCE:0
DTSTAMP:20260421T055050Z
DTSTART:20260522T090000Z
DTEND:20260522T104000Z
SUMMARY:Математическое моделирование
LOCATION:DL Дистанционно
END:VEVENT
BEGIN:VEVENT
UID:s5dr@192.168.245.71:3006
SEQUENCE:0
DTSTAMP:20260421T055050Z
DTSTART:20260522T130000Z
DTEND:20260522T144000Z
SUMMARY:Теория вероятностей и математическая статистика
LOCATION:3 к. 215
END:VEVENT
BEGIN:VEVENT
UID:b1rr@192.168.245.71:3006
SEQUENCE:0
DTSTAMP:20260421T055050Z
DTSTART:20260523T070000Z
DTEND:20260523T084000Z
SUMMARY:Объектно-ориентированное программирование
LOCATION:3 к. 105
END:VEVENT
END:VCALENDAR