BEGIN:VCALENDAR
VERSION:2.0
PRODID:-//spbstu.ru//ical//RU
NAME:Расписание группы 5131001/40001
X-WR-CALNAME:Расписание группы 5131001/40001
TIMEZONE-ID:Europe/Moscow
X-WR-TIMEZONE:Europe/Moscow
BEGIN:VEVENT
UID:815w@192.168.245.71:3006
SEQUENCE:0
DTSTAMP:20260423T000307Z
DTSTART:20251201T060000Z
DTEND:20251201T084000Z
SUMMARY:Высшая математика
LOCATION:3 к. 201
END:VEVENT
BEGIN:VEVENT
UID:3zmq@192.168.245.71:3006
SEQUENCE:0
DTSTAMP:20260423T000307Z
DTSTART:20251201T060000Z
DTEND:20251201T083500Z
SUMMARY:Высшая математика
LOCATION:ГЗ 237
END:VEVENT
BEGIN:VEVENT
UID:5r6h@192.168.245.71:3006
SEQUENCE:0
DTSTAMP:20260423T000307Z
DTSTART:20251201T090000Z
DTEND:20251201T104000Z
SUMMARY:Высшая математика
LOCATION:3 к. 204
END:VEVENT
BEGIN:VEVENT
UID:zmi0@192.168.245.71:3006
SEQUENCE:0
DTSTAMP:20260423T000307Z
DTSTART:20251201T090000Z
DTEND:20251201T104000Z
SUMMARY:Высшая математика
LOCATION:ГЗ 209
END:VEVENT
BEGIN:VEVENT
UID:lvt2@192.168.245.71:3006
SEQUENCE:0
DTSTAMP:20260423T000307Z
DTSTART:20251202T070000Z
DTEND:20251202T084000Z
SUMMARY:Электроника и схемотехника
LOCATION:ГЗ 235
END:VEVENT
BEGIN:VEVENT
UID:s54m@192.168.245.71:3006
SEQUENCE:0
DTSTAMP:20260423T000307Z
DTSTART:20251202T090000Z
DTEND:20251202T104000Z
SUMMARY:Операционные системы
LOCATION:ГЗ 235
END:VEVENT
BEGIN:VEVENT
UID:le6o@192.168.245.71:3006
SEQUENCE:0
DTSTAMP:20260423T000307Z
DTSTART:20251202T110000Z
DTEND:20251202T124000Z
SUMMARY:История России
LOCATION:3 к. 503
END:VEVENT
BEGIN:VEVENT
UID:ai2f@192.168.245.71:3006
SEQUENCE:0
DTSTAMP:20260423T000307Z
DTSTART:20251202T130000Z
DTEND:20251202T144000Z
SUMMARY:Иностранный язык: Базовый курс
LOCATION:3 к. 208
END:VEVENT
BEGIN:VEVENT
UID:px9w@192.168.245.71:3006
SEQUENCE:0
DTSTAMP:20260423T000307Z
DTSTART:20251203T090000Z
DTEND:20251203T104000Z
SUMMARY:Операционные системы
LOCATION:ГЗ 170 А
END:VEVENT
BEGIN:VEVENT
UID:m5kj@192.168.245.71:3006
SEQUENCE:0
DTSTAMP:20260423T000307Z
DTSTART:20251203T110000Z
DTEND:20251203T124000Z
SUMMARY:Элективная физическая культура и спорт
LOCATION:СК Секции
END:VEVENT
BEGIN:VEVENT
UID:g1gr@192.168.245.71:3006
SEQUENCE:0
DTSTAMP:20260423T000307Z
DTSTART:20251203T130000Z
DTEND:20251203T144000Z
SUMMARY:Модуль саморазвития (SoftSkills)
LOCATION:Не опр. Нет
END:VEVENT
BEGIN:VEVENT
UID:3ukc@192.168.245.71:3006
SEQUENCE:0
DTSTAMP:20260423T000307Z
DTSTART:20251204T110000Z
DTEND:20251204T124000Z
SUMMARY:Теория вероятностей и математическая статистика
LOCATION:ГЗ 235
END:VEVENT
BEGIN:VEVENT
UID:kb59@192.168.245.71:3006
SEQUENCE:0
DTSTAMP:20260423T000307Z
DTSTART:20251204T130000Z
DTEND:20251204T144000Z
SUMMARY:Теория вероятностей и математическая статистика
LOCATION:ГЗ 235
END:VEVENT
BEGIN:VEVENT
UID:pe1v@192.168.245.71:3006
SEQUENCE:0
DTSTAMP:20260423T000307Z
DTSTART:20251206T070000Z
DTEND:20251206T084000Z
SUMMARY:История России
LOCATION:ГЗ 237
END:VEVENT
BEGIN:VEVENT
UID:oa98@192.168.245.71:3006
SEQUENCE:0
DTSTAMP:20260423T000307Z
DTSTART:20251206T090000Z
DTEND:20251206T104000Z
SUMMARY:Элективная физическая культура и спорт
LOCATION:СК Секции
END:VEVENT
END:VCALENDAR