BEGIN:VCALENDAR
VERSION:2.0
PRODID:-//spbstu.ru//ical//RU
NAME:Расписание группы 5131001/40001
X-WR-CALNAME:Расписание группы 5131001/40001
TIMEZONE-ID:Europe/Moscow
X-WR-TIMEZONE:Europe/Moscow
BEGIN:VEVENT
UID:n1pc@192.168.245.71:3006
SEQUENCE:0
DTSTAMP:20260424T061439Z
DTSTART:20250922T060000Z
DTEND:20250922T084000Z
SUMMARY:Высшая математика
LOCATION:3 к. 201
END:VEVENT
BEGIN:VEVENT
UID:d1re@192.168.245.71:3006
SEQUENCE:0
DTSTAMP:20260424T061439Z
DTSTART:20250922T060000Z
DTEND:20250922T083500Z
SUMMARY:Высшая математика
LOCATION:ГЗ 237
END:VEVENT
BEGIN:VEVENT
UID:cyy1@192.168.245.71:3006
SEQUENCE:0
DTSTAMP:20260424T061439Z
DTSTART:20250922T090000Z
DTEND:20250922T104000Z
SUMMARY:Высшая математика
LOCATION:3 к. 204
END:VEVENT
BEGIN:VEVENT
UID:ou2z@192.168.245.71:3006
SEQUENCE:0
DTSTAMP:20260424T061439Z
DTSTART:20250922T090000Z
DTEND:20250922T104000Z
SUMMARY:Высшая математика
LOCATION:ГЗ 209
END:VEVENT
BEGIN:VEVENT
UID:07bi@192.168.245.71:3006
SEQUENCE:0
DTSTAMP:20260424T061439Z
DTSTART:20250923T070000Z
DTEND:20250923T084000Z
SUMMARY:Электроника и схемотехника
LOCATION:ГЗ 235
END:VEVENT
BEGIN:VEVENT
UID:cuwn@192.168.245.71:3006
SEQUENCE:0
DTSTAMP:20260424T061439Z
DTSTART:20250923T090000Z
DTEND:20250923T104000Z
SUMMARY:Операционные системы
LOCATION:ГЗ 235
END:VEVENT
BEGIN:VEVENT
UID:pkks@192.168.245.71:3006
SEQUENCE:0
DTSTAMP:20260424T061439Z
DTSTART:20250923T110000Z
DTEND:20250923T124000Z
SUMMARY:История России
LOCATION:3 к. 503
END:VEVENT
BEGIN:VEVENT
UID:mmv4@192.168.245.71:3006
SEQUENCE:0
DTSTAMP:20260424T061439Z
DTSTART:20250923T130000Z
DTEND:20250923T144000Z
SUMMARY:Иностранный язык: Базовый курс
LOCATION:3 к. 208
END:VEVENT
BEGIN:VEVENT
UID:4uto@192.168.245.71:3006
SEQUENCE:0
DTSTAMP:20260424T061439Z
DTSTART:20250924T070000Z
DTEND:20250924T084000Z
SUMMARY:Электроника и схемотехника
LOCATION:ГЗ 171
END:VEVENT
BEGIN:VEVENT
UID:z7pd@192.168.245.71:3006
SEQUENCE:0
DTSTAMP:20260424T061439Z
DTSTART:20250924T090000Z
DTEND:20250924T104000Z
SUMMARY:Операционные системы
LOCATION:ГЗ 170 А
END:VEVENT
BEGIN:VEVENT
UID:1gpl@192.168.245.71:3006
SEQUENCE:0
DTSTAMP:20260424T061439Z
DTSTART:20250924T110000Z
DTEND:20250924T124000Z
SUMMARY:Элективная физическая культура и спорт
LOCATION:СК Секции
END:VEVENT
BEGIN:VEVENT
UID:c6fv@192.168.245.71:3006
SEQUENCE:0
DTSTAMP:20260424T061439Z
DTSTART:20250924T130000Z
DTEND:20250924T144000Z
SUMMARY:Модуль саморазвития (SoftSkills)
LOCATION:Не опр. Нет
END:VEVENT
BEGIN:VEVENT
UID:tc7c@192.168.245.71:3006
SEQUENCE:0
DTSTAMP:20260424T061439Z
DTSTART:20250925T110000Z
DTEND:20250925T124000Z
SUMMARY:Электроника и схемотехника
LOCATION:ГЗ 235
END:VEVENT
BEGIN:VEVENT
UID:2qux@192.168.245.71:3006
SEQUENCE:0
DTSTAMP:20260424T061439Z
DTSTART:20250925T130000Z
DTEND:20250925T144000Z
SUMMARY:Языки программирования
LOCATION:ГЗ 235
END:VEVENT
BEGIN:VEVENT
UID:2fpe@192.168.245.71:3006
SEQUENCE:0
DTSTAMP:20260424T061439Z
DTSTART:20250927T070000Z
DTEND:20250927T084000Z
SUMMARY:История России
LOCATION:ГЗ 237
END:VEVENT
BEGIN:VEVENT
UID:ls5p@192.168.245.71:3006
SEQUENCE:0
DTSTAMP:20260424T061439Z
DTSTART:20250927T090000Z
DTEND:20250927T104000Z
SUMMARY:Элективная физическая культура и спорт
LOCATION:СК Секции
END:VEVENT
END:VCALENDAR