BEGIN:VCALENDAR
VERSION:2.0
PRODID:-//spbstu.ru//ical//RU
NAME:Расписание группы 5131001/40004
X-WR-CALNAME:Расписание группы 5131001/40004
TIMEZONE-ID:Europe/Moscow
X-WR-TIMEZONE:Europe/Moscow
BEGIN:VEVENT
UID:l4n3@192.168.245.71:3006
SEQUENCE:0
DTSTAMP:20260425T020354Z
DTSTART:20251006T060000Z
DTEND:20251006T084000Z
SUMMARY:Высшая математика
LOCATION:3 к. 201
END:VEVENT
BEGIN:VEVENT
UID:pwf0@192.168.245.71:3006
SEQUENCE:0
DTSTAMP:20260425T020354Z
DTSTART:20251006T060000Z
DTEND:20251006T083500Z
SUMMARY:Высшая математика
LOCATION:ГЗ 237
END:VEVENT
BEGIN:VEVENT
UID:phy5@192.168.245.71:3006
SEQUENCE:0
DTSTAMP:20260425T020354Z
DTSTART:20251006T090000Z
DTEND:20251006T104000Z
SUMMARY:Высшая математика
LOCATION:3 к. 204
END:VEVENT
BEGIN:VEVENT
UID:n9gi@192.168.245.71:3006
SEQUENCE:0
DTSTAMP:20260425T020354Z
DTSTART:20251006T110000Z
DTEND:20251006T124000Z
SUMMARY:Высшая математика
LOCATION:ГЗ 209
END:VEVENT
BEGIN:VEVENT
UID:tvnz@192.168.245.71:3006
SEQUENCE:0
DTSTAMP:20260425T020354Z
DTSTART:20251006T130000Z
DTEND:20251006T144000Z
SUMMARY:Операционные системы
LOCATION:ГЗ 103
END:VEVENT
BEGIN:VEVENT
UID:iw54@192.168.245.71:3006
SEQUENCE:0
DTSTAMP:20260425T020354Z
DTSTART:20251007T070000Z
DTEND:20251007T084000Z
SUMMARY:Электроника и схемотехника
LOCATION:ГЗ 235
END:VEVENT
BEGIN:VEVENT
UID:tiyh@192.168.245.71:3006
SEQUENCE:0
DTSTAMP:20260425T020354Z
DTSTART:20251007T110000Z
DTEND:20251007T124000Z
SUMMARY:Безопасность жизнедеятельности
LOCATION:ГК 104
END:VEVENT
BEGIN:VEVENT
UID:7gk0@192.168.245.71:3006
SEQUENCE:0
DTSTAMP:20260425T020354Z
DTSTART:20251007T130000Z
DTEND:20251007T144000Z
SUMMARY:Электроника и схемотехника
LOCATION:ГЗ 171
END:VEVENT
BEGIN:VEVENT
UID:nmyw@192.168.245.71:3006
SEQUENCE:0
DTSTAMP:20260425T020354Z
DTSTART:20251008T070000Z
DTEND:20251008T084000Z
SUMMARY:Языки программирования
LOCATION:3 к. 207
END:VEVENT
BEGIN:VEVENT
UID:4kk8@192.168.245.71:3006
SEQUENCE:0
DTSTAMP:20260425T020354Z
DTSTART:20251008T090000Z
DTEND:20251008T104000Z
SUMMARY:Иностранный язык: Базовый курс
LOCATION:3 к. 207
END:VEVENT
BEGIN:VEVENT
UID:9y5z@192.168.245.71:3006
SEQUENCE:0
DTSTAMP:20260425T020354Z
DTSTART:20251008T110000Z
DTEND:20251008T124000Z
SUMMARY:Элективная физическая культура и спорт
LOCATION:СК Секции
END:VEVENT
BEGIN:VEVENT
UID:tb7h@192.168.245.71:3006
SEQUENCE:0
DTSTAMP:20260425T020354Z
DTSTART:20251008T130000Z
DTEND:20251008T144000Z
SUMMARY:Модуль саморазвития (SoftSkills)
LOCATION:Не опр. Нет
END:VEVENT
BEGIN:VEVENT
UID:u7c7@192.168.245.71:3006
SEQUENCE:0
DTSTAMP:20260425T020354Z
DTSTART:20251009T110000Z
DTEND:20251009T124000Z
SUMMARY:Теория вероятностей и математическая статистика
LOCATION:ГЗ 235
END:VEVENT
BEGIN:VEVENT
UID:2sq7@192.168.245.71:3006
SEQUENCE:0
DTSTAMP:20260425T020354Z
DTSTART:20251009T130000Z
DTEND:20251009T144000Z
SUMMARY:Языки программирования
LOCATION:ГЗ 235
END:VEVENT
BEGIN:VEVENT
UID:a7tl@192.168.245.71:3006
SEQUENCE:0
DTSTAMP:20260425T020354Z
DTSTART:20251011T070000Z
DTEND:20251011T084000Z
SUMMARY:История России
LOCATION:ГЗ 237
END:VEVENT
BEGIN:VEVENT
UID:58ch@192.168.245.71:3006
SEQUENCE:0
DTSTAMP:20260425T020354Z
DTSTART:20251011T090000Z
DTEND:20251011T104000Z
SUMMARY:Элективная физическая культура и спорт
LOCATION:СК Секции
END:VEVENT
END:VCALENDAR