BEGIN:VCALENDAR
VERSION:2.0
PRODID:-//spbstu.ru//ical//RU
NAME:Расписание группы 5131001/40004
X-WR-CALNAME:Расписание группы 5131001/40004
TIMEZONE-ID:Europe/Moscow
X-WR-TIMEZONE:Europe/Moscow
BEGIN:VEVENT
UID:jr3m@192.168.245.71:3006
SEQUENCE:0
DTSTAMP:20260425T194128Z
DTSTART:20250915T060000Z
DTEND:20250915T084000Z
SUMMARY:Высшая математика
LOCATION:3 к. 201
END:VEVENT
BEGIN:VEVENT
UID:5qqf@192.168.245.71:3006
SEQUENCE:0
DTSTAMP:20260425T194128Z
DTSTART:20250915T060000Z
DTEND:20250915T083500Z
SUMMARY:Высшая математика
LOCATION:ГЗ 237
END:VEVENT
BEGIN:VEVENT
UID:z6w7@192.168.245.71:3006
SEQUENCE:0
DTSTAMP:20260425T194128Z
DTSTART:20250915T090000Z
DTEND:20250915T104000Z
SUMMARY:Высшая математика
LOCATION:3 к. 204
END:VEVENT
BEGIN:VEVENT
UID:m60o@192.168.245.71:3006
SEQUENCE:0
DTSTAMP:20260425T194128Z
DTSTART:20250915T110000Z
DTEND:20250915T124000Z
SUMMARY:Высшая математика
LOCATION:ГЗ 209
END:VEVENT
BEGIN:VEVENT
UID:xhok@192.168.245.71:3006
SEQUENCE:0
DTSTAMP:20260425T194128Z
DTSTART:20250915T130000Z
DTEND:20250915T144000Z
SUMMARY:Операционные системы
LOCATION:ГЗ 103
END:VEVENT
BEGIN:VEVENT
UID:i5m3@192.168.245.71:3006
SEQUENCE:0
DTSTAMP:20260425T194128Z
DTSTART:20250916T070000Z
DTEND:20250916T084000Z
SUMMARY:Электроника и схемотехника
LOCATION:ГЗ 235
END:VEVENT
BEGIN:VEVENT
UID:nztz@192.168.245.71:3006
SEQUENCE:0
DTSTAMP:20260425T194128Z
DTSTART:20250916T090000Z
DTEND:20250916T104000Z
SUMMARY:Операционные системы
LOCATION:ГЗ 235
END:VEVENT
BEGIN:VEVENT
UID:q2hh@192.168.245.71:3006
SEQUENCE:0
DTSTAMP:20260425T194128Z
DTSTART:20250916T110000Z
DTEND:20250916T124000Z
SUMMARY:История России
LOCATION:3 к. 504
END:VEVENT
BEGIN:VEVENT
UID:buwz@192.168.245.71:3006
SEQUENCE:0
DTSTAMP:20260425T194128Z
DTSTART:20250916T130000Z
DTEND:20250916T144000Z
SUMMARY:Электроника и схемотехника
LOCATION:ГЗ 171
END:VEVENT
BEGIN:VEVENT
UID:g8tc@192.168.245.71:3006
SEQUENCE:0
DTSTAMP:20260425T194128Z
DTSTART:20250917T090000Z
DTEND:20250917T104000Z
SUMMARY:Иностранный язык: Базовый курс
LOCATION:3 к. 207
END:VEVENT
BEGIN:VEVENT
UID:gy6j@192.168.245.71:3006
SEQUENCE:0
DTSTAMP:20260425T194128Z
DTSTART:20250917T110000Z
DTEND:20250917T124000Z
SUMMARY:Элективная физическая культура и спорт
LOCATION:СК Секции
END:VEVENT
BEGIN:VEVENT
UID:8hl1@192.168.245.71:3006
SEQUENCE:0
DTSTAMP:20260425T194128Z
DTSTART:20250917T130000Z
DTEND:20250917T144000Z
SUMMARY:Модуль саморазвития (SoftSkills)
LOCATION:Не опр. Нет
END:VEVENT
BEGIN:VEVENT
UID:imm3@192.168.245.71:3006
SEQUENCE:0
DTSTAMP:20260425T194128Z
DTSTART:20250918T070000Z
DTEND:20250918T084000Z
SUMMARY:Теория вероятностей и математическая статистика
LOCATION:ГЗ 103
END:VEVENT
BEGIN:VEVENT
UID:9ery@192.168.245.71:3006
SEQUENCE:0
DTSTAMP:20260425T194128Z
DTSTART:20250918T110000Z
DTEND:20250918T124000Z
SUMMARY:Теория вероятностей и математическая статистика
LOCATION:ГЗ 235
END:VEVENT
BEGIN:VEVENT
UID:obpf@192.168.245.71:3006
SEQUENCE:0
DTSTAMP:20260425T194128Z
DTSTART:20250918T130000Z
DTEND:20250918T144000Z
SUMMARY:Языки программирования
LOCATION:ГЗ 235
END:VEVENT
BEGIN:VEVENT
UID:y857@192.168.245.71:3006
SEQUENCE:0
DTSTAMP:20260425T194128Z
DTSTART:20250920T090000Z
DTEND:20250920T104000Z
SUMMARY:Элективная физическая культура и спорт
LOCATION:СК Секции
END:VEVENT
END:VCALENDAR