BEGIN:VCALENDAR
VERSION:2.0
PRODID:-//spbstu.ru//ical//RU
NAME:Расписание группы 5131001/40004
X-WR-CALNAME:Расписание группы 5131001/40004
TIMEZONE-ID:Europe/Moscow
X-WR-TIMEZONE:Europe/Moscow
BEGIN:VEVENT
UID:02ea@192.168.245.71:3006
SEQUENCE:0
DTSTAMP:20260423T043352Z
DTSTART:20260110T070000Z
DTEND:20260110T102000Z
SUMMARY:Иностранный язык: Базовый курс
LOCATION:ГЗ 108
END:VEVENT
END:VCALENDAR