BEGIN:VCALENDAR
VERSION:2.0
PRODID:-//spbstu.ru//ical//RU
NAME:Расписание группы 5131001/40004
X-WR-CALNAME:Расписание группы 5131001/40004
TIMEZONE-ID:Europe/Moscow
X-WR-TIMEZONE:Europe/Moscow
BEGIN:VEVENT
UID:d9hq@192.168.245.71:3006
SEQUENCE:0
DTSTAMP:20260422T050612Z
DTSTART:20260224T090000Z
DTEND:20260224T104000Z
SUMMARY:Математическая логика и теория алгоритмов
LOCATION:3 к. 307
END:VEVENT
BEGIN:VEVENT
UID:fdpk@192.168.245.71:3006
SEQUENCE:0
DTSTAMP:20260422T050612Z
DTSTART:20260224T110000Z
DTEND:20260224T124000Z
SUMMARY:Дискретная математика
LOCATION:ГЗ 165
END:VEVENT
BEGIN:VEVENT
UID:w3qv@192.168.245.71:3006
SEQUENCE:0
DTSTAMP:20260422T050612Z
DTSTART:20260224T130000Z
DTEND:20260224T144000Z
SUMMARY:Аппаратные средства вычислительной техники
LOCATION:ГЗ 170 А
END:VEVENT
BEGIN:VEVENT
UID:f6as@192.168.245.71:3006
SEQUENCE:0
DTSTAMP:20260422T050612Z
DTSTART:20260224T150000Z
DTEND:20260224T164000Z
SUMMARY:Электроника и схемотехника
LOCATION:ГЗ 170 Б
END:VEVENT
BEGIN:VEVENT
UID:r9tq@192.168.245.71:3006
SEQUENCE:0
DTSTAMP:20260422T050612Z
DTSTART:20260224T150000Z
DTEND:20260224T164000Z
SUMMARY:Теория вероятностей и математическая статистика
LOCATION:ГЗ 103
END:VEVENT
BEGIN:VEVENT
UID:5wrf@192.168.245.71:3006
SEQUENCE:0
DTSTAMP:20260422T050612Z
DTSTART:20260225T070000Z
DTEND:20260225T084000Z
SUMMARY:Дискретная математика
LOCATION:ГЗ 305
END:VEVENT
BEGIN:VEVENT
UID:sqio@192.168.245.71:3006
SEQUENCE:0
DTSTAMP:20260422T050612Z
DTSTART:20260225T090000Z
DTEND:20260225T104000Z
SUMMARY:Математическая логика и теория алгоритмов
LOCATION:ГЗ 215
END:VEVENT
BEGIN:VEVENT
UID:5opt@192.168.245.71:3006
SEQUENCE:0
DTSTAMP:20260422T050612Z
DTSTART:20260225T110000Z
DTEND:20260225T124000Z
SUMMARY:Элективная физическая культура и спорт
LOCATION:СК Секции
END:VEVENT
BEGIN:VEVENT
UID:lus9@192.168.245.71:3006
SEQUENCE:0
DTSTAMP:20260422T050612Z
DTSTART:20260226T090000Z
DTEND:20260226T104000Z
SUMMARY:Иностранный язык. Профессионально-ориентированный курс
LOCATION:ГЗ 239
END:VEVENT
BEGIN:VEVENT
UID:bvh6@192.168.245.71:3006
SEQUENCE:0
DTSTAMP:20260422T050612Z
DTSTART:20260226T110000Z
DTEND:20260226T124000Z
SUMMARY:Теория вероятностей и математическая статистика
LOCATION:ГЗ 237
END:VEVENT
BEGIN:VEVENT
UID:84h4@192.168.245.71:3006
SEQUENCE:0
DTSTAMP:20260422T050612Z
DTSTART:20260226T130000Z
DTEND:20260226T144000Z
SUMMARY:Языки программирования
LOCATION:11 к. 309
END:VEVENT
BEGIN:VEVENT
UID:m8tt@192.168.245.71:3006
SEQUENCE:0
DTSTAMP:20260422T050612Z
DTSTART:20260228T070000Z
DTEND:20260228T084000Z
SUMMARY:Элективная физическая культура и спорт
LOCATION:СК Секции
END:VEVENT
BEGIN:VEVENT
UID:baho@192.168.245.71:3006
SEQUENCE:0
DTSTAMP:20260422T050612Z
DTSTART:20260228T090000Z
DTEND:20260228T104000Z
SUMMARY:Элективная физическая культура и спорт
LOCATION:СК Секции
END:VEVENT
BEGIN:VEVENT
UID:e9yr@192.168.245.71:3006
SEQUENCE:0
DTSTAMP:20260422T050612Z
DTSTART:20260228T130000Z
DTEND:20260228T144000Z
SUMMARY:Модуль саморазвития (SoftSkills)
LOCATION:Не опр. Нет
END:VEVENT
END:VCALENDAR