BEGIN:VCALENDAR
VERSION:2.0
PRODID:-//spbstu.ru//ical//RU
NAME:Расписание группы 5131001/40004
X-WR-CALNAME:Расписание группы 5131001/40004
TIMEZONE-ID:Europe/Moscow
X-WR-TIMEZONE:Europe/Moscow
BEGIN:VEVENT
UID:8mkz@192.168.245.71:3006
SEQUENCE:0
DTSTAMP:20260421T184450Z
DTSTART:20260310T070000Z
DTEND:20260310T084000Z
SUMMARY:Операционные системы
LOCATION:3 к. 305
END:VEVENT
BEGIN:VEVENT
UID:2s39@192.168.245.71:3006
SEQUENCE:0
DTSTAMP:20260421T184450Z
DTSTART:20260310T090000Z
DTEND:20260310T104000Z
SUMMARY:Математическая логика и теория алгоритмов
LOCATION:3 к. 307
END:VEVENT
BEGIN:VEVENT
UID:6zv8@192.168.245.71:3006
SEQUENCE:0
DTSTAMP:20260421T184450Z
DTSTART:20260310T110000Z
DTEND:20260310T124000Z
SUMMARY:Дискретная математика
LOCATION:ГЗ 165
END:VEVENT
BEGIN:VEVENT
UID:4e9n@192.168.245.71:3006
SEQUENCE:0
DTSTAMP:20260421T184450Z
DTSTART:20260310T130000Z
DTEND:20260310T144000Z
SUMMARY:Аппаратные средства вычислительной техники
LOCATION:ГЗ 170 А
END:VEVENT
BEGIN:VEVENT
UID:hbzx@192.168.245.71:3006
SEQUENCE:0
DTSTAMP:20260421T184450Z
DTSTART:20260310T150000Z
DTEND:20260310T153000Z
SUMMARY:Безопасность жизнедеятельности
LOCATION:ГК 119
END:VEVENT
BEGIN:VEVENT
UID:1ial@192.168.245.71:3006
SEQUENCE:0
DTSTAMP:20260421T184450Z
DTSTART:20260311T070000Z
DTEND:20260311T084000Z
SUMMARY:Дискретная математика
LOCATION:ГЗ 305
END:VEVENT
BEGIN:VEVENT
UID:i7fa@192.168.245.71:3006
SEQUENCE:0
DTSTAMP:20260421T184450Z
DTSTART:20260311T090000Z
DTEND:20260311T104000Z
SUMMARY:Математическая логика и теория алгоритмов
LOCATION:ГЗ 215
END:VEVENT
BEGIN:VEVENT
UID:2jit@192.168.245.71:3006
SEQUENCE:0
DTSTAMP:20260421T184450Z
DTSTART:20260311T110000Z
DTEND:20260311T124000Z
SUMMARY:Элективная физическая культура и спорт
LOCATION:СК Секции
END:VEVENT
BEGIN:VEVENT
UID:jczv@192.168.245.71:3006
SEQUENCE:0
DTSTAMP:20260421T184450Z
DTSTART:20260311T150000Z
DTEND:20260311T153000Z
SUMMARY:История России
LOCATION:3 к. 210
END:VEVENT
BEGIN:VEVENT
UID:5zlz@192.168.245.71:3006
SEQUENCE:0
DTSTAMP:20260421T184450Z
DTSTART:20260312T090000Z
DTEND:20260312T104000Z
SUMMARY:Иностранный язык. Профессионально-ориентированный курс
LOCATION:ГЗ 239
END:VEVENT
BEGIN:VEVENT
UID:5zol@192.168.245.71:3006
SEQUENCE:0
DTSTAMP:20260421T184450Z
DTSTART:20260312T110000Z
DTEND:20260312T124000Z
SUMMARY:Теория вероятностей и математическая статистика
LOCATION:ГЗ 237
END:VEVENT
BEGIN:VEVENT
UID:wdj9@192.168.245.71:3006
SEQUENCE:0
DTSTAMP:20260421T184450Z
DTSTART:20260312T130000Z
DTEND:20260312T144000Z
SUMMARY:Основы проектной деятельности
LOCATION:ГЗ 237
END:VEVENT
BEGIN:VEVENT
UID:d751@192.168.245.71:3006
SEQUENCE:0
DTSTAMP:20260421T184450Z
DTSTART:20260312T144000Z
DTEND:20260312T151000Z
SUMMARY:Операционные системы
LOCATION:ГЗ 170 А
END:VEVENT
BEGIN:VEVENT
UID:9tc0@192.168.245.71:3006
SEQUENCE:0
DTSTAMP:20260421T184450Z
DTSTART:20260314T090000Z
DTEND:20260314T104000Z
SUMMARY:Элективная физическая культура и спорт
LOCATION:СК Секции
END:VEVENT
END:VCALENDAR