BEGIN:VCALENDAR
VERSION:2.0
PRODID:-//spbstu.ru//ical//RU
NAME:Расписание группы 5131001/40004
X-WR-CALNAME:Расписание группы 5131001/40004
TIMEZONE-ID:Europe/Moscow
X-WR-TIMEZONE:Europe/Moscow
BEGIN:VEVENT
UID:ck9i@192.168.245.71:3006
SEQUENCE:0
DTSTAMP:20260421T084814Z
DTSTART:20260504T070000Z
DTEND:20260504T084000Z
SUMMARY:Аппаратные средства вычислительной техники
LOCATION:ГЗ 237
END:VEVENT
BEGIN:VEVENT
UID:s9zt@192.168.245.71:3006
SEQUENCE:0
DTSTAMP:20260421T084814Z
DTSTART:20260504T090000Z
DTEND:20260504T104000Z
SUMMARY:Операционные системы
LOCATION:ГЗ 237
END:VEVENT
BEGIN:VEVENT
UID:424l@192.168.245.71:3006
SEQUENCE:0
DTSTAMP:20260421T084814Z
DTSTART:20260504T110000Z
DTEND:20260504T124000Z
SUMMARY:Операционные системы
LOCATION:ГЗ 207
END:VEVENT
BEGIN:VEVENT
UID:g57p@192.168.245.71:3006
SEQUENCE:0
DTSTAMP:20260421T084814Z
DTSTART:20260504T130000Z
DTEND:20260504T144000Z
SUMMARY:Цифровая аналитика
LOCATION:ГЗ 175
END:VEVENT
BEGIN:VEVENT
UID:nx59@192.168.245.71:3006
SEQUENCE:0
DTSTAMP:20260421T084814Z
DTSTART:20260505T090000Z
DTEND:20260505T104000Z
SUMMARY:Математическая логика и теория алгоритмов
LOCATION:3 к. 307
END:VEVENT
BEGIN:VEVENT
UID:sdx4@192.168.245.71:3006
SEQUENCE:0
DTSTAMP:20260421T084814Z
DTSTART:20260505T110000Z
DTEND:20260505T124000Z
SUMMARY:Дискретная математика
LOCATION:ГЗ 165
END:VEVENT
BEGIN:VEVENT
UID:opxc@192.168.245.71:3006
SEQUENCE:0
DTSTAMP:20260421T084814Z
DTSTART:20260505T130000Z
DTEND:20260505T144000Z
SUMMARY:Аппаратные средства вычислительной техники
LOCATION:ГЗ 170 А
END:VEVENT
BEGIN:VEVENT
UID:kldc@192.168.245.71:3006
SEQUENCE:0
DTSTAMP:20260421T084814Z
DTSTART:20260506T070000Z
DTEND:20260506T084000Z
SUMMARY:Дискретная математика
LOCATION:ГЗ 305
END:VEVENT
BEGIN:VEVENT
UID:0oga@192.168.245.71:3006
SEQUENCE:0
DTSTAMP:20260421T084814Z
DTSTART:20260506T090000Z
DTEND:20260506T104000Z
SUMMARY:Математическая логика и теория алгоритмов
LOCATION:ГЗ 215
END:VEVENT
BEGIN:VEVENT
UID:sae0@192.168.245.71:3006
SEQUENCE:0
DTSTAMP:20260421T084814Z
DTSTART:20260506T110000Z
DTEND:20260506T124000Z
SUMMARY:Элективная физическая культура и спорт
LOCATION:СК Секции
END:VEVENT
BEGIN:VEVENT
UID:lhym@192.168.245.71:3006
SEQUENCE:0
DTSTAMP:20260421T084814Z
DTSTART:20260507T090000Z
DTEND:20260507T104000Z
SUMMARY:Иностранный язык. Профессионально-ориентированный курс
LOCATION:ГЗ 239
END:VEVENT
BEGIN:VEVENT
UID:jqhd@192.168.245.71:3006
SEQUENCE:0
DTSTAMP:20260421T084814Z
DTSTART:20260507T130000Z
DTEND:20260507T144000Z
SUMMARY:Основы проектной деятельности
LOCATION:ГЗ 237
END:VEVENT
END:VCALENDAR