BEGIN:VCALENDAR
VERSION:2.0
PRODID:-//spbstu.ru//ical//RU
NAME:Расписание группы 5132704/40003
X-WR-CALNAME:Расписание группы 5132704/40003
TIMEZONE-ID:Europe/Moscow
X-WR-TIMEZONE:Europe/Moscow
BEGIN:VEVENT
UID:ndv1@192.168.245.71:3006
SEQUENCE:0
DTSTAMP:20260421T061526Z
DTSTART:20260504T070000Z
DTEND:20260504T084000Z
SUMMARY:Вычислительная математика
LOCATION:11 к. 319
END:VEVENT
BEGIN:VEVENT
UID:09ar@192.168.245.71:3006
SEQUENCE:0
DTSTAMP:20260421T061526Z
DTSTART:20260506T090000Z
DTEND:20260506T104000Z
SUMMARY:Информационная электроника
LOCATION:16 к. 414
END:VEVENT
BEGIN:VEVENT
UID:87x6@192.168.245.71:3006
SEQUENCE:0
DTSTAMP:20260421T061526Z
DTSTART:20260506T110000Z
DTEND:20260506T124000Z
SUMMARY:Элективная физическая культура и спорт
LOCATION:СК Секции
END:VEVENT
BEGIN:VEVENT
UID:blht@192.168.245.71:3006
SEQUENCE:0
DTSTAMP:20260421T061526Z
DTSTART:20260507T050000Z
DTEND:20260507T064000Z
SUMMARY:Безопасность жизнедеятельности
LOCATION:ГК 104
END:VEVENT
BEGIN:VEVENT
UID:baz1@192.168.245.71:3006
SEQUENCE:0
DTSTAMP:20260421T061526Z
DTSTART:20260507T090000Z
DTEND:20260507T104000Z
SUMMARY:Иностранный язык. Профессионально-ориентированный курс
LOCATION:ГЗ 208
END:VEVENT
BEGIN:VEVENT
UID:07m7@192.168.245.71:3006
SEQUENCE:0
DTSTAMP:20260421T061526Z
DTSTART:20260507T110000Z
DTEND:20260507T124000Z
SUMMARY:Вычислительная математика
LOCATION:11 к. 330
END:VEVENT
BEGIN:VEVENT
UID:fnfu@192.168.245.71:3006
SEQUENCE:0
DTSTAMP:20260421T061526Z
DTSTART:20260508T070000Z
DTEND:20260508T084000Z
SUMMARY:Электроника систем автоматического управления
LOCATION:16 к. 414
END:VEVENT
BEGIN:VEVENT
UID:yzqr@192.168.245.71:3006
SEQUENCE:0
DTSTAMP:20260421T061526Z
DTSTART:20260508T110000Z
DTEND:20260508T124000Z
SUMMARY:Информационная электроника
LOCATION:16 к. 309
END:VEVENT
BEGIN:VEVENT
UID:rapl@192.168.245.71:3006
SEQUENCE:0
DTSTAMP:20260421T061526Z
DTSTART:20260508T130000Z
DTEND:20260508T144000Z
SUMMARY:Электроника систем автоматического управления
LOCATION:16 к. 310
END:VEVENT
END:VCALENDAR