BEGIN:VCALENDAR
VERSION:2.0
PRODID:-//spbstu.ru//ical//RU
NAME:Расписание группы 5140203/40101
X-WR-CALNAME:Расписание группы 5140203/40101
TIMEZONE-ID:Europe/Moscow
X-WR-TIMEZONE:Europe/Moscow
BEGIN:VEVENT
UID:ftpp@192.168.245.71:3006
SEQUENCE:0
DTSTAMP:20260425T105327Z
DTSTART:20251027T070000Z
DTEND:20251027T084000Z
SUMMARY:Современные компьютерные технологии. Виртуализация серверов
LOCATION:11 к. 341
END:VEVENT
BEGIN:VEVENT
UID:vju7@192.168.245.71:3006
SEQUENCE:0
DTSTAMP:20260425T105327Z
DTSTART:20251027T090000Z
DTEND:20251027T104000Z
SUMMARY:Методы принятия решений
LOCATION:11 к. 220
END:VEVENT
BEGIN:VEVENT
UID:ndkm@192.168.245.71:3006
SEQUENCE:0
DTSTAMP:20260425T105327Z
DTSTART:20251028T070000Z
DTEND:20251028T084000Z
SUMMARY:Современные компьютерные технологии. Виртуализация серверов
LOCATION:11 к. 107
END:VEVENT
BEGIN:VEVENT
UID:veew@192.168.245.71:3006
SEQUENCE:0
DTSTAMP:20260425T105327Z
DTSTART:20251028T090000Z
DTEND:20251028T104000Z
SUMMARY:Методы принятия решений
LOCATION:11 к. 107
END:VEVENT
BEGIN:VEVENT
UID:b5ws@192.168.245.71:3006
SEQUENCE:0
DTSTAMP:20260425T105327Z
DTSTART:20251029T090000Z
DTEND:20251029T104000Z
SUMMARY:Корпоративные информационные системы
LOCATION:DL Дистанционно
END:VEVENT
BEGIN:VEVENT
UID:s3cj@192.168.245.71:3006
SEQUENCE:0
DTSTAMP:20260425T105327Z
DTSTART:20251029T110000Z
DTEND:20251029T124000Z
SUMMARY:Корпоративные информационные системы
LOCATION:DL Дистанционно
END:VEVENT
BEGIN:VEVENT
UID:f0kb@192.168.245.71:3006
SEQUENCE:0
DTSTAMP:20260425T105327Z
DTSTART:20251031T070000Z
DTEND:20251031T084000Z
SUMMARY:Программирование и оптимизация баз данных
LOCATION:11 к. 102
END:VEVENT
BEGIN:VEVENT
UID:v8en@192.168.245.71:3006
SEQUENCE:0
DTSTAMP:20260425T105327Z
DTSTART:20251031T090000Z
DTEND:20251031T104000Z
SUMMARY:Методы принятия решений
LOCATION:11 к. 211
END:VEVENT
BEGIN:VEVENT
UID:hdu6@192.168.245.71:3006
SEQUENCE:0
DTSTAMP:20260425T105327Z
DTSTART:20251031T110000Z
DTEND:20251031T124000Z
SUMMARY:Программирование и оптимизация баз данных
LOCATION:11 к. 216
END:VEVENT
BEGIN:VEVENT
UID:6hqx@192.168.245.71:3006
SEQUENCE:0
DTSTAMP:20260425T105327Z
DTSTART:20251031T130000Z
DTEND:20251031T144000Z
SUMMARY:Программирование и оптимизация баз данных
LOCATION:11 к. 216
END:VEVENT
END:VCALENDAR