BEGIN:VCALENDAR
VERSION:2.0
PRODID:-//spbstu.ru//ical//RU
NAME:Расписание группы 5140203/40101
X-WR-CALNAME:Расписание группы 5140203/40101
TIMEZONE-ID:Europe/Moscow
X-WR-TIMEZONE:Europe/Moscow
BEGIN:VEVENT
UID:pvcx@192.168.245.71:3006
SEQUENCE:0
DTSTAMP:20260425T024408Z
DTSTART:20251117T070000Z
DTEND:20251117T084000Z
SUMMARY:Современные компьютерные технологии. Виртуализация серверов
LOCATION:11 к. 341
END:VEVENT
BEGIN:VEVENT
UID:pobs@192.168.245.71:3006
SEQUENCE:0
DTSTAMP:20260425T024408Z
DTSTART:20251118T090000Z
DTEND:20251118T104000Z
SUMMARY:Методы принятия решений
LOCATION:11 к. 107
END:VEVENT
BEGIN:VEVENT
UID:pf2d@192.168.245.71:3006
SEQUENCE:0
DTSTAMP:20260425T024408Z
DTSTART:20251119T090000Z
DTEND:20251119T104000Z
SUMMARY:Корпоративные информационные системы
LOCATION:DL Дистанционно
END:VEVENT
BEGIN:VEVENT
UID:xp9s@192.168.245.71:3006
SEQUENCE:0
DTSTAMP:20260425T024408Z
DTSTART:20251119T130000Z
DTEND:20251119T144000Z
SUMMARY:Программирование и оптимизация баз данных
LOCATION:11 к. 216
END:VEVENT
BEGIN:VEVENT
UID:liu6@192.168.245.71:3006
SEQUENCE:0
DTSTAMP:20260425T024408Z
DTSTART:20251121T070000Z
DTEND:20251121T084000Z
SUMMARY:Программирование и оптимизация баз данных
LOCATION:11 к. 102
END:VEVENT
BEGIN:VEVENT
UID:uwh0@192.168.245.71:3006
SEQUENCE:0
DTSTAMP:20260425T024408Z
DTSTART:20251121T090000Z
DTEND:20251121T104000Z
SUMMARY:Методы принятия решений
LOCATION:11 к. 211
END:VEVENT
BEGIN:VEVENT
UID:eho4@192.168.245.71:3006
SEQUENCE:0
DTSTAMP:20260425T024408Z
DTSTART:20251121T110000Z
DTEND:20251121T124000Z
SUMMARY:Программирование и оптимизация баз данных
LOCATION:11 к. 216
END:VEVENT
BEGIN:VEVENT
UID:c0jo@192.168.245.71:3006
SEQUENCE:0
DTSTAMP:20260425T024408Z
DTSTART:20251121T130000Z
DTEND:20251121T144000Z
SUMMARY:Программирование и оптимизация баз данных
LOCATION:11 к. 216
END:VEVENT
END:VCALENDAR