BEGIN:VCALENDAR
VERSION:2.0
PRODID:-//spbstu.ru//ical//RU
NAME:Расписание группы 5140904/40102
X-WR-CALNAME:Расписание группы 5140904/40102
TIMEZONE-ID:Europe/Moscow
X-WR-TIMEZONE:Europe/Moscow
BEGIN:VEVENT
UID:4k2s@192.168.245.71:3006
SEQUENCE:0
DTSTAMP:20260426T004823Z
DTSTART:20251124T130000Z
DTEND:20251124T144000Z
SUMMARY:Современные проблемы программной инженерии
LOCATION:3 к. 207
END:VEVENT
BEGIN:VEVENT
UID:kesx@192.168.245.71:3006
SEQUENCE:0
DTSTAMP:20260426T004823Z
DTSTART:20251125T070000Z
DTEND:20251125T075000Z
SUMMARY:Машинное обучение
LOCATION:11 к. 148
END:VEVENT
BEGIN:VEVENT
UID:ajz8@192.168.245.71:3006
SEQUENCE:0
DTSTAMP:20260426T004823Z
DTSTART:20251125T090000Z
DTEND:20251125T104000Z
SUMMARY:Верификация распределенных алгоритмов и систем
LOCATION:11 к. 148
END:VEVENT
BEGIN:VEVENT
UID:h9ji@192.168.245.71:3006
SEQUENCE:0
DTSTAMP:20260426T004823Z
DTSTART:20251125T110000Z
DTEND:20251125T124000Z
SUMMARY:Машинное обучение
LOCATION:3 к. 105
END:VEVENT
BEGIN:VEVENT
UID:ik09@192.168.245.71:3006
SEQUENCE:0
DTSTAMP:20260426T004823Z
DTSTART:20251125T130000Z
DTEND:20251125T144000Z
SUMMARY:Верификация распределенных алгоритмов и систем
LOCATION:3 к. 107
END:VEVENT
BEGIN:VEVENT
UID:ivxd@192.168.245.71:3006
SEQUENCE:0
DTSTAMP:20260426T004823Z
DTSTART:20251126T110000Z
DTEND:20251126T124000Z
SUMMARY:Методы и средства обработки видеоинформации
LOCATION:3 к. 302
END:VEVENT
BEGIN:VEVENT
UID:nyd5@192.168.245.71:3006
SEQUENCE:0
DTSTAMP:20260426T004823Z
DTSTART:20251126T130000Z
DTEND:20251126T144000Z
SUMMARY:Научный дискурс
LOCATION:3 к. 202
END:VEVENT
BEGIN:VEVENT
UID:3hi2@192.168.245.71:3006
SEQUENCE:0
DTSTAMP:20260426T004823Z
DTSTART:20251129T150000Z
DTEND:20251129T164000Z
SUMMARY:Промежуточное представление MLIR и кодогенерация в машинном обучен
 ии
LOCATION:3 к. 104
END:VEVENT
END:VCALENDAR