BEGIN:VCALENDAR
VERSION:2.0
PRODID:-//spbstu.ru//ical//RU
NAME:Расписание группы 5140904/40401
X-WR-CALNAME:Расписание группы 5140904/40401
TIMEZONE-ID:Europe/Moscow
X-WR-TIMEZONE:Europe/Moscow
BEGIN:VEVENT
UID:1jfe@192.168.245.71:3006
SEQUENCE:0
DTSTAMP:20260424T143423Z
DTSTART:20260224T070000Z
DTEND:20260224T084000Z
SUMMARY:Научно-исследовательская работа (концентрированная)
LOCATION:Не опр. Нет
END:VEVENT
BEGIN:VEVENT
UID:jjw3@192.168.245.71:3006
SEQUENCE:0
DTSTAMP:20260424T143423Z
DTSTART:20260225T070000Z
DTEND:20260225T084000Z
SUMMARY:Научно-исследовательская работа (концентрированная)
LOCATION:Не опр. Нет
END:VEVENT
BEGIN:VEVENT
UID:gup3@192.168.245.71:3006
SEQUENCE:0
DTSTAMP:20260424T143423Z
DTSTART:20260226T070000Z
DTEND:20260226T084000Z
SUMMARY:Научно-исследовательская работа (концентрированная)
LOCATION:Не опр. Нет
END:VEVENT
BEGIN:VEVENT
UID:6s6k@192.168.245.71:3006
SEQUENCE:0
DTSTAMP:20260424T143423Z
DTSTART:20260227T070000Z
DTEND:20260227T084000Z
SUMMARY:Научно-исследовательская работа (концентрированная)
LOCATION:Не опр. Нет
END:VEVENT
BEGIN:VEVENT
UID:ro58@192.168.245.71:3006
SEQUENCE:0
DTSTAMP:20260424T143423Z
DTSTART:20260228T070000Z
DTEND:20260228T084000Z
SUMMARY:Научно-исследовательская работа (концентрированная)
LOCATION:Не опр. Нет
END:VEVENT
END:VCALENDAR