BEGIN:VCALENDAR
VERSION:2.0
PRODID:-//spbstu.ru//ical//RU
NAME:Расписание группы 5142704/40701
X-WR-CALNAME:Расписание группы 5142704/40701
TIMEZONE-ID:Europe/Moscow
X-WR-TIMEZONE:Europe/Moscow
BEGIN:VEVENT
UID:vo1n@192.168.245.71:3006
SEQUENCE:0
DTSTAMP:20260425T184422Z
DTSTART:20251007T070000Z
DTEND:20251007T084000Z
SUMMARY:Когнитивные системы
LOCATION:16 к. 317
END:VEVENT
BEGIN:VEVENT
UID:xz9c@192.168.245.71:3006
SEQUENCE:0
DTSTAMP:20260425T184422Z
DTSTART:20251007T090000Z
DTEND:20251007T104000Z
SUMMARY:Когнитивные системы
LOCATION:16 к. 317
END:VEVENT
BEGIN:VEVENT
UID:ga6r@192.168.245.71:3006
SEQUENCE:0
DTSTAMP:20260425T184422Z
DTSTART:20251007T110000Z
DTEND:20251007T124000Z
SUMMARY:Когнитивные системы
LOCATION:16 к. 317
END:VEVENT
BEGIN:VEVENT
UID:5r3z@192.168.245.71:3006
SEQUENCE:0
DTSTAMP:20260425T184422Z
DTSTART:20251009T070000Z
DTEND:20251009T084000Z
SUMMARY:Высокоуровневое проектирование управляющих систем
LOCATION:16 к. 314
END:VEVENT
BEGIN:VEVENT
UID:8xts@192.168.245.71:3006
SEQUENCE:0
DTSTAMP:20260425T184422Z
DTSTART:20251009T090000Z
DTEND:20251009T104000Z
SUMMARY:Высокоуровневое проектирование управляющих систем
LOCATION:16 к. 314
END:VEVENT
BEGIN:VEVENT
UID:mgmu@192.168.245.71:3006
SEQUENCE:0
DTSTAMP:20260425T184422Z
DTSTART:20251009T150000Z
DTEND:20251009T164000Z
SUMMARY:Методология разработки и эксплуатации производственных систем DevO
 ps
LOCATION:16 к. 316
END:VEVENT
END:VCALENDAR