BEGIN:VCALENDAR
VERSION:2.0
PRODID:-//spbstu.ru//ical//RU
NAME:Расписание группы 5142704/40701
X-WR-CALNAME:Расписание группы 5142704/40701
TIMEZONE-ID:Europe/Moscow
X-WR-TIMEZONE:Europe/Moscow
BEGIN:VEVENT
UID:g527@192.168.245.71:3006
SEQUENCE:0
DTSTAMP:20260424T005214Z
DTSTART:20251208T130000Z
DTEND:20251208T144000Z
SUMMARY:Научно-исследовательская работа в семестре
LOCATION:Не опр. База практик
END:VEVENT
BEGIN:VEVENT
UID:okbr@192.168.245.71:3006
SEQUENCE:0
DTSTAMP:20260424T005214Z
DTSTART:20251209T070000Z
DTEND:20251209T075000Z
SUMMARY:Защита прикладного программного обеспечения
LOCATION:16 к. 414
END:VEVENT
BEGIN:VEVENT
UID:kis7@192.168.245.71:3006
SEQUENCE:0
DTSTAMP:20260424T005214Z
DTSTART:20251209T090000Z
DTEND:20251209T095000Z
SUMMARY:Защита прикладного программного обеспечения
LOCATION:16 к. 309
END:VEVENT
BEGIN:VEVENT
UID:hpa8@192.168.245.71:3006
SEQUENCE:0
DTSTAMP:20260424T005214Z
DTSTART:20251209T100000Z
DTEND:20251209T105000Z
SUMMARY:Защита прикладного программного обеспечения
LOCATION:16 к. 309
END:VEVENT
BEGIN:VEVENT
UID:jb6r@192.168.245.71:3006
SEQUENCE:0
DTSTAMP:20260424T005214Z
DTSTART:20251210T130000Z
DTEND:20251210T144000Z
SUMMARY:Научно-исследовательская работа в семестре
LOCATION:Не опр. База практик
END:VEVENT
BEGIN:VEVENT
UID:wsfi@192.168.245.71:3006
SEQUENCE:0
DTSTAMP:20260424T005214Z
DTSTART:20251211T070000Z
DTEND:20251211T084000Z
SUMMARY:Высокоуровневое проектирование управляющих систем
LOCATION:16 к. 314
END:VEVENT
BEGIN:VEVENT
UID:f9p0@192.168.245.71:3006
SEQUENCE:0
DTSTAMP:20260424T005214Z
DTSTART:20251211T130000Z
DTEND:20251211T135000Z
SUMMARY:Методология разработки и эксплуатации производственных систем DevO
 ps
LOCATION:16 к. 315
END:VEVENT
BEGIN:VEVENT
UID:fwj8@192.168.245.71:3006
SEQUENCE:0
DTSTAMP:20260424T005214Z
DTSTART:20251211T150000Z
DTEND:20251211T164000Z
SUMMARY:Методология разработки и эксплуатации производственных систем DevO
 ps
LOCATION:16 к. 316
END:VEVENT
END:VCALENDAR