BEGIN:VCALENDAR
VERSION:2.0
PRODID:-//spbstu.ru//ical//RU
NAME:Расписание группы 5142704/40701
X-WR-CALNAME:Расписание группы 5142704/40701
TIMEZONE-ID:Europe/Moscow
X-WR-TIMEZONE:Europe/Moscow
BEGIN:VEVENT
UID:95ns@192.168.245.71:3006
SEQUENCE:0
DTSTAMP:20260422T000427Z
DTSTART:20260511T070000Z
DTEND:20260511T084000Z
SUMMARY:Преддипломная практика
LOCATION:Не опр. База практик
END:VEVENT
BEGIN:VEVENT
UID:92ll@192.168.245.71:3006
SEQUENCE:0
DTSTAMP:20260422T000427Z
DTSTART:20260512T070000Z
DTEND:20260512T084000Z
SUMMARY:Преддипломная практика
LOCATION:Не опр. База практик
END:VEVENT
BEGIN:VEVENT
UID:uhiq@192.168.245.71:3006
SEQUENCE:0
DTSTAMP:20260422T000427Z
DTSTART:20260513T070000Z
DTEND:20260513T084000Z
SUMMARY:Преддипломная практика
LOCATION:Не опр. База практик
END:VEVENT
BEGIN:VEVENT
UID:ijrv@192.168.245.71:3006
SEQUENCE:0
DTSTAMP:20260422T000427Z
DTSTART:20260514T070000Z
DTEND:20260514T084000Z
SUMMARY:Преддипломная практика
LOCATION:Не опр. База практик
END:VEVENT
BEGIN:VEVENT
UID:a4d7@192.168.245.71:3006
SEQUENCE:0
DTSTAMP:20260422T000427Z
DTSTART:20260515T070000Z
DTEND:20260515T084000Z
SUMMARY:Преддипломная практика
LOCATION:Не опр. База практик
END:VEVENT
BEGIN:VEVENT
UID:h171@192.168.245.71:3006
SEQUENCE:0
DTSTAMP:20260422T000427Z
DTSTART:20260516T070000Z
DTEND:20260516T084000Z
SUMMARY:Преддипломная практика
LOCATION:Не опр. База практик
END:VEVENT
END:VCALENDAR