BEGIN:VCALENDAR
VERSION:2.0
PRODID:-//spbstu.ru//ical//RU
NAME:Расписание группы 5151001/40001
X-WR-CALNAME:Расписание группы 5151001/40001
TIMEZONE-ID:Europe/Moscow
X-WR-TIMEZONE:Europe/Moscow
BEGIN:VEVENT
UID:skj2@192.168.245.71:3006
SEQUENCE:0
DTSTAMP:20260426T004700Z
DTSTART:20250902T050000Z
DTEND:20250902T064000Z
SUMMARY:Безопасность жизнедеятельности
LOCATION:ГЗ 237
END:VEVENT
BEGIN:VEVENT
UID:wij3@192.168.245.71:3006
SEQUENCE:0
DTSTAMP:20260426T004700Z
DTSTART:20250902T070000Z
DTEND:20250902T084000Z
SUMMARY:Электроника и схемотехника
LOCATION:ГЗ 235
END:VEVENT
BEGIN:VEVENT
UID:30s4@192.168.245.71:3006
SEQUENCE:0
DTSTAMP:20260426T004700Z
DTSTART:20250902T090000Z
DTEND:20250902T104000Z
SUMMARY:Операционные системы
LOCATION:ГЗ 235
END:VEVENT
BEGIN:VEVENT
UID:s6t1@192.168.245.71:3006
SEQUENCE:0
DTSTAMP:20260426T004700Z
DTSTART:20250903T070000Z
DTEND:20250903T084000Z
SUMMARY:Операционные системы
LOCATION:11 к. 336
END:VEVENT
BEGIN:VEVENT
UID:5c2w@192.168.245.71:3006
SEQUENCE:0
DTSTAMP:20260426T004700Z
DTSTART:20250903T090000Z
DTEND:20250903T104000Z
SUMMARY:Высшая математика
LOCATION:11 к. 316
END:VEVENT
BEGIN:VEVENT
UID:fn01@192.168.245.71:3006
SEQUENCE:0
DTSTAMP:20260426T004700Z
DTSTART:20250903T130000Z
DTEND:20250903T144000Z
SUMMARY:Модуль саморазвития (SoftSkills)
LOCATION:Не опр. Нет
END:VEVENT
BEGIN:VEVENT
UID:vlcs@192.168.245.71:3006
SEQUENCE:0
DTSTAMP:20260426T004700Z
DTSTART:20250904T090000Z
DTEND:20250904T104000Z
SUMMARY:Безопасность жизнедеятельности
LOCATION:ГК 106
END:VEVENT
BEGIN:VEVENT
UID:482x@192.168.245.71:3006
SEQUENCE:0
DTSTAMP:20260426T004700Z
DTSTART:20250904T090000Z
DTEND:20250904T104000Z
SUMMARY:Безопасность жизнедеятельности
LOCATION:ГК 106
END:VEVENT
BEGIN:VEVENT
UID:eek7@192.168.245.71:3006
SEQUENCE:0
DTSTAMP:20260426T004700Z
DTSTART:20250904T110000Z
DTEND:20250904T124000Z
SUMMARY:Теория вероятностей и математическая статистика
LOCATION:ГЗ 235
END:VEVENT
BEGIN:VEVENT
UID:cnwi@192.168.245.71:3006
SEQUENCE:0
DTSTAMP:20260426T004700Z
DTSTART:20250904T130000Z
DTEND:20250904T144000Z
SUMMARY:Языки программирования
LOCATION:ГЗ 235
END:VEVENT
BEGIN:VEVENT
UID:476z@192.168.245.71:3006
SEQUENCE:0
DTSTAMP:20260426T004700Z
DTSTART:20250906T050000Z
DTEND:20250906T064000Z
SUMMARY:Иностранный язык: Базовый курс
LOCATION:ГЗ 208
END:VEVENT
BEGIN:VEVENT
UID:pfjt@192.168.245.71:3006
SEQUENCE:0
DTSTAMP:20260426T004700Z
DTSTART:20250906T070000Z
DTEND:20250906T084000Z
SUMMARY:История России
LOCATION:ГЗ 237
END:VEVENT
END:VCALENDAR