BEGIN:VCALENDAR
VERSION:2.0
PRODID:-//spbstu.ru//ical//RU
NAME:Расписание группы 5151001/40001
X-WR-CALNAME:Расписание группы 5151001/40001
TIMEZONE-ID:Europe/Moscow
X-WR-TIMEZONE:Europe/Moscow
BEGIN:VEVENT
UID:8dng@192.168.245.71:3006
SEQUENCE:0
DTSTAMP:20260422T094516Z
DTSTART:20260209T070000Z
DTEND:20260209T084000Z
SUMMARY:Аппаратные средства вычислительной техники
LOCATION:ГЗ 237
END:VEVENT
BEGIN:VEVENT
UID:1j6c@192.168.245.71:3006
SEQUENCE:0
DTSTAMP:20260422T094516Z
DTSTART:20260209T090000Z
DTEND:20260209T104000Z
SUMMARY:Операционные системы
LOCATION:ГЗ 237
END:VEVENT
BEGIN:VEVENT
UID:zejz@192.168.245.71:3006
SEQUENCE:0
DTSTAMP:20260422T094516Z
DTSTART:20260209T110000Z
DTEND:20260209T124000Z
SUMMARY:Дискретная математика
LOCATION:ГЗ 103
END:VEVENT
BEGIN:VEVENT
UID:hkf1@192.168.245.71:3006
SEQUENCE:0
DTSTAMP:20260422T094516Z
DTSTART:20260209T130000Z
DTEND:20260209T144000Z
SUMMARY:Аппаратные средства вычислительной техники
LOCATION:ГЗ 171
END:VEVENT
BEGIN:VEVENT
UID:272e@192.168.245.71:3006
SEQUENCE:0
DTSTAMP:20260422T094516Z
DTSTART:20260209T150000Z
DTEND:20260209T164000Z
SUMMARY:Безопасность жизнедеятельности
LOCATION:ГК 119
END:VEVENT
BEGIN:VEVENT
UID:vghi@192.168.245.71:3006
SEQUENCE:0
DTSTAMP:20260422T094516Z
DTSTART:20260210T110000Z
DTEND:20260210T124000Z
SUMMARY:Операционные системы
LOCATION:ГЗ 103
END:VEVENT
BEGIN:VEVENT
UID:f7nk@192.168.245.71:3006
SEQUENCE:0
DTSTAMP:20260422T094516Z
DTSTART:20260210T130000Z
DTEND:20260210T144000Z
SUMMARY:Иностранный язык. Профессионально-ориентированный курс
LOCATION:11 к. 326
END:VEVENT
BEGIN:VEVENT
UID:pnih@192.168.245.71:3006
SEQUENCE:0
DTSTAMP:20260422T094516Z
DTSTART:20260210T150000Z
DTEND:20260210T164000Z
SUMMARY:Иностранный язык: Базовый курс
LOCATION:ГЗ 237
END:VEVENT
BEGIN:VEVENT
UID:6whm@192.168.245.71:3006
SEQUENCE:0
DTSTAMP:20260422T094516Z
DTSTART:20260211T070000Z
DTEND:20260211T084000Z
SUMMARY:Дискретная математика
LOCATION:ГЗ 305
END:VEVENT
BEGIN:VEVENT
UID:mc1l@192.168.245.71:3006
SEQUENCE:0
DTSTAMP:20260422T094516Z
DTSTART:20260211T090000Z
DTEND:20260211T104000Z
SUMMARY:Математическая логика и теория алгоритмов
LOCATION:ГЗ 215
END:VEVENT
BEGIN:VEVENT
UID:h1uz@192.168.245.71:3006
SEQUENCE:0
DTSTAMP:20260422T094516Z
DTSTART:20260211T110000Z
DTEND:20260211T124000Z
SUMMARY:Элективная физическая культура и спорт
LOCATION:СК Секции
END:VEVENT
BEGIN:VEVENT
UID:56v9@192.168.245.71:3006
SEQUENCE:0
DTSTAMP:20260422T094516Z
DTSTART:20260211T130000Z
DTEND:20260211T144000Z
SUMMARY:Математическая логика и теория алгоритмов
LOCATION:ГЗ 170 А
END:VEVENT
BEGIN:VEVENT
UID:qlaw@192.168.245.71:3006
SEQUENCE:0
DTSTAMP:20260422T094516Z
DTSTART:20260212T110000Z
DTEND:20260212T124000Z
SUMMARY:Теория вероятностей и математическая статистика
LOCATION:ГЗ 237
END:VEVENT
BEGIN:VEVENT
UID:cfg0@192.168.245.71:3006
SEQUENCE:0
DTSTAMP:20260422T094516Z
DTSTART:20260212T130000Z
DTEND:20260212T144000Z
SUMMARY:Операционные системы
LOCATION:ГЗ 173
END:VEVENT
BEGIN:VEVENT
UID:vh9x@192.168.245.71:3006
SEQUENCE:0
DTSTAMP:20260422T094516Z
DTSTART:20260214T090000Z
DTEND:20260214T104000Z
SUMMARY:Элективная физическая культура и спорт
LOCATION:СК Секции
END:VEVENT
END:VCALENDAR