BEGIN:VCALENDAR
VERSION:2.0
PRODID:-//spbstu.ru//ical//RU
NAME:Расписание группы 5151001/40003
X-WR-CALNAME:Расписание группы 5151001/40003
TIMEZONE-ID:Europe/Moscow
X-WR-TIMEZONE:Europe/Moscow
BEGIN:VEVENT
UID:ekci@192.168.245.71:3006
SEQUENCE:0
DTSTAMP:20260424T051740Z
DTSTART:20260216T070000Z
DTEND:20260216T084000Z
SUMMARY:Аппаратные средства вычислительной техники
LOCATION:ГЗ 237
END:VEVENT
BEGIN:VEVENT
UID:0xtn@192.168.245.71:3006
SEQUENCE:0
DTSTAMP:20260424T051740Z
DTSTART:20260216T090000Z
DTEND:20260216T104000Z
SUMMARY:Операционные системы
LOCATION:ГЗ 237
END:VEVENT
BEGIN:VEVENT
UID:wgh0@192.168.245.71:3006
SEQUENCE:0
DTSTAMP:20260424T051740Z
DTSTART:20260216T110000Z
DTEND:20260216T124000Z
SUMMARY:Математическая логика и теория алгоритмов
LOCATION:ГЗ 165
END:VEVENT
BEGIN:VEVENT
UID:veft@192.168.245.71:3006
SEQUENCE:0
DTSTAMP:20260424T051740Z
DTSTART:20260216T130000Z
DTEND:20260216T144000Z
SUMMARY:Иностранный язык. Профессионально-ориентированный курс
LOCATION:3 к. 206
END:VEVENT
BEGIN:VEVENT
UID:nqej@192.168.245.71:3006
SEQUENCE:0
DTSTAMP:20260424T051740Z
DTSTART:20260216T150000Z
DTEND:20260216T164000Z
SUMMARY:Теория вероятностей и математическая статистика
LOCATION:ГЗ 171
END:VEVENT
BEGIN:VEVENT
UID:tsrd@192.168.245.71:3006
SEQUENCE:0
DTSTAMP:20260424T051740Z
DTSTART:20260217T150000Z
DTEND:20260217T164000Z
SUMMARY:Языки программирования
LOCATION:ГЗ 173
END:VEVENT
BEGIN:VEVENT
UID:jhl4@192.168.245.71:3006
SEQUENCE:0
DTSTAMP:20260424T051740Z
DTSTART:20260218T070000Z
DTEND:20260218T084000Z
SUMMARY:Дискретная математика
LOCATION:ГЗ 305
END:VEVENT
BEGIN:VEVENT
UID:2bqe@192.168.245.71:3006
SEQUENCE:0
DTSTAMP:20260424T051740Z
DTSTART:20260218T090000Z
DTEND:20260218T104000Z
SUMMARY:Математическая логика и теория алгоритмов
LOCATION:ГЗ 215
END:VEVENT
BEGIN:VEVENT
UID:ovpr@192.168.245.71:3006
SEQUENCE:0
DTSTAMP:20260424T051740Z
DTSTART:20260218T110000Z
DTEND:20260218T124000Z
SUMMARY:Элективная физическая культура и спорт
LOCATION:СК Секции
END:VEVENT
BEGIN:VEVENT
UID:2d0g@192.168.245.71:3006
SEQUENCE:0
DTSTAMP:20260424T051740Z
DTSTART:20260218T130000Z
DTEND:20260218T144000Z
SUMMARY:Дискретная математика
LOCATION:ГЗ 165
END:VEVENT
BEGIN:VEVENT
UID:kslx@192.168.245.71:3006
SEQUENCE:0
DTSTAMP:20260424T051740Z
DTSTART:20260218T150000Z
DTEND:20260218T164000Z
SUMMARY:Электроника и схемотехника
LOCATION:ГЗ 171
END:VEVENT
BEGIN:VEVENT
UID:w87h@192.168.245.71:3006
SEQUENCE:0
DTSTAMP:20260424T051740Z
DTSTART:20260219T090000Z
DTEND:20260219T104000Z
SUMMARY:Аппаратные средства вычислительной техники
LOCATION:ГЗ 170 А
END:VEVENT
BEGIN:VEVENT
UID:h71k@192.168.245.71:3006
SEQUENCE:0
DTSTAMP:20260424T051740Z
DTSTART:20260219T110000Z
DTEND:20260219T124000Z
SUMMARY:Теория вероятностей и математическая статистика
LOCATION:ГЗ 237
END:VEVENT
BEGIN:VEVENT
UID:9tdi@192.168.245.71:3006
SEQUENCE:0
DTSTAMP:20260424T051740Z
DTSTART:20260219T140000Z
DTEND:20260219T154000Z
SUMMARY:Высшая математика
LOCATION:ГЗ 237
END:VEVENT
BEGIN:VEVENT
UID:fpue@192.168.245.71:3006
SEQUENCE:0
DTSTAMP:20260424T051740Z
DTSTART:20260219T140000Z
DTEND:20260219T154000Z
SUMMARY:Высшая математика
LOCATION:ГЗ 237
END:VEVENT
BEGIN:VEVENT
UID:29je@192.168.245.71:3006
SEQUENCE:0
DTSTAMP:20260424T051740Z
DTSTART:20260219T150000Z
DTEND:20260219T164000Z
SUMMARY:Высшая математика
LOCATION:ГЗ 237
END:VEVENT
BEGIN:VEVENT
UID:pndp@192.168.245.71:3006
SEQUENCE:0
DTSTAMP:20260424T051740Z
DTSTART:20260220T070000Z
DTEND:20260220T084000Z
SUMMARY:Цифровая аналитика
LOCATION:11 к. 336
END:VEVENT
BEGIN:VEVENT
UID:511k@192.168.245.71:3006
SEQUENCE:0
DTSTAMP:20260424T051740Z
DTSTART:20260220T090000Z
DTEND:20260220T104000Z
SUMMARY:Теория вероятностей и математическая статистика
LOCATION:11 к. 321
END:VEVENT
BEGIN:VEVENT
UID:jvo3@192.168.245.71:3006
SEQUENCE:0
DTSTAMP:20260424T051740Z
DTSTART:20260220T110000Z
DTEND:20260220T124000Z
SUMMARY:Операционные системы
LOCATION:ГЗ 103
END:VEVENT
BEGIN:VEVENT
UID:e8da@192.168.245.71:3006
SEQUENCE:0
DTSTAMP:20260424T051740Z
DTSTART:20260220T150000Z
DTEND:20260220T164000Z
SUMMARY:Операционные системы
LOCATION:ГЗ 103
END:VEVENT
BEGIN:VEVENT
UID:78pp@192.168.245.71:3006
SEQUENCE:0
DTSTAMP:20260424T051740Z
DTSTART:20260221T090000Z
DTEND:20260221T104000Z
SUMMARY:Элективная физическая культура и спорт
LOCATION:СК Секции
END:VEVENT
END:VCALENDAR