BEGIN:VCALENDAR
VERSION:2.0
PRODID:-//spbstu.ru//ical//RU
NAME:Расписание группы 5151001/40003
X-WR-CALNAME:Расписание группы 5151001/40003
TIMEZONE-ID:Europe/Moscow
X-WR-TIMEZONE:Europe/Moscow
BEGIN:VEVENT
UID:qoo2@192.168.245.71:3006
SEQUENCE:0
DTSTAMP:20260421T070833Z
DTSTART:20260413T070000Z
DTEND:20260413T084000Z
SUMMARY:Аппаратные средства вычислительной техники
LOCATION:ГЗ 237
END:VEVENT
BEGIN:VEVENT
UID:yzz5@192.168.245.71:3006
SEQUENCE:0
DTSTAMP:20260421T070833Z
DTSTART:20260413T090000Z
DTEND:20260413T104000Z
SUMMARY:Операционные системы
LOCATION:ГЗ 237
END:VEVENT
BEGIN:VEVENT
UID:6tqc@192.168.245.71:3006
SEQUENCE:0
DTSTAMP:20260421T070833Z
DTSTART:20260413T110000Z
DTEND:20260413T124000Z
SUMMARY:Математическая логика и теория алгоритмов
LOCATION:ГЗ 165
END:VEVENT
BEGIN:VEVENT
UID:xpen@192.168.245.71:3006
SEQUENCE:0
DTSTAMP:20260421T070833Z
DTSTART:20260413T130000Z
DTEND:20260413T144000Z
SUMMARY:Иностранный язык. Профессионально-ориентированный курс
LOCATION:3 к. 206
END:VEVENT
BEGIN:VEVENT
UID:elpg@192.168.245.71:3006
SEQUENCE:0
DTSTAMP:20260421T070833Z
DTSTART:20260413T150000Z
DTEND:20260413T152000Z
SUMMARY:Теория вероятностей и математическая статистика
LOCATION:ГЗ 173
END:VEVENT
BEGIN:VEVENT
UID:8h8n@192.168.245.71:3006
SEQUENCE:0
DTSTAMP:20260421T070833Z
DTSTART:20260415T070000Z
DTEND:20260415T084000Z
SUMMARY:Дискретная математика
LOCATION:ГЗ 305
END:VEVENT
BEGIN:VEVENT
UID:rc0o@192.168.245.71:3006
SEQUENCE:0
DTSTAMP:20260421T070833Z
DTSTART:20260415T090000Z
DTEND:20260415T104000Z
SUMMARY:Математическая логика и теория алгоритмов
LOCATION:ГЗ 215
END:VEVENT
BEGIN:VEVENT
UID:280q@192.168.245.71:3006
SEQUENCE:0
DTSTAMP:20260421T070833Z
DTSTART:20260415T110000Z
DTEND:20260415T124000Z
SUMMARY:Элективная физическая культура и спорт
LOCATION:СК Секции
END:VEVENT
BEGIN:VEVENT
UID:bzl2@192.168.245.71:3006
SEQUENCE:0
DTSTAMP:20260421T070833Z
DTSTART:20260415T130000Z
DTEND:20260415T144000Z
SUMMARY:Дискретная математика
LOCATION:ГЗ 165
END:VEVENT
BEGIN:VEVENT
UID:2hed@192.168.245.71:3006
SEQUENCE:0
DTSTAMP:20260421T070833Z
DTSTART:20260415T140000Z
DTEND:20260415T154000Z
SUMMARY:Высшая математика
LOCATION:ГЗ 232
END:VEVENT
BEGIN:VEVENT
UID:dk60@192.168.245.71:3006
SEQUENCE:0
DTSTAMP:20260421T070833Z
DTSTART:20260416T090000Z
DTEND:20260416T104000Z
SUMMARY:Аппаратные средства вычислительной техники
LOCATION:ГЗ 170 А
END:VEVENT
BEGIN:VEVENT
UID:sapj@192.168.245.71:3006
SEQUENCE:0
DTSTAMP:20260421T070833Z
DTSTART:20260416T110000Z
DTEND:20260416T124000Z
SUMMARY:Теория вероятностей и математическая статистика
LOCATION:ГЗ 237
END:VEVENT
BEGIN:VEVENT
UID:5oxy@192.168.245.71:3006
SEQUENCE:0
DTSTAMP:20260421T070833Z
DTSTART:20260417T070000Z
DTEND:20260417T084000Z
SUMMARY:Цифровая аналитика
LOCATION:11 к. 336
END:VEVENT
BEGIN:VEVENT
UID:o5av@192.168.245.71:3006
SEQUENCE:0
DTSTAMP:20260421T070833Z
DTSTART:20260417T090000Z
DTEND:20260417T104000Z
SUMMARY:Теория вероятностей и математическая статистика
LOCATION:11 к. 321
END:VEVENT
BEGIN:VEVENT
UID:kzk6@192.168.245.71:3006
SEQUENCE:0
DTSTAMP:20260421T070833Z
DTSTART:20260417T110000Z
DTEND:20260417T124000Z
SUMMARY:Операционные системы
LOCATION:ГЗ 103
END:VEVENT
BEGIN:VEVENT
UID:7k3s@192.168.245.71:3006
SEQUENCE:0
DTSTAMP:20260421T070833Z
DTSTART:20260418T090000Z
DTEND:20260418T104000Z
SUMMARY:Элективная физическая культура и спорт
LOCATION:СК Секции
END:VEVENT
END:VCALENDAR