BEGIN:VCALENDAR
VERSION:2.0
PRODID:-//spbstu.ru//ical//RU
NAME:Расписание группы 5151001/40003
X-WR-CALNAME:Расписание группы 5151001/40003
TIMEZONE-ID:Europe/Moscow
X-WR-TIMEZONE:Europe/Moscow
BEGIN:VEVENT
UID:dzk8@192.168.245.71:3006
SEQUENCE:0
DTSTAMP:20260421T183040Z
DTSTART:20260518T070000Z
DTEND:20260518T084000Z
SUMMARY:Аппаратные средства вычислительной техники
LOCATION:ГЗ 237
END:VEVENT
BEGIN:VEVENT
UID:89ht@192.168.245.71:3006
SEQUENCE:0
DTSTAMP:20260421T183040Z
DTSTART:20260518T090000Z
DTEND:20260518T104000Z
SUMMARY:Операционные системы
LOCATION:ГЗ 237
END:VEVENT
BEGIN:VEVENT
UID:gees@192.168.245.71:3006
SEQUENCE:0
DTSTAMP:20260421T183040Z
DTSTART:20260518T110000Z
DTEND:20260518T124000Z
SUMMARY:Математическая логика и теория алгоритмов
LOCATION:ГЗ 165
END:VEVENT
BEGIN:VEVENT
UID:clri@192.168.245.71:3006
SEQUENCE:0
DTSTAMP:20260421T183040Z
DTSTART:20260518T130000Z
DTEND:20260518T144000Z
SUMMARY:Иностранный язык. Профессионально-ориентированный курс
LOCATION:3 к. 206
END:VEVENT
BEGIN:VEVENT
UID:qng5@192.168.245.71:3006
SEQUENCE:0
DTSTAMP:20260421T183040Z
DTSTART:20260520T090000Z
DTEND:20260520T104000Z
SUMMARY:Операционные системы
LOCATION:Не опр. Нет
END:VEVENT
BEGIN:VEVENT
UID:sln1@192.168.245.71:3006
SEQUENCE:0
DTSTAMP:20260421T183040Z
DTSTART:20260521T110000Z
DTEND:20260521T124000Z
SUMMARY:Теория вероятностей и математическая статистика
LOCATION:ГЗ 237
END:VEVENT
BEGIN:VEVENT
UID:g62d@192.168.245.71:3006
SEQUENCE:0
DTSTAMP:20260421T183040Z
DTSTART:20260521T130000Z
DTEND:20260521T144000Z
SUMMARY:Основы проектной деятельности
LOCATION:ГЗ 237
END:VEVENT
BEGIN:VEVENT
UID:uds9@192.168.245.71:3006
SEQUENCE:0
DTSTAMP:20260421T183040Z
DTSTART:20260522T110000Z
DTEND:20260522T124000Z
SUMMARY:Операционные системы
LOCATION:ГЗ 103
END:VEVENT
END:VCALENDAR