BEGIN:VCALENDAR
VERSION:2.0
PRODID:-//spbstu.ru//ical//RU
NAME:Расписание группы 5151003/40001
X-WR-CALNAME:Расписание группы 5151003/40001
TIMEZONE-ID:Europe/Moscow
X-WR-TIMEZONE:Europe/Moscow
BEGIN:VEVENT
UID:icbl@192.168.245.71:3006
SEQUENCE:0
DTSTAMP:20260425T105158Z
DTSTART:20250929T060000Z
DTEND:20250929T084000Z
SUMMARY:Высшая математика
LOCATION:3 к. 201
END:VEVENT
BEGIN:VEVENT
UID:gcl4@192.168.245.71:3006
SEQUENCE:0
DTSTAMP:20260425T105158Z
DTSTART:20250929T060000Z
DTEND:20250929T083500Z
SUMMARY:Высшая математика
LOCATION:ГЗ 237
END:VEVENT
BEGIN:VEVENT
UID:ry6x@192.168.245.71:3006
SEQUENCE:0
DTSTAMP:20260425T105158Z
DTSTART:20250929T090000Z
DTEND:20250929T104000Z
SUMMARY:Высшая математика
LOCATION:3 к. 204
END:VEVENT
BEGIN:VEVENT
UID:yo4y@192.168.245.71:3006
SEQUENCE:0
DTSTAMP:20260425T105158Z
DTSTART:20250929T090000Z
DTEND:20250929T104000Z
SUMMARY:Высшая математика
LOCATION:ГЗ 209
END:VEVENT
BEGIN:VEVENT
UID:6md8@192.168.245.71:3006
SEQUENCE:0
DTSTAMP:20260425T105158Z
DTSTART:20250929T110000Z
DTEND:20250929T124000Z
SUMMARY:Теория вероятностей и математическая статистика
LOCATION:3 к. 501
END:VEVENT
BEGIN:VEVENT
UID:xkfj@192.168.245.71:3006
SEQUENCE:0
DTSTAMP:20260425T105158Z
DTSTART:20250930T050000Z
DTEND:20250930T064000Z
SUMMARY:Безопасность жизнедеятельности
LOCATION:ГЗ 237
END:VEVENT
BEGIN:VEVENT
UID:520d@192.168.245.71:3006
SEQUENCE:0
DTSTAMP:20260425T105158Z
DTSTART:20250930T070000Z
DTEND:20250930T084000Z
SUMMARY:Электроника и схемотехника
LOCATION:ГЗ 235
END:VEVENT
BEGIN:VEVENT
UID:9xkm@192.168.245.71:3006
SEQUENCE:0
DTSTAMP:20260425T105158Z
DTSTART:20250930T090000Z
DTEND:20250930T104000Z
SUMMARY:Операционные системы
LOCATION:ГЗ 235
END:VEVENT
BEGIN:VEVENT
UID:gbeb@192.168.245.71:3006
SEQUENCE:0
DTSTAMP:20260425T105158Z
DTSTART:20250930T130000Z
DTEND:20250930T144000Z
SUMMARY:История России
LOCATION:3 к. 209
END:VEVENT
BEGIN:VEVENT
UID:zcfr@192.168.245.71:3006
SEQUENCE:0
DTSTAMP:20260425T105158Z
DTSTART:20251001T110000Z
DTEND:20251001T124000Z
SUMMARY:Элективная физическая культура и спорт
LOCATION:СК Секции
END:VEVENT
BEGIN:VEVENT
UID:rnrc@192.168.245.71:3006
SEQUENCE:0
DTSTAMP:20260425T105158Z
DTSTART:20251001T130000Z
DTEND:20251001T144000Z
SUMMARY:Модуль саморазвития (SoftSkills)
LOCATION:Не опр. Нет
END:VEVENT
BEGIN:VEVENT
UID:w300@192.168.245.71:3006
SEQUENCE:0
DTSTAMP:20260425T105158Z
DTSTART:20251002T070000Z
DTEND:20251002T084000Z
SUMMARY:Операционные системы
LOCATION:ГЗ 170 А
END:VEVENT
BEGIN:VEVENT
UID:x61j@192.168.245.71:3006
SEQUENCE:0
DTSTAMP:20260425T105158Z
DTSTART:20251002T090000Z
DTEND:20251002T104000Z
SUMMARY:Электроника и схемотехника
LOCATION:ГЗ 171
END:VEVENT
BEGIN:VEVENT
UID:mrz3@192.168.245.71:3006
SEQUENCE:0
DTSTAMP:20260425T105158Z
DTSTART:20251002T110000Z
DTEND:20251002T124000Z
SUMMARY:Языки программирования
LOCATION:ГЗ 235
END:VEVENT
BEGIN:VEVENT
UID:eq78@192.168.245.71:3006
SEQUENCE:0
DTSTAMP:20260425T105158Z
DTSTART:20251002T130000Z
DTEND:20251002T144000Z
SUMMARY:Языки программирования
LOCATION:ГЗ 235
END:VEVENT
BEGIN:VEVENT
UID:q0nd@192.168.245.71:3006
SEQUENCE:0
DTSTAMP:20260425T105158Z
DTSTART:20251004T070000Z
DTEND:20251004T084000Z
SUMMARY:История России
LOCATION:ГЗ 237
END:VEVENT
BEGIN:VEVENT
UID:brte@192.168.245.71:3006
SEQUENCE:0
DTSTAMP:20260425T105158Z
DTSTART:20251004T090000Z
DTEND:20251004T104000Z
SUMMARY:Элективная физическая культура и спорт
LOCATION:СК Секции
END:VEVENT
BEGIN:VEVENT
UID:obfy@192.168.245.71:3006
SEQUENCE:0
DTSTAMP:20260425T105158Z
DTSTART:20251004T110000Z
DTEND:20251004T124000Z
SUMMARY:Иностранный язык: Базовый курс
LOCATION:ГЗ 222
END:VEVENT
END:VCALENDAR