BEGIN:VCALENDAR
VERSION:2.0
PRODID:-//spbstu.ru//ical//RU
NAME:Расписание группы 5151003/40003
X-WR-CALNAME:Расписание группы 5151003/40003
TIMEZONE-ID:Europe/Moscow
X-WR-TIMEZONE:Europe/Moscow
BEGIN:VEVENT
UID:gp6y@192.168.245.71:3006
SEQUENCE:0
DTSTAMP:20260425T105349Z
DTSTART:20251215T060000Z
DTEND:20251215T084000Z
SUMMARY:Высшая математика
LOCATION:3 к. 201
END:VEVENT
BEGIN:VEVENT
UID:pv02@192.168.245.71:3006
SEQUENCE:0
DTSTAMP:20260425T105349Z
DTSTART:20251215T070000Z
DTEND:20251215T082000Z
SUMMARY:Высшая математика
LOCATION:ГЗ 237
END:VEVENT
BEGIN:VEVENT
UID:ljva@192.168.245.71:3006
SEQUENCE:0
DTSTAMP:20260425T105349Z
DTSTART:20251215T090000Z
DTEND:20251215T104000Z
SUMMARY:Высшая математика
LOCATION:3 к. 204
END:VEVENT
BEGIN:VEVENT
UID:kpm4@192.168.245.71:3006
SEQUENCE:0
DTSTAMP:20260425T105349Z
DTSTART:20251216T070000Z
DTEND:20251216T084000Z
SUMMARY:Электроника и схемотехника
LOCATION:ГЗ 235
END:VEVENT
BEGIN:VEVENT
UID:xw4j@192.168.245.71:3006
SEQUENCE:0
DTSTAMP:20260425T105349Z
DTSTART:20251217T070000Z
DTEND:20251217T084000Z
SUMMARY:Электроника и схемотехника
LOCATION:ГЗ 170 А
END:VEVENT
BEGIN:VEVENT
UID:ba0g@192.168.245.71:3006
SEQUENCE:0
DTSTAMP:20260425T105349Z
DTSTART:20251217T110000Z
DTEND:20251217T124000Z
SUMMARY:Безопасность жизнедеятельности
LOCATION:ГК 121
END:VEVENT
BEGIN:VEVENT
UID:smcq@192.168.245.71:3006
SEQUENCE:0
DTSTAMP:20260425T105349Z
DTSTART:20251218T090000Z
DTEND:20251218T104000Z
SUMMARY:Теория вероятностей и математическая статистика
LOCATION:3 к. 503
END:VEVENT
BEGIN:VEVENT
UID:d8k0@192.168.245.71:3006
SEQUENCE:0
DTSTAMP:20260425T105349Z
DTSTART:20251219T130000Z
DTEND:20251219T144000Z
SUMMARY:Операционные системы
LOCATION:ГЗ 165
END:VEVENT
END:VCALENDAR