BEGIN:VCALENDAR
VERSION:2.0
PRODID:-//spbstu.ru//ical//RU
NAME:Расписание группы 5151003/40003
X-WR-CALNAME:Расписание группы 5151003/40003
TIMEZONE-ID:Europe/Moscow
X-WR-TIMEZONE:Europe/Moscow
BEGIN:VEVENT
UID:1d2i@192.168.245.71:3006
SEQUENCE:0
DTSTAMP:20260425T105354Z
DTSTART:20251222T130000Z
DTEND:20251222T144000Z
SUMMARY:Высшая математика
LOCATION:3 к. 501
END:VEVENT
BEGIN:VEVENT
UID:zwss@192.168.245.71:3006
SEQUENCE:0
DTSTAMP:20260425T105354Z
DTSTART:20251223T070000Z
DTEND:20251223T124000Z
SUMMARY:Высшая математика
LOCATION:3 к. 501
END:VEVENT
BEGIN:VEVENT
UID:ua1n@192.168.245.71:3006
SEQUENCE:0
DTSTAMP:20260425T105354Z
DTSTART:20251223T130000Z
DTEND:20251223T144000Z
SUMMARY:Высшая математика
LOCATION:3 к. 201
END:VEVENT
BEGIN:VEVENT
UID:bspl@192.168.245.71:3006
SEQUENCE:0
DTSTAMP:20260425T105354Z
DTSTART:20251226T070000Z
DTEND:20251226T140000Z
SUMMARY:Высшая математика
LOCATION:3 к. 503
END:VEVENT
BEGIN:VEVENT
UID:9788@192.168.245.71:3006
SEQUENCE:0
DTSTAMP:20260425T105354Z
DTSTART:20251227T070000Z
DTEND:20251227T094000Z
SUMMARY:Элективная физическая культура и спорт
LOCATION:СК Секции
END:VEVENT
BEGIN:VEVENT
UID:4197@192.168.245.71:3006
SEQUENCE:0
DTSTAMP:20260425T105354Z
DTSTART:20251227T100000Z
DTEND:20251227T124000Z
SUMMARY:Модуль саморазвития (SoftSkills)
LOCATION:Не опр. Нет
END:VEVENT
END:VCALENDAR