BEGIN:VCALENDAR
VERSION:2.0
PRODID:-//spbstu.ru//ical//RU
NAME:Расписание группы 5130201/30101
X-WR-CALNAME:Расписание группы 5130201/30101
TIMEZONE-ID:Europe/Moscow
X-WR-TIMEZONE:Europe/Moscow
BEGIN:VEVENT
UID:bunq@192.168.245.71:3006
SEQUENCE:0
DTSTAMP:20260421T141728Z
DTSTART:20260330T090000Z
DTEND:20260330T104000Z
SUMMARY:Алгоритмические основы компьютерной графики
LOCATION:11 к. 107
END:VEVENT
BEGIN:VEVENT
UID:qzso@192.168.245.71:3006
SEQUENCE:0
DTSTAMP:20260421T141728Z
DTSTART:20260330T110000Z
DTEND:20260330T124000Z
SUMMARY:Методы тестирования программного обеспечения
LOCATION:11 к. 107
END:VEVENT
BEGIN:VEVENT
UID:rw1h@192.168.245.71:3006
SEQUENCE:0
DTSTAMP:20260421T141728Z
DTSTART:20260330T150000Z
DTEND:20260330T164000Z
SUMMARY:Алгоритмические основы компьютерной графики
LOCATION:4 к. 305-2
END:VEVENT
BEGIN:VEVENT
UID:nj7k@192.168.245.71:3006
SEQUENCE:0
DTSTAMP:20260421T141728Z
DTSTART:20260331T053000Z
DTEND:20260331T142000Z
SUMMARY:Военная подготовка
LOCATION:Военная каф. кафедра
END:VEVENT
BEGIN:VEVENT
UID:b420@192.168.245.71:3006
SEQUENCE:0
DTSTAMP:20260421T141728Z
DTSTART:20260401T070000Z
DTEND:20260401T075000Z
SUMMARY:Сети эвм и телекоммуникации компьютерных сетей
LOCATION:11 к. 107
END:VEVENT
BEGIN:VEVENT
UID:icy9@192.168.245.71:3006
SEQUENCE:0
DTSTAMP:20260421T141728Z
DTSTART:20260401T090000Z
DTEND:20260401T104000Z
SUMMARY:Сети эвм и телекоммуникации компьютерных сетей
LOCATION:11 к. 107
END:VEVENT
BEGIN:VEVENT
UID:xq6k@192.168.245.71:3006
SEQUENCE:0
DTSTAMP:20260421T141728Z
DTSTART:20260401T110000Z
DTEND:20260401T124000Z
SUMMARY:Технология проектирования приложений
LOCATION:11 к. 107
END:VEVENT
BEGIN:VEVENT
UID:dac8@192.168.245.71:3006
SEQUENCE:0
DTSTAMP:20260421T141728Z
DTSTART:20260401T130000Z
DTEND:20260401T144000Z
SUMMARY:Технология проектирования приложений
LOCATION:11 к. 107
END:VEVENT
BEGIN:VEVENT
UID:gaiq@192.168.245.71:3006
SEQUENCE:0
DTSTAMP:20260421T141728Z
DTSTART:20260402T070000Z
DTEND:20260402T075000Z
SUMMARY:Программирование на языке JAVA
LOCATION:11 к. 107
END:VEVENT
BEGIN:VEVENT
UID:qmge@192.168.245.71:3006
SEQUENCE:0
DTSTAMP:20260421T141728Z
DTSTART:20260402T090000Z
DTEND:20260402T104000Z
SUMMARY:Программирование на языке JAVA
LOCATION:НИК А1.08
END:VEVENT
BEGIN:VEVENT
UID:vqv5@192.168.245.71:3006
SEQUENCE:0
DTSTAMP:20260421T141728Z
DTSTART:20260402T110000Z
DTEND:20260402T124000Z
SUMMARY:Курсовое проектирование по управлению ресурсами суперэвм
LOCATION:4 к. 305-2
END:VEVENT
BEGIN:VEVENT
UID:zsln@192.168.245.71:3006
SEQUENCE:0
DTSTAMP:20260421T141728Z
DTSTART:20260402T130000Z
DTEND:20260402T135000Z
SUMMARY:Алгоритмические основы компьютерной графики
LOCATION:4 к. 305-2
END:VEVENT
BEGIN:VEVENT
UID:oq97@192.168.245.71:3006
SEQUENCE:0
DTSTAMP:20260421T141728Z
DTSTART:20260403T070000Z
DTEND:20260403T084000Z
SUMMARY:Математическая статистика
LOCATION:11 к. 148
END:VEVENT
BEGIN:VEVENT
UID:darn@192.168.245.71:3006
SEQUENCE:0
DTSTAMP:20260421T141728Z
DTSTART:20260403T090000Z
DTEND:20260403T104000Z
SUMMARY:Математическая статистика
LOCATION:11 к. 323
END:VEVENT
BEGIN:VEVENT
UID:im15@192.168.245.71:3006
SEQUENCE:0
DTSTAMP:20260421T141728Z
DTSTART:20260403T110000Z
DTEND:20260403T124000Z
SUMMARY:Математическая логика и теория формальных языков
LOCATION:11 к. 107
END:VEVENT
BEGIN:VEVENT
UID:7nrl@192.168.245.71:3006
SEQUENCE:0
DTSTAMP:20260421T141728Z
DTSTART:20260403T130000Z
DTEND:20260403T144000Z
SUMMARY:Математическая логика и теория формальных языков
LOCATION:11 к. 107
END:VEVENT
BEGIN:VEVENT
UID:2aw3@192.168.245.71:3006
SEQUENCE:0
DTSTAMP:20260421T141728Z
DTSTART:20260404T110000Z
DTEND:20260404T124000Z
SUMMARY:Методы тестирования программного обеспечения
LOCATION:4 к. 305-2
END:VEVENT
END:VCALENDAR