BEGIN:VCALENDAR
VERSION:2.0
PRODID:-//spbstu.ru//ical//RU
NAME:Расписание группы 5130203/30102
X-WR-CALNAME:Расписание группы 5130203/30102
TIMEZONE-ID:Europe/Moscow
X-WR-TIMEZONE:Europe/Moscow
BEGIN:VEVENT
UID:a92x@192.168.245.71:3006
SEQUENCE:0
DTSTAMP:20260421T141820Z
DTSTART:20260511T070000Z
DTEND:20260511T084000Z
SUMMARY:Администрирование баз данных
LOCATION:11 к. 102
END:VEVENT
BEGIN:VEVENT
UID:ww00@192.168.245.71:3006
SEQUENCE:0
DTSTAMP:20260421T141820Z
DTSTART:20260511T090000Z
DTEND:20260511T104000Z
SUMMARY:Администрирование баз данных
LOCATION:11 к. 216
END:VEVENT
BEGIN:VEVENT
UID:tk51@192.168.245.71:3006
SEQUENCE:0
DTSTAMP:20260421T141820Z
DTSTART:20260511T130000Z
DTEND:20260511T144000Z
SUMMARY:Математическая логика и теория автоматов
LOCATION:11 к. 102
END:VEVENT
BEGIN:VEVENT
UID:1me2@192.168.245.71:3006
SEQUENCE:0
DTSTAMP:20260421T141820Z
DTSTART:20260512T053000Z
DTEND:20260512T142000Z
SUMMARY:Военная подготовка
LOCATION:Военная каф. кафедра
END:VEVENT
BEGIN:VEVENT
UID:berz@192.168.245.71:3006
SEQUENCE:0
DTSTAMP:20260421T141820Z
DTSTART:20260513T070000Z
DTEND:20260513T075000Z
SUMMARY:Приёмы программирования на языке JAVA
LOCATION:11 к. 102
END:VEVENT
BEGIN:VEVENT
UID:qp5d@192.168.245.71:3006
SEQUENCE:0
DTSTAMP:20260421T141820Z
DTSTART:20260513T090000Z
DTEND:20260513T104000Z
SUMMARY:Математическая логика и теория автоматов
LOCATION:11 к. 323
END:VEVENT
BEGIN:VEVENT
UID:ri8o@192.168.245.71:3006
SEQUENCE:0
DTSTAMP:20260421T141820Z
DTSTART:20260513T110000Z
DTEND:20260513T124000Z
SUMMARY:Приёмы программирования на языке JAVA
LOCATION:11 к. 343
END:VEVENT
BEGIN:VEVENT
UID:15y2@192.168.245.71:3006
SEQUENCE:0
DTSTAMP:20260421T141820Z
DTSTART:20260513T130000Z
DTEND:20260513T144000Z
SUMMARY:Вычислительная математика
LOCATION:11 к. 143
END:VEVENT
BEGIN:VEVENT
UID:ljkq@192.168.245.71:3006
SEQUENCE:0
DTSTAMP:20260421T141820Z
DTSTART:20260514T070000Z
DTEND:20260514T084000Z
SUMMARY:Архитектура вычислительных систем
LOCATION:11 к. 148
END:VEVENT
BEGIN:VEVENT
UID:79e5@192.168.245.71:3006
SEQUENCE:0
DTSTAMP:20260421T141820Z
DTSTART:20260514T090000Z
DTEND:20260514T095000Z
SUMMARY:Математическая статистика
LOCATION:ГЗ 138
END:VEVENT
BEGIN:VEVENT
UID:ns2f@192.168.245.71:3006
SEQUENCE:0
DTSTAMP:20260421T141820Z
DTSTART:20260514T110000Z
DTEND:20260514T124000Z
SUMMARY:Архитектура вычислительных систем
LOCATION:11 к. 336
END:VEVENT
BEGIN:VEVENT
UID:28c6@192.168.245.71:3006
SEQUENCE:0
DTSTAMP:20260421T141820Z
DTSTART:20260514T110000Z
DTEND:20260514T124000Z
SUMMARY:Архитектура вычислительных систем
LOCATION:11 к. 325
END:VEVENT
BEGIN:VEVENT
UID:rllo@192.168.245.71:3006
SEQUENCE:0
DTSTAMP:20260421T141820Z
DTSTART:20260515T070000Z
DTEND:20260515T084000Z
SUMMARY:Математическая статистика
LOCATION:11 к. 148
END:VEVENT
BEGIN:VEVENT
UID:8qtx@192.168.245.71:3006
SEQUENCE:0
DTSTAMP:20260421T141820Z
DTSTART:20260515T090000Z
DTEND:20260515T104000Z
SUMMARY:Администрирование баз данных
LOCATION:11 к. 216
END:VEVENT
BEGIN:VEVENT
UID:3800@192.168.245.71:3006
SEQUENCE:0
DTSTAMP:20260421T141820Z
DTSTART:20260515T110000Z
DTEND:20260515T124000Z
SUMMARY:Приёмы программирования на языке JAVA
LOCATION:11 к. 218
END:VEVENT
BEGIN:VEVENT
UID:db1k@192.168.245.71:3006
SEQUENCE:0
DTSTAMP:20260421T141820Z
DTSTART:20260515T130000Z
DTEND:20260515T144000Z
SUMMARY:Администрирование баз данных
LOCATION:11 к. 216
END:VEVENT
BEGIN:VEVENT
UID:954k@192.168.245.71:3006
SEQUENCE:0
DTSTAMP:20260421T141820Z
DTSTART:20260516T070000Z
DTEND:20260516T084000Z
SUMMARY:Информационные системы на базе интернета (на английском языке)
LOCATION:DL Дистанционно
END:VEVENT
BEGIN:VEVENT
UID:kgpn@192.168.245.71:3006
SEQUENCE:0
DTSTAMP:20260421T141820Z
DTSTART:20260516T090000Z
DTEND:20260516T104000Z
SUMMARY:Курсовое проектирование по параллельному программированию (на англ
 ийском языке)
LOCATION:DL Дистанционно
END:VEVENT
BEGIN:VEVENT
UID:3g5d@192.168.245.71:3006
SEQUENCE:0
DTSTAMP:20260421T141820Z
DTSTART:20260516T110000Z
DTEND:20260516T124000Z
SUMMARY:Информационные системы на базе интернета (на английском языке)
LOCATION:DL Дистанционно
END:VEVENT
BEGIN:VEVENT
UID:c37s@192.168.245.71:3006
SEQUENCE:0
DTSTAMP:20260421T141820Z
DTSTART:20260516T130000Z
DTEND:20260516T135000Z
SUMMARY:Курсовое проектирование по параллельному программированию (на англ
 ийском языке)
LOCATION:DL Дистанционно
END:VEVENT
BEGIN:VEVENT
UID:dr58@192.168.245.71:3006
SEQUENCE:0
DTSTAMP:20260421T141820Z
DTSTART:20260516T140000Z
DTEND:20260516T145000Z
SUMMARY:Информационные системы на базе интернета (на английском языке)
LOCATION:DL Дистанционно
END:VEVENT
END:VCALENDAR