BEGIN:VCALENDAR
VERSION:2.0
PRODID:-//spbstu.ru//ical//RU
NAME:Расписание группы 5130903/30302
X-WR-CALNAME:Расписание группы 5130903/30302
TIMEZONE-ID:Europe/Moscow
X-WR-TIMEZONE:Europe/Moscow
BEGIN:VEVENT
UID:1clt@192.168.245.71:3006
SEQUENCE:0
DTSTAMP:20260421T152653Z
DTSTART:20260518T070000Z
DTEND:20260518T075000Z
SUMMARY:Методы тестирования программного обеспечения
LOCATION:11 к. 148
END:VEVENT
BEGIN:VEVENT
UID:ccd9@192.168.245.71:3006
SEQUENCE:0
DTSTAMP:20260421T152653Z
DTSTART:20260518T090000Z
DTEND:20260518T104000Z
SUMMARY:Теория вероятностей и математическая статистика
LOCATION:11 к. 148
END:VEVENT
BEGIN:VEVENT
UID:6kfc@192.168.245.71:3006
SEQUENCE:0
DTSTAMP:20260421T152653Z
DTSTART:20260518T110000Z
DTEND:20260518T124000Z
SUMMARY:Методы тестирования программного обеспечения
LOCATION:11 к. 218
END:VEVENT
BEGIN:VEVENT
UID:fngg@192.168.245.71:3006
SEQUENCE:0
DTSTAMP:20260421T152653Z
DTSTART:20260519T053000Z
DTEND:20260519T142000Z
SUMMARY:Военная подготовка
LOCATION:Военная каф. кафедра
END:VEVENT
BEGIN:VEVENT
UID:asvz@192.168.245.71:3006
SEQUENCE:0
DTSTAMP:20260421T152653Z
DTSTART:20260520T090000Z
DTEND:20260520T104000Z
SUMMARY:Администрирование информационных систем
LOCATION:11 к. 241
END:VEVENT
BEGIN:VEVENT
UID:6x7h@192.168.245.71:3006
SEQUENCE:0
DTSTAMP:20260421T152653Z
DTSTART:20260520T130000Z
DTEND:20260520T144000Z
SUMMARY:Администрирование информационных систем
LOCATION:11 к. 102
END:VEVENT
BEGIN:VEVENT
UID:jjs5@192.168.245.71:3006
SEQUENCE:0
DTSTAMP:20260421T152653Z
DTSTART:20260522T070000Z
DTEND:20260522T084000Z
SUMMARY:Технологии разработки программного обеспечения
LOCATION:11 к. 218
END:VEVENT
BEGIN:VEVENT
UID:u4lg@192.168.245.71:3006
SEQUENCE:0
DTSTAMP:20260421T152653Z
DTSTART:20260522T090000Z
DTEND:20260522T104000Z
SUMMARY:Программирование веб-приложений
LOCATION:11 к. 215
END:VEVENT
BEGIN:VEVENT
UID:8uar@192.168.245.71:3006
SEQUENCE:0
DTSTAMP:20260421T152653Z
DTSTART:20260522T110000Z
DTEND:20260522T124000Z
SUMMARY:Программирование веб-приложений
LOCATION:11 к. 215
END:VEVENT
END:VCALENDAR